{"text_format":"3","workbook":"xlsx","n_sheets":7,"sheets":["форма для предприятий ","расчет прибыли по предприятиям","расчет темпов по предприятиям","форма для всех_сводная","расчет прибыли-сводная","расчет темпов - сводная","Дефляторы"],"not_rendered":{"external_links":3,"defined_names":124},"read":"whole","date_system":"1900"}

{"sheet":"форма для предприятий ","index":0,"n_rows":487,"n_cols":21,"rows_kept":487,"merged":[[0,8,0,10],[1,0,1,10],[2,0,2,10],[3,0,3,10],[4,0,4,10],[5,0,5,2],[5,3,5,10],[6,0,6,2],[6,3,6,10],[7,0,7,2],[7,3,7,10],[8,0,8,2],[8,3,8,10],[9,0,9,2],[9,3,9,10],[11,0,13,0],[11,1,13,2],[11,3,13,3],[11,4,11,5],[11,6,11,7],[11,8,11,10],[12,4,13,4],[12,5,13,5],[12,6,13,6],[12,7,13,7],[12,8,13,8],[12,9,13,9],[12,10,13,10],[13,13,14,13],[13,14,14,14],[13,15,14,15],[13,16,14,16],[13,17,14,17],[13,18,14,18],[13,19,14,19],[14,1,14,2],[15,1,15,2],[15,20,22,20],[16,0,25,0],[16,1,16,2],[17,12,26,12],[23,20,24,20],[26,1,26,2],[26,20,27,20],[27,1,27,2],[28,1,28,2],[29,1,29,2],[30,1,30,2],[31,1,31,2],[32,0,33,0],[32,1,32,2],[33,1,33,2],[33,12,34,12],[34,1,34,2],[35,1,35,2],[36,1,36,2],[37,1,37,2],[38,1,38,2],[39,1,39,2],[40,1,40,2],[41,1,41,2],[42,1,42,2],[43,1,43,2],[44,1,44,2],[45,0,53,0],[45,1,45,2],[46,1,46,2],[47,1,47,2],[48,1,48,2],[49,1,49,2],[50,1,50,2],[51,1,51,2],[52,1,52,2],[53,1,53,2],[54,0,62,0],[54,1,54,2],[55,1,55,2],[56,1,56,2],[57,1,57,2],[58,1,58,2],[59,1,59,2],[60,1,60,2],[61,1,61,2],[62,1,62,2],[65,0,65,10],[66,0,66,10],[67,0,67,10],[68,0,68,10],[69,0,69,2],[69,3,69,10],[70,0,70,2],[70,3,70,10],[71,0,71,2],[71,3,71,10],[72,0,72,2],[72,3,72,10],[73,0,73,2],[73,3,73,10],[75,0,77,0],[75,1,77,2],[75,3,77,3],[75,4,75,5],[75,6,75,7],[75,8,75,10],[76,4,77,4],[76,5,77,5],[76,6,77,6],[76,7,77,7],[76,8,77,8],[76,9,77,9],[76,10,77,10],[78,1,78,2],[79,1,79,2],[80,0,89,0],[80,1,80,2],[90,1,90,2],[91,1,91,2],[92,1,92,2],[93,1,93,2],[94,1,94,2],[95,1,95,2],[96,0,97,0],[96,1,96,2],[97,1,97,2],[98,1,98,2],[99,1,99,2],[100,1,100,2],[101,1,101,2],[102,1,102,2],[103,1,103,2],[104,1,104,2],[105,1,105,2],[106,1,106,2],[107,1,107,2],[108,1,108,2],[109,0,112,0],[109,1,109,2],[110,1,110,2],[111,1,111,2],[112,1,112,2],[113,0,121,0],[113,1,113,2],[114,1,114,2],[115,1,115,2],[116,1,116,2],[117,1,117,2],[118,1,118,2],[119,1,119,2],[120,1,120,2],[121,1,121,2],[125,0,125,10],[126,0,126,10],[127,0,127,10],[128,0,128,10],[129,0,129,2],[129,3,129,10],[130,0,130,2],[130,3,130,10],[131,0,131,2],[131,3,131,10],[132,0,132,2],[132,3,132,10],[133,0,133,2],[133,3,133,10],[135,0,137,0],[135,1,137,2],[135,3,137,3],[135,4,135,5],[135,6,135,7],[135,8,135,10],[136,4,137,4],[136,5,137,5],[136,6,137,6],[136,7,137,7],[136,8,137,8],[136,9,137,9],[136,10,137,10],[138,1,138,2],[139,1,139,2],[140,0,147,0],[140,1,140,2],[148,1,148,2],[149,1,149,2],[150,1,150,2],[151,1,151,2],[152,1,152,2],[153,1,153,2],[154,0,155,0],[154,1,154,2],[155,1,155,2],[156,1,156,2],[157,1,157,2],[158,1,158,2],[159,1,159,2],[160,1,160,2],[161,1,161,2],[162,1,162,2],[163,1,163,2],[164,1,164,2],[165,1,165,2],[166,1,166,2],[167,0,173,0],[167,1,167,2],[168,1,168,2],[169,1,169,2],[170,1,170,2],[171,1,171,2],[172,1,172,2],[173,1,173,2],[174,0,182,0],[174,1,174,2],[175,1,175,2],[176,1,176,2],[177,1,177,2],[178,1,178,2],[179,1,179,2],[180,1,180,2],[181,1,181,2],[182,1,182,2],[185,0,185,10],[186,0,186,10],[187,0,187,10],[188,0,188,10],[189,0,189,2],[189,3,189,10],[190,0,190,2],[190,3,190,10],[191,0,191,2],[191,3,191,10],[192,0,192,2],[192,3,192,10],[193,0,193,2],[193,3,193,10],[195,0,197,0],[195,1,197,2],[195,3,197,3],[195,4,195,5],[195,6,195,7],[195,8,195,10],[196,4,197,4],[196,5,197,5],[196,6,197,6],[196,7,197,7],[196,8,197,8],[196,9,197,9],[196,10,197,10],[198,1,198,2],[199,1,199,2],[200,0,206,0],[200,1,200,2],[207,1,207,2],[208,1,208,2],[209,1,209,2],[210,1,210,2],[211,1,211,2],[212,1,212,2],[213,0,214,0],[213,1,213,2],[214,1,214,2],[215,1,215,2],[216,1,216,2],[217,1,217,2],[218,1,218,2],[219,1,219,2],[220,1,220,2],[221,1,221,2],[222,1,222,2],[223,1,223,2],[224,1,224,2],[225,1,225,2],[226,0,232,0],[226,1,226,2],[227,1,227,2],[228,1,228,2],[229,1,229,2],[230,1,230,2],[231,1,231,2],[232,1,232,2],[233,0,241,0],[233,1,233,2],[234,1,234,2],[235,1,235,2],[236,1,236,2],[237,1,237,2],[238,1,238,2],[239,1,239,2],[240,1,240,2],[241,1,241,2],[244,0,244,10],[245,0,245,10],[246,0,246,10],[247,0,247,10],[248,0,248,2],[248,3,248,10],[249,0,249,2],[249,3,249,10],[250,0,250,2],[250,3,250,10],[251,0,251,2],[251,3,251,10],[252,0,252,2],[252,3,252,10],[254,0,256,0],[254,1,256,2],[254,3,256,3],[254,4,254,5],[254,6,254,7],[254,8,254,10],[255,4,256,4],[255,5,256,5],[255,6,256,6],[255,7,256,7],[255,8,256,8],[255,9,256,9],[255,10,256,10],[257,1,257,2],[258,1,258,2],[259,0,268,0],[259,1,259,2],[269,1,269,2],[270,1,270,2],[271,1,271,2],[272,1,272,2],[273,1,273,2],[274,1,274,2],[275,0,276,0],[275,1,275,2],[276,1,276,2],[277,1,277,2],[278,1,278,2],[279,1,279,2],[280,1,280,2],[281,1,281,2],[282,1,282,2],[283,1,283,2],[284,1,284,2],[285,1,285,2],[286,1,286,2],[287,1,287,2],[288,0,291,0],[288,1,288,2],[289,1,289,2],[290,1,290,2],[291,1,291,2],[292,0,300,0],[292,1,292,2],[293,1,293,2],[294,1,294,2],[295,1,295,2],[296,1,296,2],[297,1,297,2],[298,1,298,2],[299,1,299,2],[300,1,300,2],[303,0,303,10],[304,0,304,10],[305,0,305,10],[306,0,306,10],[307,0,307,2],[307,3,307,10],[308,0,308,2],[308,3,308,10],[309,0,309,2],[309,3,309,10],[310,0,310,2],[310,3,310,10],[311,0,311,2],[311,3,311,10],[313,0,315,0],[313,1,315,2],[313,3,315,3],[313,4,313,5],[313,6,313,7],[313,8,313,10],[314,4,315,4],[314,5,315,5],[314,6,315,6],[314,7,315,7],[314,8,315,8],[314,9,315,9],[314,10,315,10],[316,1,316,2],[317,1,317,2],[318,0,327,0],[318,1,318,2],[328,1,328,2],[329,1,329,2],[330,1,330,2],[331,1,331,2],[332,1,332,2],[333,1,333,2],[334,0,335,0],[334,1,334,2],[335,1,335,2],[336,1,336,2],[337,1,337,2],[338,1,338,2],[339,1,339,2],[340,1,340,2],[341,1,341,2],[342,1,342,2],[343,1,343,2],[344,1,344,2],[345,1,345,2],[346,1,346,2],[347,0,353,0],[347,1,347,2],[348,1,348,2],[349,1,349,2],[350,1,350,2],[351,1,351,2],[352,1,352,2],[353,1,353,2],[354,0,362,0],[354,1,354,2],[355,1,355,2],[356,1,356,2],[357,1,357,2],[358,1,358,2],[359,1,359,2],[360,1,360,2],[361,1,361,2],[362,1,362,2],[365,0,365,10],[366,0,366,10],[367,0,367,10],[368,0,368,10],[369,0,369,2],[369,3,369,10],[370,0,370,2],[370,3,370,10],[371,0,371,2],[371,3,371,10],[372,0,372,2],[372,3,372,10],[373,0,373,2],[373,3,373,10],[375,0,377,0],[375,1,377,2],[375,3,377,3],[375,4,375,5],[375,6,375,7],[375,8,375,10],[376,4,377,4],[376,5,377,5],[376,6,377,6],[376,7,377,7],[376,8,377,8],[376,9,377,9],[376,10,377,10],[378,1,378,2],[379,1,379,2],[380,0,389,0],[380,1,380,2],[390,1,390,2],[391,1,391,2],[392,1,392,2],[393,1,393,2],[394,1,394,2],[395,1,395,2],[396,0,397,0],[396,1,396,2],[397,1,397,2],[398,1,398,2],[399,1,399,2],[400,1,400,2],[401,1,401,2],[402,1,402,2],[403,1,403,2],[404,1,404,2],[405,1,405,2],[406,1,406,2],[407,1,407,2],[408,1,408,2],[409,0,415,0],[409,1,409,2],[410,1,410,2],[411,1,411,2],[412,1,412,2],[413,1,413,2],[414,1,414,2],[415,1,415,2],[416,0,424,0],[416,1,416,2],[417,1,417,2],[418,1,418,2],[419,1,419,2],[420,1,420,2],[421,1,421,2],[422,1,422,2],[423,1,423,2],[424,1,424,2],[427,0,427,10],[428,0,428,10],[429,0,429,10],[430,0,430,10],[431,0,431,2],[431,3,431,10],[432,0,432,2],[432,3,432,10],[433,0,433,2],[433,3,433,10],[434,0,434,2],[434,3,434,10],[435,0,435,2],[435,3,435,10],[437,0,439,0],[437,1,439,2],[437,3,439,3],[437,4,437,5],[437,6,437,7],[437,8,437,10],[438,4,439,4],[438,5,439,5],[438,6,439,6],[438,7,439,7],[438,8,439,8],[438,9,439,9],[438,10,439,10],[440,1,440,2],[441,1,441,2],[442,0,451,0],[442,1,442,2],[452,1,452,2],[453,1,453,2],[454,1,454,2],[455,1,455,2],[456,1,456,2],[457,1,457,2],[458,0,459,0],[458,1,458,2],[459,1,459,2],[460,1,460,2],[461,1,461,2],[462,1,462,2],[463,1,463,2],[464,1,464,2],[465,1,465,2],[466,1,466,2],[467,1,467,2],[468,1,468,2],[469,1,469,2],[470,1,470,2],[471,0,477,0],[471,1,471,2],[472,1,472,2],[473,1,473,2],[474,1,474,2],[475,1,475,2],[476,1,476,2],[477,1,477,2],[478,0,486,0],[478,1,478,2],[479,1,479,2],[480,1,480,2],[481,1,481,2],[482,1,482,2],[483,1,483,2],[484,1,484,2],[485,1,485,2],[486,1,486,2]]}
[{"$nulls":8},"Таблица №1"]
["ПРОГНОЗ"]
["социально-экономического развития на 2018 год и на период до 2020 года"]
["ООО \"Агро-Спутник\""]
["(организационно-правовая форма, наименование предприятия)"]
["Структура уставного капитала предприятия:*)",null,null,"Вид деятельности по ОКВЭД2 (основной):"]
["доля государственной  (федеральной) собственности _______%,",null,null,"1.Код вида деятельности 10.89.9"]
["доля государственной (областной) собственности ________%,",null,null,"2.Наименование вида деятельности: Производство продуктов питания, не включенных в другие группировки"]
["доля муниципальной собственности ______%,"]
["другие собственники 100%"]
[]
["№ п/п ","Показатели ",null,"Единица измерения"," отчет",null,"2017г.",null,"прогноз"]
[{"$nulls":4},"2015г.","2016г.","январь-июнь, отчет","январь-декабрь, оценка","2018г. ","2019г. ","2020г. "]
[{"$nulls":13},"2015г.","2016г.","январь-июнь, отчет","январь-декабрь, оценка","2018г. ","2019г. ","2020г. "]
["1.","Оборот организации (без НДС, акцизов и других аналогичных обязательных платежей) - всего (№ 1-предприятие, раздел 5, стр.501 или раздел 8, стр. 801)                                                                                                                                                                                                                                                                                                                                                                                                                                                                                                                                                                                                                                                                                                                                                                                                                                               ",null,"млн. руб.",468.26,{"$f":"F19+F20+F21+F22+F23+F24+F25+F26","v":{"v":544.2734,"d":"544.273"}},{"$f":"G19+G20+G21+G22+G23+G24+G25+G26","v":{"v":340.14840000000004,"d":"340.148"}},{"v":635.0779999999999,"d":"635.078"},{"v":675.6623051928982,"d":"675.662"},{"v":723.2469715107759,"d":"723.247"},{"v":786.0369795813134,"d":"786.037"}]
["2.","Отгружено товаров собственного производства, выполнено работ и услуг собственными силами (нарастающим итогом с начала года, на основании данных раздела 2 формы стат. отчет. № П-1 и (или) раздела 8, стр. 801 формы стат. отчет. № 1-предприятие)",null,"млн. руб.",468.26,{"$f":"F19+F20+F21+F22+F23+F24+F25+F26","v":{"v":544.2734,"d":"544.273"}},{"$f":"G19+G20+G21+G22+G23+G24+G25+G26","v":{"v":340.14840000000004,"d":"340.148"}},{"v":635.0779999999999,"d":"635.078"},{"v":675.6623051928982,"d":"675.662"},{"v":723.2469715107759,"d":"723.247"},{"v":786.0369795813134,"d":"786.037"},null,10,{"$f":"E19","v":402.531},{"$f":"F19","v":368.429},215.174,394.219,419.5702256673309,449.11917198541306,488.1102739801998,"ООО АгроСпутник"]
["2.1.","в том числе по  видам деятельности  (№ П-1, раздел 2):",null,"млн. руб.",{"$nulls":9},{"$f":"E20","v":2.403},3.1543,1.283,3.374,3.5909733965170996,3.84387380181773,4.177586733285798]
[null,"код по ОКВЭД2","наименование вида деятельности",{"$nulls":9},"Производство пищевых продуктов",2.778,1.4133,0.4463,1.512,1.609232891385256,1.722565853096742,1.8721135568251708]
[null,"10.89.9"," - семечки жареные","млн. руб.",402.531,368.429,215.174,394.219,{"$f":"H19*I28/100*I30/100","v":{"v":419.5702256673309,"d":"419.570"}},{"$f":"I19*J28/100*J30/100","v":{"v":449.11917198541306,"d":"449.119"}},{"$f":"J19*K28/100*K30/100","v":{"v":488.1102739801998,"d":"488.110"}},null,null,54.884,159.6634,90.1299,170.839,181.82522349958055,194.6305739267158,211.52778302543345]
[null,"10.89.9"," - арахис","млн. руб.",2.403,{"v":3.1543,"d":"3.154"},1.283,3.374,{"$f":"H20*I28/100*I30/100","v":{"v":3.5909733965170996,"d":"3.591"}},{"$f":"I20*J28/100*J30/100","v":{"v":3.84387380181773,"d":"3.844"}},{"$f":"J20*K28/100*K30/100","v":{"v":4.177586733285798,"d":"4.178"}},null,null,3.605,2.7831,1.1628,2.978,2.913554766561842,3.1187468133878467,3.3895065196795007]
[null,"10.89.9"," - фисташки","млн. руб.",2.778,{"v":1.4133,"d":"1.413"},{"v":0.4463,"d":"0.446"},1.512,{"$f":"H21*I28/100*I30/100","v":{"v":1.609232891385256,"d":"1.609"}},{"$f":"I21*J28/100*J30/100","v":{"v":1.722565853096742,"d":"1.723"}},{"$f":"J21*K28/100*K30/100","v":{"v":1.8721135568251708,"d":"1.872"}},null,null,2.059,8.1394,3.9941,8.709,9.269053737482935,9.921842602261593,10.783225506871968]
[null,"10.89.9."," - ядро","млн. руб.",54.884,{"v":159.6634,"d":"159.663"},{"v":90.1299,"d":"90.130"},170.839,{"$f":"H22*I28/100*I30/100","v":{"v":181.82522349958055,"d":"181.825"}},{"$f":"I22*J28/100*J30/100","v":{"v":194.6305739267158,"d":"194.631"}},{"$f":"J22*K28/100*K30/100","v":{"v":211.52778302543345,"d":"211.528"}},null,null,0,0.6909,1.6018,0.739,0.7865232187392225,0.8419154533323363,0.9150078826017204]
[null,"10.89.9"," - семечки тыквенные","млн. руб.",3.605,{"v":2.7831,"d":"2.783"},{"v":1.1628,"d":"1.163"},2.978,{"$f":"H23*I28/100/I30*100","v":{"v":2.913554766561842,"d":"2.914"}},{"$f":"I23*J28/100*J30/100","v":{"v":3.1187468133878467,"d":"3.119"}},{"$f":"J23*K28/100*K30/100","v":{"v":3.3895065196795007,"d":"3.390"}},null,null,0,0,26.3565,52.708,56.097518015300324,60.04828107475072,65.26148237641608]
[null,"10.89.9"," - халва","млн. руб.",2.059,{"v":8.1394,"d":"8.139"},{"v":3.9941,"d":"3.994"},8.709,{"$f":"H24*I28/100*I30/100","v":{"v":9.269053737482935,"d":"9.269"}},{"$f":"I24*J28/100*J30/100","v":{"v":9.921842602261593,"d":"9.922"}},{"$f":"J24*K28/100*K30/100","v":{"v":10.783225506871968,"d":"10.783"}},null,null,{"$f":"E83","v":55.887},{"$f":"F83","v":58.681},35.949,62.898,70.10938706316851,78.11739976158731,86.747143033456,"ЗРМ"]
[null,"10.89.9"," - семечки с арахисом","млн. руб.",0,{"v":0.6909,"d":"0.691"},{"v":1.6018,"d":"1.602"},0.739,{"$f":"H25*I28/100*I30/100","v":{"v":0.7865232187392225,"d":"0.787"}},{"$f":"I25*J28/100*J30/100","v":{"v":0.8419154533323363,"d":"0.842"}},{"$f":"J25*K28/100*K30/100","v":{"v":0.9150078826017204,"d":"0.915"}},null,null,{"$f":"E84","v":18.207},{"$f":"F84","v":19.117},12.388,19.117,21.308803976065892,23.742731585142046,26.36562582865239]
[null,"10.89.9"," - крем-халва","млн. руб.",0,{"v":0,"d":"0.000"},{"v":26.3565,"d":"26.357"},52.708,{"$f":"H26*I28/100*I30/100","v":{"v":56.097518015300324,"d":"56.098"}},{"$f":"I26*J28/100*J30/100","v":{"v":60.04828107475072,"d":"60.048"}},{"$f":"J26*K28/100*K30/100","v":{"v":65.26148237641608,"d":"65.261"}},null,null,{"$f":"E143","v":54.834},{"$f":"F143","v":61.2475},30.9487,61.898,67.76654514671765,73.2781182792957,80.06884881292982,"Богучармолоко"]
["3.","Отгружено товаров собственного производства, выполнено работ и услуг собственными силами по промышленным видам экономической деятельности  (из стр.2.1 настоящей формы - сумма строк с кодами от 05 до 39 включительно) - всего",null,"млн. руб.",{"$f":"E19+E20+E21+E22+E23+E24+E25+E26","v":{"v":468.2600000000001,"d":"468.260"}},{"$f":"F19+F20+F21+F22+F23+F24+F25+F26","v":{"v":544.2734,"d":"544.273"}},{"v":340.14840000000004,"d":"340.148"},{"v":635.0779999999999,"d":"635.078"},{"v":675.6623051928982,"d":"675.662"},{"v":723.2469715107759,"d":"723.247"},{"v":786.0369795813134,"d":"786.037"},null,null,{"$f":"E203","v":23.975},{"$f":"F203","v":{"v":20.52427,"d":"20.524"}},{"v":8.5516,"d":"8.552"},{"v":20.5,"d":"20.500"},{"v":21.982452520421326,"d":"21.982"},{"v":23.695071449555744,"d":"23.695"},{"v":25.100312870126828,"d":"25.100"},"Богучархлеб"]
["4.","Темп роста (снижения) промышленного производства в сопоставимых ценах (ценах 2010г.)",null,"в % к предыдущему году",141,{"$f":"'расчет темпов по предприятиям'!L19","v":{"v":94.14451307979895,"d":"94.1"}},{"$f":"'расчет темпов по предприятиям'!L47","v":{"v":120.2360757044775,"d":"120.2"}},{"$f":"'расчет темпов по предприятиям'!F33","v":{"v":107.69425733653799,"d":"107.7"}},{"$f":"'расчет темпов по предприятиям'!I33","v":{"v":102.04290199879115,"d":"102.0"}},{"$f":"'расчет темпов по предприятиям'!L33","v":{"v":102.92564420924464,"d":"102.9"}},{"$f":"'расчет темпов по предприятиям'!F47","v":{"v":104.40123229569886,"d":"104.4"}},null,null,{"$f":"E204","v":3.352},{"$f":"F204","v":{"v":2.61977,"d":"2.620"}},{"v":1.1508,"d":"1.151"},{"v":3.1,"d":"3.100"},{"v":3.3241757469905417,"d":"3.324"},{"v":3.583157146030381,"d":"3.583"},{"v":3.7956570681655197,"d":"3.796"}]
["5.","Индекс цен производителей промышленных товаров (фактически сложившийся на предприятии)",null,"в % к предыдущему году",113.7,{"$f":"F15/E15*100/F28*100","v":{"v":123.46249108096632,"d":"123.5"}},{"$f":"G15/276.4105*100/G28*100","v":{"v":102.34793925706552,"d":"102.3"}},{"$f":"H15/F15*100/H28*100","v":{"v":108.34713028356822,"d":"108.3"}},"х","х","х",null,"Итого 10",{"$f":"N16+N17+N18+N19+N20+N21+N22+N23+N24+N25+N26+N27+N28","v":{"v":624.5150000000001,"d":"624.515"}},{"$f":"O16+O17+O18+O19+O20+O21+O22+O23+O24+O25+O26+O27+O28","v":{"v":706.46294,"d":"706.463"}},{"v":429.1365,"d":"429.137"},{"v":802.5909999999999,"d":"802.591"},{"v":860.1536696462622,"d":"860.154"},{"v":925.663449732387,"d":"925.663"},{"v":1008.1145671946439,"d":"1008.115"}]
["6.","Индекс-дефлятор оптовых цен",null,"в % к предыдущему году","х","х","х","х",104.3,104,104.1]
["7.","Среднесписочная численность работающих ",null,"человек",171,175,178,185,190,200,200]
["8.","Среднемесячная заработная плата ",null,"руб.",15112,16079,18065,19955,21552,23276,25138]
["9.","Расходы на производство и продажу продукции (товаров, работ и услуг) - итого*) (№ 1-предприятие, раздел 6, стр.659)",null,"млн. руб.",{"$f":"E35+E36+E37+E38+E39++E40","v":302.974},{"$f":"F35+F36+F37+F38+F39++F40","v":{"v":285.5632018,"d":"285.563"}},{"v":166.27103284,"d":"166.271"},{"v":380.7687302,"d":"380.769"},{"v":403.65740512,"d":"403.657"},{"v":429.04684480000003,"d":"429.047"},{"v":452.30022240000005,"d":"452.300"}]
[null,"в том числе ",{"$nulls":10},"Пр-во метал изд ",2015,2016,"1 пол 2017",2017,2018,2019,2020]
["9.1.","Материальные затраты ",null,"млн.руб.",{"v":247.1,"d":"247.100"},{"v":222.6,"d":"222.600"},131.651,{"v":304.79,"d":"304.790"},320.029,336.031,352.832,null,null,{"$f":"E262","v":15.021},{"$f":"F262","v":16.6633},10.292,20.584,22.367055,24.775936499999997,27.73248706799999,"Строймаш"]
["9.2.","Расходы на оплату труда",null,"млн. руб.",31.009,{"$f":"F32*F31*12/1000000","v":{"v":33.7659,"d":"33.766"}},{"$f":"G32*G31*6/1000000","v":{"v":19.29342,"d":"19.293"}},{"$f":"H32*H31*12/1000000","v":{"v":44.3001,"d":"44.300"}},{"v":49.13856,"d":"49.139"},{"v":55.8624,"d":"55.862"},{"v":60.3312,"d":"60.331"},null,"Итого 28",{"$f":"N35","v":15.021},{"$f":"O35","v":16.6633},10.292,20.584,22.367055,24.775936499999997,27.73248706799999]
["8.3.","Страховые взносы в Пенсионный фонд, ФСС, ФФОМС",null,"млн. руб.",9.365,{"$f":"F36*30.2%","v":{"v":10.1973018,"d":"10.197"}},{"$f":"G36*30.2%","v":{"v":5.82661284,"d":"5.827"}},{"v":13.3786302,"d":"13.379"},{"v":14.83984512,"d":"14.840"},{"v":16.8704448,"d":"16.870"},{"v":18.2200224,"d":"18.220"}]
["8.4.","Амортизация (основные средства и нематериальные активы)",null,"млн. руб.",{"v":8.3,"d":"8.300"},{"v":10.9,"d":"10.900"},{"v":7,"d":"7.000"},{"v":12,"d":"12.000"},{"v":12.3,"d":"12.300"},12.423,12.547]
["8.5.","Налоги и сборы, включаемые в себестоимость продукции (работ, услуг)",null,"млн. руб.",1.2,0.6,0.5,1.3,1.35,1.36,1.37,null,null,2015,2016,"1 пол 2017",2017,2018,2019,2020]
["8.6.","Прочие расходы, связанные с производством и продажей продукции (товаров, работ, услуг)",null,"млн. руб.",6,7.5,2,5,6,6.5,7,null,"Итого обраб пр-ва",{"$f":"N29+N36","v":{"v":639.5360000000001,"d":"639.536"}},{"$f":"O29+O36","v":{"v":723.12624,"d":"723.126"}},{"v":439.4285,"d":"439.429"},{"v":823.1749999999998,"d":"823.175"},{"v":882.5207246462622,"d":"882.521"},{"v":950.4393862323869,"d":"950.439"},{"v":1035.847054262644,"d":"1035.847"}]
["9.","Прибыль (+), убыток (-) до налогообложения ",null,"млн. руб.",109.9,{"$f":"'расчет прибыли по предприятиям'!C16","v":148.3},{"$f":"'расчет прибыли по предприятиям'!D16","v":94.6},{"$f":"'расчет прибыли по предприятиям'!E16","v":125.613},{"$f":"'расчет прибыли по предприятиям'!F16","v":181.335},{"$f":"'расчет прибыли по предприятиям'!G16","v":196.332},{"$f":"'расчет прибыли по предприятиям'!H16","v":200}]
["10.","Наличие основных  фондов на конец года по полной учетной  стоимости (ф.№11стат.отчетн., стр. 01, гр.9)",null,"млн. руб.",95.8,107.5,150.9,190,190,190,195]
["11.","Наличие  основных  фондов на конец года по остаточной балансовой  стоимости (ф.№11стат.отчетн., стр. 01, гр.10)",null,"млн. руб.",60.1,63.1,100.5,117.8,117.8,117.8,120.9]
["12.","Среднегодовая остаточная стоимость основных средств ( за минусом необлагаемого налогом имущества) - налоговая база (форма по КНД 1152026, раздел 2,строка 190)",null,"млн. руб.",49.3,61.3,45,80.2,80.2,80.2,85.4,null,"Добыча полезн иск",2015,2016,"1 пол 2017",2017,2018,2019,2020]
["13.","Коэффициент загрузки (использования) производственной мощности (по основному виду выпускаемой продукции) ",null,"%",70,75,75,80,80,90,90,null,"В",{"$f":"E321+E383","v":148.303},{"$f":"F321+F383","v":243.20618000000002},187.474,374.948,422.9974385826772,480.83272473070883,543.3009095519733]
["14.","Производство основных видов промышленной продукции**) (форма стат. отч. №1-натура-БМ) ",null,"в соответств. натур.ед. измер.",{"$nulls":8},"Итого 28.1",{"$f":"N45","v":148.303},{"$f":"O45","v":243.20618000000002},187.474,374.948,422.9974385826772,480.83272473070883,543.3009095519733]
[null," -  семечки жареные",null,"тн.",3131.2,2672.9,{"$f":"'расчет темпов по предприятиям'!J38","v":1533.4},{"$f":"'расчет темпов по предприятиям'!D24","v":2730},{"$f":"'расчет темпов по предприятиям'!G24","v":2780},{"$f":"'расчет темпов по предприятиям'!J24","v":2860},{"$f":"'расчет темпов по предприятиям'!D38","v":2980}]
[null," - арахис",null,"тн.",13,13,{"$f":"'расчет темпов по предприятиям'!J39","v":4.5},{"$f":"'расчет темпов по предприятиям'!D25","v":9},{"$f":"'расчет темпов по предприятиям'!G25","v":{"v":9.2,"d":"9"}},{"$f":"'расчет темпов по предприятиям'!J25","v":9.5},{"$f":"'расчет темпов по предприятиям'!D39","v":9.9}]
[null," -  фисташки",null,"тн.",4.1,1.5,{"$f":"'расчет темпов по предприятиям'!J40","v":0.5},{"$f":"'расчет темпов по предприятиям'!D26","v":1},{"$f":"'расчет темпов по предприятиям'!G26","v":{"v":1.63,"d":"2"}},{"$f":"'расчет темпов по предприятиям'!J26","v":1.7},{"$f":"'расчет темпов по предприятиям'!D40","v":1.8}]
[null," -  ядро",null,"тн.",484.3,1144.4,{"$f":"'расчет темпов по предприятиям'!J41","v":694.7},{"$f":"'расчет темпов по предприятиям'!D27","v":1155},{"$f":"'расчет темпов по предприятиям'!G27","v":1180},{"$f":"'расчет темпов по предприятиям'!J27","v":1215},{"$f":"'расчет темпов по предприятиям'!D41","v":1280}]
[null," -  семечки тыквенные",null,"тн.",9.9,6.8,{"$f":"'расчет темпов по предприятиям'!J42","v":2.6},{"$f":"'расчет темпов по предприятиям'!D28","v":6.9},{"$f":"'расчет темпов по предприятиям'!G28","v":7},{"$f":"'расчет темпов по предприятиям'!J28","v":7.15},{"$f":"'расчет темпов по предприятиям'!D42","v":7.5},null,"эл эн, газ",2015,2016,"1 пол 2017",2017,2018,2019,2020]
[null," -  халва",null,"тн.",33.4,107.7,{"$f":"'расчет темпов по предприятиям'!J43","v":44.6},{"$f":"'расчет темпов по предприятиям'!D29","v":90},{"$f":"'расчет темпов по предприятиям'!G29","v":92},{"$f":"'расчет темпов по предприятиям'!J29","v":95},{"$f":"'расчет темпов по предприятиям'!D43","v":100},null,"D  35",{"$f":"E146","v":0.563},{"$f":"F146","v":0.5799},0.3649,0.582,0.6371793801962853,0.6890023076440288,0.752852596354085,"богучармолоко"]
[null," - семечки с арахисом",null,"тн.",0,3.3,{"$f":"'расчет темпов по предприятиям'!J44","v":8},{"$f":"'расчет темпов по предприятиям'!D30","v":16},{"$f":"'расчет темпов по предприятиям'!G30","v":{"v":16.3,"d":"16"}},{"$f":"'расчет темпов по предприятиям'!J30","v":17},{"$f":"'расчет темпов по предприятиям'!D44","v":18},null,35,{"$f":"E446+E448","v":31.782},{"$f":"F446+F448","v":{"v":28.4621,"d":"28.462"}},{"v":16.0841,"d":"16.084"},{"v":33.385999999999996,"d":"33.386"},{"v":35.315279894788695,"d":"35.315"},{"v":37.46244891239184,"d":"37.462"},{"v":40.124251538630226,"d":"40.124"},"Коммунсервис"]
[null," -  крем-халва",null,"тн.",0,0,{"$f":"'расчет темпов по предприятиям'!J45","v":145.6},{"$f":"'расчет темпов по предприятиям'!D31","v":290},{"$f":"'расчет темпов по предприятиям'!G31","v":300},{"$f":"'расчет темпов по предприятиям'!J31","v":310},{"$f":"'расчет темпов по предприятиям'!D45","v":325},null,"ИТОГО 35",{"$f":"N52+N53","v":32.345},{"$f":"O52+O53","v":{"v":29.041999999999998,"d":"29.042"}},{"v":16.448999999999998,"d":"16.449"},{"v":33.967999999999996,"d":"33.968"},{"v":35.95245927498498,"d":"35.952"},{"v":38.151451220035874,"d":"38.151"},{"v":40.87710413498431,"d":"40.877"}]
["15.","Инвестиции в основной капитал, всего",null,"млн. руб.",{"$f":"E57+E58","v":26.947},{"$f":"F57+F58","v":20.468},37.931,62.858,39.637,41.381,43.078]
[null,"в том числе по источникам:"]
[null," - собственные средства",null,"млн. руб.",26.947,20.468,37.931,62.858,39.637,41.381,43.078]
[null," - привлеченные средства",null,"млн. руб.",{"$f":"E60+E61+E62","v":0},{"$f":"F60+F61+F62","v":0},0,0,0,0,0]
[null,"           из них"]
[null,"                 кредиты банков",null,"млн. руб.",{"$nulls":8},"водоснаб",2015,2016,"1 пол 2017",2017,2018,2019,2020]
[null,"                 федеральный бюджет",null,"млн. руб.",{"$nulls":8},"E 36-37",{"$f":"E145","v":0.049},{"$f":"F145","v":0.0416},0.0217,0.044,0.04817163699078446,0.052089521540098396,0.05691669113329852,"Богучармолоко"]
[null,"                 бюджет области ",null,"млн. руб.",{"$nulls":9},{"$f":"E445","v":22.327},{"$f":"F445+F447","v":36.034},{"v":20.06,"d":"20.060"},36.684,{"v":38.80386172828217,"d":"38.804"},{"v":41.16313652136172,"d":"41.163"},{"v":44.08788244902388,"d":"44.088"},"Коммунсервис"]
[null," - прочие ",null,"млн. руб.",{"$nulls":8},"Итого 36-37",{"$f":"N61+N62","v":22.376},{"$f":"O61+O62","v":{"v":36.0756,"d":"36.076"}},{"v":20.081699999999998,"d":"20.082"},{"v":36.727999999999994,"d":"36.728"},{"v":38.85203336527296,"d":"38.852"},{"v":41.21522604290182,"d":"41.215"},{"v":44.144799140157176,"d":"44.145"}]
[]
[]
["ПРОГНОЗ"]
["социально-экономического развития на 2018 год и на период до 2020 года"]
["ООО \"Богучарский ЗРМ\""]
["(организационно-правовая форма, наименование предприятия)"]
["Структура уставного капитала предприятия:*)",null,null,"Вид деятельности по ОКВЭД2 (основной):",{"$nulls":9},2015,2016,"1 пол 2017",2017,2018,2019,2020]
["доля государственной  (федеральной) собственности _______%,",null,null,"1.Код вида деятельности 10.41.24",{"$nulls":8},"прочие ",{"$f":"E144+E147","v":18.432},{"$f":"F144+F147","v":24.5921},12.2808,24.561999999999998,24.583427044543573,24.60355072427414,24.628344822639214]
["доля государственной (областной) собственности ________%,",null,null,"2.Наименование вида деятельности: Производство нерафинированного подсолнечного масла и его фракций"]
["доля муниципальной собственности ______%,"]
["другие собственники 100 %",{"$nulls":12},2015,2016,"1 пол 2017",2017,2018,2019,2020]
[{"$nulls":12},"отгрузка ",{"$f":"N29+N36+N46+N54+N63","v":{"v":842.5600000000001,"d":"842.560"}},{"$f":"O29+O36+O46+O54+O63","v":{"v":1031.45002,"d":"1031.450"}},{"v":663.4331999999998,"d":"663.433"},1268.819,{"v":1380.3226558691974,"d":"1380.323"},{"v":1510.6387882260333,"d":"1510.639"},{"v":1664.1698670897588,"d":"1664.170"}]
["№ п/п ","Показатели ",null,"Единица измерения"," отчет",null,"2017г.",null,"прогноз",{"$nulls":3},"Оборот",{"$f":"E15+E79+E139+E199+E258+E317+E379+E441","v":{"v":871.6809999999999,"d":"871.681"}},{"$f":"F15+F79+F139+F199+F258+F317+F379+F441","v":{"v":1104.9918200000002,"d":"1104.992"}},700.865,{"v":1363.6829999999998,"d":"1363.683"},{"v":1457.7371148035045,"d":"1457.737"},{"v":1565.0770261093626,"d":"1565.077"},{"v":1693.2944381782006,"d":"1693.294"}]
[{"$nulls":4},"2015г.","2016г.","январь-июнь, отчет","январь-декабрь, оценка","2018г. ","2019г. ","2020г. "]
[]
["1.","Оборот организации (без НДС, акцизов и других аналогичных обязательных платежей) - всего (№ 1-предприятие, раздел 5, стр.501 или раздел 8, стр. 801)",null,"млн. руб.",74.094,{"$f":"F80","v":77.798},{"$f":"G80","v":{"v":48.336999999999996,"d":"48.337"}},82.015,{"v":91.4181910392344,"d":"91.418"},{"v":101.86013134672936,"d":"101.860"},{"v":113.1127688621084,"d":"113.113"}]
["2.","Отгружено товаров собственного производства, выполнено работ и услуг собственными силами (нарастающим итогом с начала года, на основании данных раздела 2 формы стат. отчет. № П-1 и (или) раздела 8, стр. 801 формы стат. отчет. № 1-предприятие)",null,"млн. руб.",{"$f":"E83","v":55.887},{"$f":"F83+F84","v":77.798},{"$f":"G83+G84","v":{"v":48.336999999999996,"d":"48.337"}},82.015,{"v":91.4181910392344,"d":"91.418"},{"v":101.86013134672936,"d":"101.860"},{"v":113.1127688621084,"d":"113.113"}]
["2.1.","в том числе по  видам деятельности  (№ П-1, раздел 2):",null,"млн. руб."]
[null,"код по ОКВЭД2","наименование вида деятельности"]
[null,"10.41.2"," - Производство неочищенных растительных масел ","млн. руб.",55.887,58.681,35.949,62.898,{"$f":"H83*I92/100*I94/100","v":{"v":70.10938706316851,"d":"70.109"}},{"$f":"I83*J92/100*J94/100","v":{"v":78.11739976158731,"d":"78.117"}},{"$f":"J83*K92/100*K94/100","v":{"v":86.747143033456,"d":"86.747"}}]
[null,"10.41.2"," - Производство жмыха подсолнечного","млн. руб.",18.207,19.117,12.388,19.117,{"$f":"H84*I92/100*I94/100","v":{"v":21.308803976065892,"d":"21.309"}},{"$f":"I84*J92/100*J94/100","v":{"v":23.742731585142046,"d":"23.743"}},{"$f":"J84*K92/100*K94/100","v":{"v":26.36562582865239,"d":"26.366"}}]
[null,null," -","млн. руб."]
[null,null," -","млн. руб."]
[null,null," -","млн. руб."]
[null,null," -","млн. руб."]
[null,null," -","млн. руб."]
[null,null," -","млн. руб."]
["3.","Отгружено товаров собственного производства, выполнено работ и услуг собственными силами по промышленным видам экономической деятельности  (из стр.2.1 настоящей формы - сумма строк с кодами от 05 до 39 включительно) - всего",null,"млн. руб.",74.094,{"$f":"F83+F84","v":77.798},{"$f":"G83+G84","v":{"v":48.336999999999996,"d":"48.337"}},82.015,{"v":91.4181910392344,"d":"91.418"},{"v":101.86013134672936,"d":"101.860"},{"v":113.1127688621084,"d":"113.113"}]
["4.","Темп роста (снижения) промышленного производства в сопоставимых ценах (ценах 2010г.)",null,"в % к предыдущему году",25.3,{"$f":"'расчет темпов по предприятиям'!L64","v":{"v":116.92932730601733,"d":"116.9"}},{"$f":"'расчет темпов по предприятиям'!L84","v":{"v":108.79718637689628,"d":"109"}},{"$f":"'расчет темпов по предприятиям'!F74","v":{"v":105.05244975638455,"d":"105.05"}},{"$f":"'расчет темпов по предприятиям'!I74","v":{"v":106.86980714391731,"d":"106.9"}},{"$f":"'расчет темпов по предприятиям'!L74","v":{"v":107.13670099335626,"d":"107.1"}},{"$f":"'расчет темпов по предприятиям'!F84","v":{"v":106.67353130458767,"d":"106.7"}}]
["5.","Индекс цен производителей промышленных товаров (фактически сложившийся на предприятии)",null,"в % к предыдущему году",98.9,{"$f":"F79/E79*100/F92*100","v":{"v":89.79702327316241,"d":"89.8"}},{"$f":"G79/43.7*100/G92*100","v":{"v":101.66713649975625,"d":"101.7"}},{"$f":"H79/F79*100/H92*100","v":{"v":100.35029937035367,"d":"100.4"}},"х","х","х"]
["6.","Индекс-дефлятор оптовых цен",null,"в % к предыдущему году","х","х","х","х",104.3,104,104.1]
["7.","Среднесписочная численность работающих ",null,"человек",110,110,110,110,110,110,110]
["8.","Среднемесячная заработная плата ",null,"руб.",10122,16425,17317,17317,18702,20198,21814]
["9.","Расходы на производство и продажу продукции (товаров, работ и услуг) - итого*) (№ 1-предприятие, раздел 6, стр.659)",null,"млн. руб.",{"$f":"E99+E100+E101+E102+E103+E104","v":{"v":63.29704,"d":"63.297"}},{"$f":"F99+F100+F101+F102+F103","v":{"v":74.948662,"d":"74.949"}},{"$f":"G99+G100+G101+G102+G103","v":{"v":46.852844440000005,"d":"46.853"}},{"v":78.58468888000002,"d":"78.585"},{"v":83.19800528,"d":"83.198"},{"v":89.11709072,"d":"89.117"},{"v":99.19541296,"d":"99.195"}]
[null,"в том числе "]
["9.1.","Материальные затраты ",null,"млн.руб.",41.22,42.024,29.584,44.125,46.331,49.648,56.918]
["9.2.","Расходы на оплату труда",null,"млн. руб.",{"$f":"E96*E95*12/1000000","v":{"v":13.36104,"d":"13.361"}},{"$f":"F96*F95*12/1000000","v":21.681},{"$f":"G96*G95*6/1000000","v":{"v":11.42922,"d":"11.429"}},{"$f":"H96*H95*12/1000000","v":{"v":22.85844,"d":"22.858"}},{"v":24.68664,"d":"24.687"},{"v":26.66136,"d":"26.661"},{"v":28.79448,"d":"28.794"}]
["8.3.","Страховые взносы в Пенсионный фонд, ФСС, ФФОМС",null,"млн. руб.",4.035,{"$f":"F100*30.2%","v":{"v":6.547662,"d":"6.548"}},{"$f":"G100*30.2%","v":{"v":3.4516244400000002,"d":"3.452"}},{"v":6.9032488800000005,"d":"6.903"},{"v":7.45536528,"d":"7.455"},{"v":8.05173072,"d":"8.052"},{"v":8.69593296,"d":"8.696"}]
["8.4.","Амортизация (основные средства и нематериальные активы)",null,"млн. руб.",3.2,3.2,1.64,3.2,3.2,3.2,3.2]
["8.5.","Налоги и сборы, включаемые в себестоимость продукции (работ, услуг)",null,"млн. руб.",1.481,1.496,0.748,1.498,1.525,1.556,1.587]
["8.6.","Прочие расходы, связанные с производством и продажей продукции (товаров, работ, услуг)",null,"млн. руб."]
["9.","Прибыль (+), убыток (-) до налогообложения ",null,"млн. руб.",{"$f":"'расчет прибыли по предприятиям'!B32","v":{"v":7.756959999999992,"d":"7.757"}},{"$f":"'расчет прибыли по предприятиям'!C32","v":{"v":-0.327661999999997,"d":"-0.328"}},{"$f":"'расчет прибыли по предприятиям'!D32","v":{"v":-0.1758444400000092,"d":"-0.176"}},{"$f":"'расчет прибыли по предприятиям'!E32","v":{"v":0.09431111999998465,"d":"0.094"}},{"$f":"'расчет прибыли по предприятиям'!F32","v":{"v":4.717185759234397,"d":"4.717"}},{"$f":"'расчет прибыли по предприятиям'!G32","v":{"v":9.047040626729368,"d":"9.047"}},{"$f":"'расчет прибыли по предприятиям'!H32","v":{"v":10.018355902108397,"d":"10.018"}}]
["10.","Наличие основных  фондов на конец года по полной учетной  стоимости (ф.№11стат.отчетн., стр. 01, гр.9)",null,"млн. руб.",83,73.89,73.89,73.89,73.89,73.89,73.89]
["11.","Наличие  основных  фондов на конец года по остаточной балансовой  стоимости (ф.№11стат.отчетн., стр. 01, гр.10)",null,"млн. руб.",39,31.501,30.577,30.577,30.577,30.577,30.577]
["12.","Среднегодовая остаточная стоимость основных средств ( за минусом необлагаемого налогом имущества) - налоговая база (форма по КНД 1152026, раздел 2,строка 190)",null,"млн. руб.",32.031,32.023,30.601,30.945,30.945,30.945,30.945]
["13.","Коэффициент загрузки (использования) производственной мощности (по основному виду выпускаемой продукции) ",null,"%",50,50,50,50,50,50,50]
["14.","Производство основных видов промышленной продукции**) (форма стат. отч. №1-натура-БМ) ",null,"в соответств. натур.ед. измер."]
[null," -  Производство масла растительного",null,"тн.",2133,{"$f":"'расчет темпов по предприятиям'!J59","v":2494},{"$f":"'расчет темпов по предприятиям'!J79","v":1170},{"$f":"'расчет темпов по предприятиям'!D69","v":2620},{"$f":"'расчет темпов по предприятиям'!G69","v":2800},{"$f":"'расчет темпов по предприятиям'!J69","v":3000},{"$f":"'расчет темпов по предприятиям'!D79","v":3200}]
[null," -  Жмых подсолнечный",null,"тн.",784,{"$f":"'расчет темпов по предприятиям'!J60","v":922},{"$f":"'расчет темпов по предприятиям'!J80","v":460},{"$f":"'расчет темпов по предприятиям'!D70","v":969},{"$f":"'расчет темпов по предприятиям'!G70","v":1035},{"$f":"'расчет темпов по предприятиям'!J70","v":1100},{"$f":"'расчет темпов по предприятиям'!D80","v":1184}]
[]
["15.","Инвестиции в основной капитал, всего",null,"млн. руб.",{"$f":"E116+E117","v":0},{"$f":"F116+F117","v":0},0,0,0,0,0]
[null,"в том числе по источникам:"]
[null," - собственные средства",null,"млн. руб."]
[null," - привлеченные средства",null,"млн. руб.",{"$f":"E119+E120+E121","v":0},{"$f":"F119+F120+F121","v":0},0,0,0,0,0]
[null,"           из них"]
[null,"                 кредиты банков",null,"млн. руб."]
[null,"                 федеральный бюджет",null,"млн. руб."]
[null,"                 бюджет области ",null,"млн. руб."]
[null," - прочие ",null,"млн. руб."]
[]
[]
[]
["ПРОГНОЗ"]
["социально-экономического развития на 2018 год и на период до 2020 года"]
["ОАО \"Богучармолоко\""]
["(организационно-правовая форма, наименование предприятия)"]
["Структура уставного капитала предприятия:*)",null,null,"Вид деятельности по ОКВЭД2 (основной):"]
["доля государственной  (федеральной) собственности _______%,",null,null,"1.Код вида деятельности: 10.51.1"]
["доля государственной (областной) собственности ________%,",null,null,"2.Наименование вида деятельности:  Производство питьевого молока и питьевых сливок"]
["доля муниципальной собственности ______%,"]
["другие собственники 100%"]
[]
["№ п/п ","Показатели ",null,"Единица измерения"," отчет",null,"2017г.",null,"прогноз"]
[{"$nulls":4},"2015г.","2016г.","январь-июнь, отчет","январь-декабрь, оценка","2018г. ","2019г. ","2020г. "]
[]
["1.","Оборот организации (без НДС, акцизов и других аналогичных обязательных платежей) - всего (№ 1-предприятие, раздел 5, стр.501 или раздел 8, стр. 801)",null,"млн. руб.",73.877,{"$f":"F143+F144+F145+F146+F147","v":{"v":86.46110000000002,"d":"86.46"}},{"$f":"G143+G144+G145+G146+G147","v":{"v":43.616099999999996,"d":"43.616"}},87.086,{"v":93.03532320844829,"d":"93.035"},{"v":98.62276083275397,"d":"98.623"},{"v":105.5069629230564,"d":"105.507"}]
["2.","Отгружено товаров собственного производства, выполнено работ и услуг собственными силами (нарастающим итогом с начала года, на основании данных раздела 2 формы стат. отчет. № П-1 и (или) раздела 8, стр. 801 формы стат. отчет. № 1-предприятие)",null,"млн. руб.",{"$f":"E143+E145+E146","v":55.446000000000005},{"$f":"F143+F145+F146","v":61.86900000000001},{"v":31.335299999999997,"d":"31.335"},62.524,{"v":68.45189616390472,"d":"68.452"},{"v":74.01921010847983,"d":"74.019"},{"v":80.8786181004172,"d":"80.879"}]
["2.1.","в том числе по  видам деятельности  (№ П-1, раздел 2):",null,"млн. руб."]
[null,"код по ОКВЭД2","наименование вида деятельности"]
[null,"10.51.1"," -  Производство питьевого молока и питьевых сливок","млн. руб.",54.834,61.2475,{"v":30.9487,"d":"30.949"},61.898,{"$f":"H143*I150/100*I152/100","v":{"v":67.76654514671765,"d":"67.767"}},{"$f":"I143*J150/100*J152/100","v":{"v":73.2781182792957,"d":"73.278"}},{"$f":"J143*K150/100*K152/100","v":{"v":80.06884881292982,"d":"80.069"}}]
[null,"56.29.2"," - Деятельность столовых и буфетов при предприятиях и учреждениях","млн. руб.",0.194,0.2561,{"v":0.1128,"d":"0.113"},0.226,{"$f":"H144*I150/100*I152/100","v":{"v":0.24742704454357473,"d":"0.247"}},{"$f":"I144*J150/100*J152/100","v":{"v":0.2675507242741418,"d":"0.268"}},{"$f":"J144*K150/100*K152/100","v":{"v":0.29234482263921513,"d":"0.292"}}]
[null,"37.00"," - Сбор и обработка сточных вод","млн. руб.",0.049,0.0416,{"v":0.0217,"d":"0.022"},0.044,{"$f":"H145*I150/100*I152/100","v":{"v":0.04817163699078446,"d":"0.048"}},{"$f":"I145*J150/100*J152/100","v":{"v":0.052089521540098396,"d":"0.052"}},{"$f":"J145*K150/100*K152/100","v":{"v":0.05691669113329852,"d":"0.057"}}]
[null,"35.30.14"," - Производство пара и горячей воды (тепловой энергии) котельными","млн. руб.",0.563,0.5799,{"v":0.3649,"d":"0.365"},0.582,{"$f":"H146*I150/100*I152/100","v":{"v":0.6371793801962853,"d":"0.637"}},{"$f":"I146*J150/100*J152/100","v":{"v":0.6890023076440288,"d":"0.689"}},{"$f":"J146*K150/100*K152/100","v":{"v":0.752852596354085,"d":"0.753"}}]
[null,"77.39.29"," - Аренда и лизинг прочих машин и оборудования научного и промышленного назначения","млн. руб.",18.238,24.336,12.168,24.336,24.336,24.336,24.336]
[null,null," -","млн. руб."]
["3.","Отгружено товаров собственного производства, выполнено работ и услуг собственными силами по промышленным видам экономической деятельности  (из стр.2.1 настоящей формы - сумма строк с кодами от 05 до 39 включительно) - всего",null,"млн. руб.",{"$f":"E143+E145+E146","v":55.446000000000005},{"$f":"F143+F145+F146","v":61.86900000000001},{"v":31.335299999999997,"d":"31.335"},62.524,{"v":68.45189616390472,"d":"68.452"},{"v":74.01921010847983,"d":"74.019"},{"v":80.8786181004172,"d":"80.879"}]
["4.","Темп роста (снижения) промышленного производства в сопоставимых ценах (ценах 2010г.)",null,"в % к предыдущему году",65.9,{"$f":"'расчет темпов по предприятиям'!L99","v":{"v":149.22924315867434,"d":"149.2"}},{"$f":"'расчет темпов по предприятиям'!L119","v":{"v":96.1255148706469,"d":"96.1"}},{"$f":"'расчет темпов по предприятиям'!F109","v":{"v":100.99588508546321,"d":"101.0"}},{"$f":"'расчет темпов по предприятиям'!I109","v":{"v":104.96739516862299,"d":"105.0"}},{"$f":"'расчет темпов по предприятиям'!L109","v":{"v":103.97420875176518,"d":"104.0"}},{"$f":"'расчет темпов по предприятиям'!F119","v":{"v":104.96355866082688,"d":"105.0"}}]
["5.","Индекс цен производителей промышленных товаров (фактически сложившийся на предприятии)",null,"в % к предыдущему году",127,{"$f":"F139/E139*100/F150*100","v":{"v":78.42554923566483,"d":"78.4"}},{"$f":"G139/44.5949*100/G150*100","v":{"v":101.74731476305863,"d":"101.7"}},{"$f":"H139/F139*100/H150*100","v":{"v":99.72956095220466,"d":"100"}},"х","х","х"]
["6.","Индекс-дефлятор оптовых цен",null,"в % к предыдущему году","х","х","х","х",104.3,104,104.1]
["7.","Среднесписочная численность работающих ",null,"человек",110,110,112,112,113,115,115]
["8.","Среднемесячная заработная плата ",null,"руб.",19751,21015,22486,22486,24285,26228,28326]
["9.","Расходы на производство и продажу продукции (товаров, работ и услуг) - итого*) (№ 1-предприятие, раздел 6, стр.659)",null,"млн. руб.",{"$f":"E157+E158+E159+E160+E161+E162","v":47.515},{"$f":"F157+F158+F159+F160+F161+F162","v":{"v":51.536219599999995,"d":"51.536"}},{"$f":"G157+G158+G159+G160+G161+G162","v":{"v":27.413990784,"d":"27.414"}},{"v":54.747981568,"d":"54.748"},{"v":59.17045891999999,"d":"59.170"},{"v":63.53442127999999,"d":"63.534"},{"v":67.73502376,"d":"67.735"}]
[null,"в том числе "]
["9.1.","Материальные затраты ",null,"млн.руб.",6.7,7.839,{"v":3.95,"d":"3.950"},{"v":7.9,"d":"7.900"},8.295,8.709,{"v":9.14,"d":"9.140"}]
["9.2.","Расходы на оплату труда",null,"млн. руб.",26.071,{"$f":"F154*F153*12/1000000","v":{"v":27.7398,"d":"27.740"}},{"$f":"G154*G153*6/1000000","v":{"v":15.110592,"d":"15.111"}},{"$f":"H154*H153*12/1000000","v":{"v":30.221184,"d":"30.221"}},{"v":32.93046,"d":"32.930"},{"v":36.19464,"d":"36.195"},{"v":39.08988,"d":"39.090"}]
["8.3.","Страховые взносы в Пенсионный фонд, ФСС, ФФОМС",null,"млн. руб.",7.874,{"$f":"F158*30.2%","v":{"v":8.3774196,"d":"8.377"}},{"$f":"G158*30.2%","v":{"v":4.563398784,"d":"4.563"}},{"v":9.126797568,"d":"9.127"},{"v":9.944998919999998,"d":"9.945"},{"v":10.93078128,"d":"10.931"},{"v":11.80514376,"d":"11.805"}]
["8.4.","Амортизация (основные средства и нематериальные активы)",null,"млн. руб.",{"v":2.9,"d":"2.90"},2.9,1.5,2.8,2.8,2.8,2.5]
["8.5.","Налоги и сборы, включаемые в себестоимость продукции (работ, услуг)",null,"млн. руб.",0.07,0.7,0.3,0.7,0.8,0.8,0.9]
["8.6.","Прочие расходы, связанные с производством и продажей продукции (товаров, работ, услуг)",null,"млн. руб.",{"v":3.9,"d":"3.900"},{"v":3.98,"d":"3.980"},{"v":1.99,"d":"1.990"},{"v":4,"d":"4.000"},{"v":4.4,"d":"4.400"},{"v":4.1,"d":"4.100"},{"v":4.3,"d":"4.300"}]
["9.","Прибыль (+), убыток (-) до налогообложения ",null,"млн. руб.",{"v":-0.6,"d":"-0.600"},{"$f":"'расчет прибыли по предприятиям'!C48","v":{"v":0.7,"d":"0.700"}},{"$f":"'расчет прибыли по предприятиям'!D48","v":{"v":3.1,"d":"3.100"}},{"$f":"'расчет прибыли по предприятиям'!E48","v":{"v":6.1,"d":"6.100"}},{"$f":"'расчет прибыли по предприятиям'!F48","v":8.675},{"$f":"'расчет прибыли по предприятиям'!G48","v":9.239},{"$f":"'расчет прибыли по предприятиям'!H48","v":10.591}]
["10.","Наличие основных  фондов на конец года по полной учетной  стоимости (ф.№11стат.отчетн., стр. 01, гр.9)",null,"млн. руб.",123.6,123.6,123.6,123.6,123.6,123.6,123.6]
["11.","Наличие  основных  фондов на конец года по остаточной балансовой  стоимости (ф.№11стат.отчетн., стр. 01, гр.10)",null,"млн. руб.",57.7,56.3,57.7,57.7,58.1,59.1,59.1]
["12.","Среднегодовая остаточная стоимость основных средств ( за минусом необлагаемого налогом имущества) - налоговая база (форма по КНД 1152026, раздел 2,строка 190)",null,"млн. руб.",53.6,53.6,53.6,53.6,53.6,53.6,53.6]
["13.","Коэффициент загрузки (использования) производственной мощности (по основному виду выпускаемой продукции) ",null,"%",40,40,40,40,40,40,40]
["14.","Производство основных видов промышленной продукции**) (форма стат. отч. №1-натура-БМ) ",null,"в соответств. натур.ед. измер."]
[null," -  Переработано молока",null,"тн.",13297,19905.5,{"$f":"'расчет темпов по предприятиям'!J114","v":10347.8},{"$f":"'расчет темпов по предприятиям'!D104","v":20105},{"$f":"'расчет темпов по предприятиям'!G104","v":21110},{"$f":"'расчет темпов по предприятиям'!J104","v":21954},{"$f":"'расчет темпов по предприятиям'!D114","v":23050}]
[null," - Производство пара и горячей воды (тепловой энергии) котельными",null,"тыс. Г. кал.",0.6,0.6,0.6,0.6,0.6,0.6,0.6]
[null," - "]
[null," - "]
[null," - "]
[null," - "]
["15.","Инвестиции в основной капитал, всего",null,"млн. руб.",{"$f":"E177+E178","v":0},{"$f":"F177+F178","v":14.206},4.131,4.131,4.317,4.506,4.692]
[null,"в том числе по источникам:"]
[null," - собственные средства",null,"млн. руб.",null,14.206,4.131,4.131,4.317,4.506,4.692]
[null," - привлеченные средства",null,"млн. руб.",{"$f":"E180+E181+E182","v":0},{"$f":"F180+F181+F182","v":0},0,0,0,0,0]
[null,"           из них"]
[null,"                 кредиты банков",null,"млн. руб."]
[null,"                 федеральный бюджет",null,"млн. руб."]
[null,"                 бюджет области ",null,"млн. руб."]
[null," - прочие ",null,"млн. руб."]
[]
[]
["ПРОГНОЗ"]
["социально-экономического развития на 2018 год и на период до 2020 года"]
["ООО \"Богучархлеб\""]
["(организационно-правовая форма, наименование предприятия)"]
["Структура уставного капитала предприятия:*)",null,null,"Вид деятельности по ОКВЭД2 (основной):"]
["доля государственной  (федеральной) собственности _______%,",null,null,"1.Код вида деятельности 10.8"]
["доля государственной (областной) собственности ________%,",null,null,"2.Наименование вида деятельности: Производство прочих пищевых продуктов"]
["доля муниципальной собственности ______%,"]
["другие собственники 100%"]
[]
["№ п/п ","Показатели ",null,"Единица измерения"," отчет",null,"2017г.",null,"прогноз"]
[{"$nulls":4},"2015г.","2016г.","январь-июнь, отчет","январь-декабрь, оценка","2018г. ","2019г. ","2020г. "]
[]
["1.","Оборот организации (без НДС, акцизов и других аналогичных обязательных платежей) - всего (№ 1-предприятие, раздел 5, стр.501 или раздел 8, стр. 801)",null,"млн. руб.",27.327,{"$f":"F203+F204","v":{"v":23.14404,"d":"23.144"}},{"$f":"G203+G204","v":{"v":9.7024,"d":"9.702"}},{"v":23.6,"d":"23.600"},{"v":25.306628267411867,"d":"25.307"},{"v":27.278228595586125,"d":"27.278"},{"v":28.895969938292346,"d":"28.896"}]
["2.","Отгружено товаров собственного производства, выполнено работ и услуг собственными силами (нарастающим итогом с начала года, на основании данных раздела 2 формы стат. отчет. № П-1 и (или) раздела 8, стр. 801 формы стат. отчет. № 1-предприятие)",null,"млн. руб.",{"$f":"E203+E204","v":27.327},{"$f":"F203+F204","v":{"v":23.14404,"d":"23.144"}},{"$f":"G203+G204","v":{"v":9.7024,"d":"9.702"}},{"v":23.6,"d":"23.600"},{"v":25.306628267411867,"d":"25.307"},{"v":27.278228595586125,"d":"27.278"},{"v":28.895969938292346,"d":"28.896"}]
["2.1.","в том числе по  видам деятельности  (№ П-1, раздел 2):",null,"млн. руб."]
[null,"код по ОКВЭД2","наименование вида деятельности"]
[null,"10..8"," - Производство  хлеба и хлебобулочных изделий","млн. руб.",23.975,{"v":20.52427,"d":"20.524"},{"v":8.5516,"d":"8.552"},{"v":20.5,"d":"20.500"},{"$f":"H203*I209/100*I211/100","v":{"v":21.982452520421326,"d":"21.982"}},{"$f":"I203*J209/100*J211/100","v":{"v":23.695071449555744,"d":"23.695"}},{"$f":"J203*K209/100*K211/100","v":{"v":25.100312870126828,"d":"25.100"}}]
[null,"10..8"," - Производство кондитерских изделий","млн. руб.",3.352,{"v":2.61977,"d":"2.620"},{"v":1.1508,"d":"1.151"},{"v":3.1,"d":"3.100"},{"$f":"H204*I209/100*I211/100","v":{"v":3.3241757469905417,"d":"3.324"}},{"$f":"I204*J209/100*J211/100","v":{"v":3.583157146030381,"d":"3.583"}},{"$f":"J204*K209/100*K211/100","v":{"v":3.7956570681655197,"d":"3.796"}}]
[null,null," -","млн. руб."]
[null,null," -","млн. руб."]
[null,null," -","млн. руб."]
["3.","Отгружено товаров собственного производства, выполнено работ и услуг собственными силами по промышленным видам экономической деятельности  (из стр.2.1 настоящей формы - сумма строк с кодами от 05 до 39 включительно) - всего",null,"млн. руб.",{"$f":"E203+E204","v":27.327},{"$f":"F203+F204","v":{"v":23.14404,"d":"23.144"}},{"$f":"G203+G204","v":{"v":9.7024,"d":"9.702"}},{"v":23.6,"d":"23.600"},{"v":25.306628267411867,"d":"25.307"},{"v":27.278228595586125,"d":"27.278"},{"v":28.895969938292346,"d":"28.896"}]
["4.","Темп роста (снижения) промышленного производства в сопоставимых ценах (ценах 2010г.)",null,"в % к предыдущему году",101.2,{"$f":"'расчет темпов по предприятиям'!L134","v":{"v":76.06207114372087,"d":"76.1"}},{"$f":"'расчет темпов по предприятиям'!L154","v":{"v":75.37454713224643,"d":"75.4"}},{"$f":"'расчет темпов по предприятиям'!F144","v":{"v":101.89148294233925,"d":"101.9"}},{"$f":"'расчет темпов по предприятиям'!I144","v":{"v":102.81061908856405,"d":"102.8"}},{"$f":"'расчет темпов по предприятиям'!L144","v":{"v":103.64504382067499,"d":"103.6"}},{"$f":"'расчет темпов по предприятиям'!F154","v":{"v":101.75842649407414,"d":"101.8"}}]
["5.","Индекс цен производителей промышленных товаров (фактически сложившийся на предприятии)",null,"в % к предыдущему году",105.8,{"$f":"F199/E199*100/F209*100","v":{"v":111.34714026822483,"d":"111.3"}},{"$f":"G199/11.622*100/G209*100","v":{"v":110.7576132333063,"d":"110.8"}},{"$f":"H199/F199*100/H209*100","v":{"v":100.07715452991404,"d":"100.1"}},"х","х","х"]
["6.","Индекс-дефлятор оптовых цен",null,"в % к предыдущему году","х","х","х","х",104.3,{"v":104,"d":"104.0"},104.1]
["7.","Среднесписочная численность работающих ",null,"человек",44,44,38,38,38,38,38]
["8.","Среднемесячная заработная плата ",null,"руб.",12115,12890,13500,13790,14896,16088,17375]
["9.","Расходы на производство и продажу продукции (товаров, работ и услуг) - итого*) (№ 1-предприятие, раздел 6, стр.659)",null,"млн. руб.",{"$f":"E216+E217+E218+E219+E220+++++E221","v":{"v":26.942999999999998,"d":"26.943"}},{"$f":"F216+F217+F218+F219+F220+++++F221","v":{"v":25.167104000000002,"d":"25.167"}},{"v":10.2636,"d":"10.264"},{"v":20.145888,"d":"20.146"},{"v":21.0510912,"d":"21.051"},{"v":21.703353599999996,"d":"21.703"},{"v":22.5076,"d":"22.508"}]
[null,"в том числе "]
["9.1.","Материальные затраты ",null,"млн.руб.",{"v":13,"d":"13.000"},{"v":11.1,"d":"11.100"},{"v":4.2,"d":"4.200"},{"v":8.7,"d":"8.700"},{"v":8.7,"d":"8.700"},{"v":8.7,"d":"8.700"},{"v":8.7,"d":"8.700"}]
["9.2.","Расходы на оплату труда",null,"млн. руб.",6.397,{"$f":"F213*F212*12/1000000","v":{"v":6.80592,"d":"6.806"}},{"$f":"G213*G212*6/1000000","v":3.078},{"$f":"H213*H212*12/1000000","v":{"v":6.28824,"d":"6.288"}},{"v":6.792576,"d":"6.793"},{"v":7.336128,"d":"7.336"},7.923]
["8.3.","Страховые взносы в Пенсионный фонд, ФСС, ФФОМС",null,"млн. руб.",1.279,{"$f":"F217*20%","v":{"v":1.3611840000000002,"d":"1.361"}},{"$f":"G217*20%","v":{"v":0.6156,"d":"0.616"}},{"v":1.257648,"d":"1.258"},{"v":1.3585152000000003,"d":"1.359"},{"v":1.4672256000000001,"d":"1.467"},{"v":1.5846,"d":"1.585"}]
["8.4.","Амортизация (основные средства и нематериальные активы)",null,"млн. руб.",{"v":2.4,"d":"2.400"},{"v":2.4,"d":"2.400"},{"v":0.9,"d":"0.900"},{"v":1.5,"d":"1.500"},{"v":1.8,"d":"1.800"},{"v":1.8,"d":"1.800"},{"v":1.8,"d":"1.800"}]
["8.5.","Налоги и сборы, включаемые в себестоимость продукции (работ, услуг)",null,"млн. руб."]
["8.6.","Прочие расходы, связанные с производством и продажей продукции (товаров, работ, услуг)",null,"млн. руб.",3.867,{"v":3.5,"d":"3.500"},{"v":1.47,"d":"1.470"},{"v":2.4,"d":"2.400"},{"v":2.4,"d":"2.400"},{"v":2.4,"d":"2.400"},{"v":2.5,"d":"2.500"}]
["9.","Прибыль (+), убыток (-) до налогообложения ",null,"млн. руб.",0.384,{"$f":"'расчет прибыли по предприятиям'!C64","v":{"v":-1.5730640000000014,"d":"-1.573"}},{"$f":"'расчет прибыли по предприятиям'!D64","v":{"v":-0.7901999999999996,"d":"-0.790"}},{"$f":"'расчет прибыли по предприятиям'!E64","v":{"v":2.992112000000002,"d":"2.992"}},{"$f":"'расчет прибыли по предприятиям'!F64","v":{"v":3.782537067411869,"d":"3.783"}},{"$f":"'расчет прибыли по предприятиям'!G64","v":{"v":5.093874995586129,"d":"5.094"}},{"$f":"'расчет прибыли по предприятиям'!H64","v":{"v":5.898369938292346,"d":"5.898"}}]
["10.","Наличие основных  фондов на конец года по полной учетной  стоимости (ф.№11стат.отчетн., стр. 01, гр.9)",null,"млн. руб.",{"v":35.5,"d":"35.500"},{"v":35.1,"d":"35.100"},{"v":35.1,"d":"35.100"},{"v":35.1,"d":"35.100"},{"v":35.1,"d":"35.100"},{"v":35.1,"d":"35.100"},{"v":35.1,"d":"35.100"}]
["11.","Наличие  основных  фондов на конец года по остаточной балансовой  стоимости (ф.№11стат.отчетн., стр. 01, гр.10)",null,"млн. руб.",{"v":35.8,"d":"35.800"},{"v":35.1,"d":"35.100"},{"v":35.1,"d":"35.100"},{"v":35.1,"d":"35.100"},{"v":35.1,"d":"35.100"},{"v":35.1,"d":"35.100"},{"v":35.1,"d":"35.100"}]
["12.","Среднегодовая остаточная стоимость основных средств ( за минусом необлагаемого налогом имущества) - налоговая база (форма по КНД 1152026, раздел 2,строка 190)",null,"млн. руб.",{"v":29.6,"d":"29.600"},{"v":29.5,"d":"29.500"},{"v":29.5,"d":"29.500"},{"v":29.5,"d":"29.500"},{"v":29.4,"d":"29.400"},{"v":29.4,"d":"29.400"},{"v":29.4,"d":"29.400"}]
["13.","Коэффициент загрузки (использования) производственной мощности (по основному виду выпускаемой продукции) ",null,"%",{"v":80,"d":"80.000"},{"v":80,"d":"80.000"},{"v":80,"d":"80.000"},{"v":80,"d":"80.000"},{"v":80,"d":"80.000"},{"v":80,"d":"80.000"},{"v":80,"d":"80.000"}]
["14.","Производство основных видов промышленной продукции**) (форма стат. отч. №1-натура-БМ) ",null,"в соответств. натур.ед. измер."]
[null," -  Хлеб и хлебобулочные изделия",null,"тн.",{"v":476.6,"d":"477"},376,{"v":149.2,"d":"149"},{"$f":"'расчет темпов по предприятиям'!D139","v":380},{"$f":"'расчет темпов по предприятиям'!G139","v":380},{"$f":"'расчет темпов по предприятиям'!J139","v":380},{"$f":"'расчет темпов по предприятиям'!D149","v":380}]
[null," - Кондитерские изделия",null,"тн.",{"v":32.7,"d":"33"},{"v":21.9,"d":"22"},{"v":8.98,"d":"9"},{"$f":"'расчет темпов по предприятиям'!D140","v":23},{"$f":"'расчет темпов по предприятиям'!G140","v":26},{"$f":"'расчет темпов по предприятиям'!J140","v":30},{"$f":"'расчет темпов по предприятиям'!D150","v":32}]
[null," - "]
[null," - "]
[null," - "]
[null," - "]
["15.","Инвестиции в основной капитал, всего",null,"млн. руб.",{"$f":"E236+E237","v":{"v":0,"d":"0.000"}},{"$f":"F236+F237","v":{"v":0,"d":"0.000"}},{"v":0,"d":"0.000"},{"v":0,"d":"0.000"},{"v":0,"d":"0.000"},{"v":0,"d":"0.000"},{"v":0,"d":"0.000"}]
[null,"в том числе по источникам:"]
[null," - собственные средства",null,"млн. руб."]
[null," - привлеченные средства",null,"млн. руб.",{"$f":"E239+E240+E241","v":{"v":0,"d":"0.000"}},{"$f":"F239+F240+F241","v":{"v":0,"d":"0.000"}},{"v":0,"d":"0.000"},{"v":0,"d":"0.000"},{"v":0,"d":"0.000"},{"v":0,"d":"0.000"},{"v":0,"d":"0.000"}]
[null,"           из них"]
[null,"                 кредиты банков",null,"млн. руб."]
[null,"                 федеральный бюджет",null,"млн. руб."]
[null,"                 бюджет области ",null,"млн. руб."]
[null," - прочие ",null,"млн. руб."]
[]
[]
["ПРОГНОЗ"]
["социально-экономического развития на 2018 год и на период до 2020 года"]
["ООО \"Строймаш\""]
["(организационно-правовая форма, наименование предприятия)"]
["Структура уставного капитала предприятия:*)",null,null,"Вид деятельности по ОКВЭД2 (основной):"]
["доля государственной  (федеральной) собственности _______%,",null,null,"1.Код вида деятельности 28.1"]
["доля государственной (областной) собственности ________%,",null,null,"2.Наименование вида деятельности: Производство машин и оборудования общего назначения"]
["доля муниципальной собственности ______%,"]
["другие собственники_______%"]
[]
["№ п/п ","Показатели ",null,"Единица измерения"," отчет",null,"2017г.",null,"прогноз"]
[{"$nulls":4},"2015г.","2016г.","январь-июнь, отчет","январь-декабрь, оценка","2018г. ","2019г. ","2020г. "]
[]
["1.","Оборот организации (без НДС, акцизов и других аналогичных обязательных платежей) - всего (№ 1-предприятие, раздел 5, стр.501 или раздел 8, стр. 801)",null,"млн. руб.",15.021,{"v":16.6633,"d":"16.663"},{"$f":"G259","v":10.292},{"$f":"H259","v":20.584},{"v":22.367055,"d":"22.367"},{"v":24.775936499999997,"d":"24.776"},{"v":27.73248706799999,"d":"27.732"}]
["2.","Отгружено товаров собственного производства, выполнено работ и услуг собственными силами (нарастающим итогом с начала года, на основании данных раздела 2 формы стат. отчет. № П-1 и (или) раздела 8, стр. 801 формы стат. отчет. № 1-предприятие)",null,"млн. руб.",15.021,{"$f":"F262","v":{"v":16.6633,"d":"16.663"}},{"$f":"G262","v":10.292},{"$f":"H262","v":20.584},{"v":22.367055,"d":"22.367"},{"v":24.775936499999997,"d":"24.776"},{"v":27.73248706799999,"d":"27.732"}]
["2.1.","в том числе по  видам деятельности  (№ П-1, раздел 2):",null,"млн. руб."]
[null,"код по ОКВЭД2","наименование вида деятельности"]
[null,"28..1"," - Производство машин и оборудования общего назначения","млн. руб.",15.021,{"v":16.6633,"d":"16.663"},10.292,20.584,{"$f":"H262*I271/100*I273/100","v":{"v":22.367055,"d":"22.367"}},{"$f":"I262*J271/100*J273/100","v":{"v":24.775936499999997,"d":"24.776"}},{"$f":"J262*K271/100*K273/100","v":{"v":27.73248706799999,"d":"27.732"}}]
[null,null," -","млн. руб."]
[null,null," -","млн. руб."]
[null,null," -","млн. руб."]
[null,null," -","млн. руб."]
[null,null," -","млн. руб."]
[null,null," -","млн. руб."]
[null,null," -","млн. руб."]
["3.","Отгружено товаров собственного производства, выполнено работ и услуг собственными силами по промышленным видам экономической деятельности  (из стр.2.1 настоящей формы - сумма строк с кодами от 05 до 39 включительно) - всего",null,"млн. руб.",15.021,{"$f":"F262","v":{"v":16.6633,"d":"16.663"}},{"$f":"G262","v":10.292},{"$f":"H262","v":20.584},{"v":22.367055,"d":"22.367"},{"v":24.775936499999997,"d":"24.776"},{"v":27.73248706799999,"d":"27.732"}]
["4.","Темп роста (снижения) промышленного производства в сопоставимых ценах (ценах 2010г.)",null,"в % к предыдущему году",135.6,{"$f":"'расчет темпов по предприятиям'!L169","v":{"v":110.93335996271887,"d":"110.9"}},{"$f":"'расчет темпов по предприятиям'!L189","v":{"v":135.08334427090173,"d":"135.1"}},{"$f":"'расчет темпов по предприятиям'!F179","v":{"v":123.5289528484754,"d":"123.5"}},{"$f":"'расчет темпов по предприятиям'!I179","v":{"v":102.99747376603187,"d":"103.0"}},{"$f":"'расчет темпов по предприятиям'!L179","v":{"v":104.99504740342435,"d":"105.0"}},{"$f":"'расчет темпов по предприятиям'!F189","v":{"v":105.99730458221022,"d":"106.0"}}]
["5.","Индекс цен производителей промышленных товаров (фактически сложившийся на предприятии)",null,"в % к предыдущему году",104.9,{"$f":"F258/E258*100/F271*100","v":99.99999999999999},{"$f":"G258/7.619*100/G271*100","v":99.99999999999997},{"$f":"H258/F258*100/H271*100","v":100},"х","х","х"]
["6.","Индекс-дефлятор оптовых цен",null,"в % к предыдущему году","х","х","х","х",105.5,105.5,105.6]
["7.","Среднесписочная численность работающих ",null,"человек",30,32,32,32,32,32,32]
["8.","Среднемесячная заработная плата ",null,"руб.",14715,15657,16752,16752,18093,19540,21105]
["9.","Расходы на производство и продажу продукции (товаров, работ и услуг) - итого*) (№ 1-предприятие, раздел 6, стр.659)",null,"млн. руб.",{"$f":"E278+E279+E280+E281+E282+E283","v":15.021},{"$f":"F278+F279+F280+F281+F282+F283","v":{"v":16.662998975999997,"d":"16.663"}},{"v":10.291731968,"d":"10.292"},{"v":20.555463936,"d":"20.555"},{"v":21.235921024,"d":"21.236"},{"v":21.01537472,"d":"21.015"},{"v":22.400824639999996,"d":"22.401"}]
[null,"в том числе "]
["9.1.","Материальные затраты ",null,"млн.руб.",{"v":7.52,"d":"7.520"},8.275,{"v":5.49,"d":"5.490"},{"v":10.98,"d":"10.980"},{"v":10.99,"d":"10.990"},10.046,10.649]
["9.2.","Расходы на оплату труда",null,"млн. руб.",5.297,{"$f":"(F275*F274*12)/1000000","v":{"v":6.012288,"d":"6.012"}},{"$f":"(G275*G274*6)/1000000","v":{"v":3.216384,"d":"3.216"}},{"$f":"(H275*H274*12)/1000000","v":{"v":6.432768,"d":"6.433"}},{"v":6.947712,"d":"6.948"},{"v":7.50336,"d":"7.503"},{"v":8.10432,"d":"8.104"}]
["8.3.","Страховые взносы в Пенсионный фонд, ФСС, ФФОМС",null,"млн. руб.",1.695,{"$f":"F279*30.2%","v":{"v":1.8157109759999999,"d":"1.816"}},{"$f":"G279*30.2%","v":{"v":0.971347968,"d":"0.971"}},{"v":1.942695936,"d":"1.943"},{"v":2.098209024,"d":"2.098"},{"v":2.26601472,"d":"2.266"},{"v":2.4475046399999996,"d":"2.448"}]
["8.4.","Амортизация (основные средства и нематериальные активы)",null,"млн. руб."]
["8.5.","Налоги и сборы, включаемые в себестоимость продукции (работ, услуг)",null,"млн. руб.",0.509,{"v":0.56,"d":"0.560"},0.614,{"v":1.2,"d":"1.200"},{"v":1.2,"d":"1.200"},{"v":1.2,"d":"1.200"},{"v":1.2,"d":"1.200"}]
["8.6.","Прочие расходы, связанные с производством и продажей продукции (товаров, работ, услуг)",null,"млн. руб."]
["9.","Прибыль (+), убыток (-) до налогообложения ",null,"млн. руб.",{"v":0,"d":"0.000"},{"$f":"'расчет прибыли по предприятиям'!C80","v":{"v":3.0102400000231455E-4,"d":"0.000"}},{"$f":"'расчет прибыли по предприятиям'!D80","v":{"v":0.000268031999999252,"d":"0.000"}},{"$f":"'расчет прибыли по предприятиям'!E80","v":{"v":0.02853606400000075,"d":"0.029"}},{"$f":"'расчет прибыли по предприятиям'!F80","v":{"v":1.131133976000001,"d":"1.131"}},{"$f":"'расчет прибыли по предприятиям'!G80","v":{"v":3.760561779999996,"d":"3.761"}},{"$f":"'расчет прибыли по предприятиям'!H80","v":{"v":5.331662427999994,"d":"5.332"}}]
["10.","Наличие основных  фондов на конец года по полной учетной  стоимости (ф.№11стат.отчетн., стр. 01, гр.9)",null,"млн. руб.",{"v":2.19,"d":"2.190"},{"v":2.19,"d":"2.190"},{"v":2.19,"d":"2.190"},{"v":2.19,"d":"2.190"},{"v":2.19,"d":"2.190"},{"v":2.19,"d":"2.190"},{"v":2.19,"d":"2.190"}]
["11.","Наличие  основных  фондов на конец года по остаточной балансовой  стоимости (ф.№11стат.отчетн., стр. 01, гр.10)",null,"млн. руб."]
["12.","Среднегодовая остаточная стоимость основных средств ( за минусом необлагаемого налогом имущества) - налоговая база (форма по КНД 1152026, раздел 2,строка 190)",null,"млн. руб."]
["13.","Коэффициент загрузки (использования) производственной мощности (по основному виду выпускаемой продукции) ",null,"%",40,40,40,40,45,45,50]
["14.","Производство основных видов промышленной продукции**) (форма стат. отч. №1-натура-БМ) ",null,"в соответств. натур.ед. измер."]
[null," -  Производство машин и оборудования общего назначения",null,"млн. руб.",10.665,{"$f":"'расчет темпов по предприятиям'!J164","v":{"v":16.6633,"d":"16.663"}},{"$f":"'расчет темпов по предприятиям'!J184","v":10.292},{"$f":"'расчет темпов по предприятиям'!D174","v":20.584},{"$f":"'расчет темпов по предприятиям'!G174","v":21.201},{"$f":"'расчет темпов по предприятиям'!J174","v":{"v":22.26,"d":"22.260"}},{"$f":"'расчет темпов по предприятиям'!D184","v":23.595}]
[null," - "]
[null," - "]
["15.","Инвестиции в основной капитал, всего",null,"млн. руб.",{"$f":"E295+E296","v":0},{"$f":"F295+F296","v":0},0,0,0,0,0]
[null,"в том числе по источникам:"]
[null," - собственные средства",null,"млн. руб."]
[null," - привлеченные средства",null,"млн. руб.",{"$f":"E298+E299+E300","v":0},{"$f":"F298+F299+F300","v":0},0,0,0,0,0]
[null,"           из них"]
[null,"                 кредиты банков",null,"млн. руб."]
[null,"                 федеральный бюджет",null,"млн. руб."]
[null,"                 бюджет области ",null,"млн. руб."]
[null," - прочие ",null,"млн. руб."]
[]
[]
["ПРОГНОЗ"]
["социально-экономического развития на 2018 год и на период до 2020 года"]
["ООО \"Тихий Дон\""]
["(организационно-правовая форма, наименование предприятия)"]
["Структура уставного капитала предприятия:*)",null,null,"Вид деятельности по ОКВЭД2 (основной):"]
["доля государственной  (федеральной) собственности _______%,",null,null,"1.Код вида деятельности 08..12"]
["доля государственной (областной) собственности ________%,",null,null,"2.Наименование вида деятельности:  Разработка гравийных и песчаных карьеров, добыча глины и каолина"]
["доля муниципальной собственности ______%,"]
["другие собственники 100%"]
[]
["№ п/п ","Показатели ",null,"Единица измерения"," отчет",null,"2017г.",null,"прогноз"]
[{"$nulls":4},"2015г.","2016г.","январь-июнь, отчет","январь-декабрь, оценка","2018г. ","2019г. ","2020г. "]
[]
["1.","Оборот организации (без НДС, акцизов и других аналогичных обязательных платежей) - всего (№ 1-предприятие, раздел 5, стр.501 или раздел 8, стр. 801)",null,"млн. руб.",37.856,{"$f":"F321","v":{"v":73.25588,"d":"73.256"}},{"$f":"G321","v":72.425},{"v":144.85,"d":"144.850"},{"v":163.41247047244096,"d":"163.412"},{"v":185.75541188976382,"d":"185.755"},{"v":209.8881358177756,"d":"209.888"}]
["2.","Отгружено товаров собственного производства, выполнено работ и услуг собственными силами (нарастающим итогом с начала года, на основании данных раздела 2 формы стат. отчет. № П-1 и (или) раздела 8, стр. 801 формы стат. отчет. № 1-предприятие)",null,"млн. руб.",37.856,{"$f":"F321","v":{"v":73.25588,"d":"73.256"}},{"$f":"G321","v":72.425},{"v":144.85,"d":"144.850"},{"v":163.41247047244096,"d":"163.412"},{"v":185.75541188976382,"d":"185.755"},{"v":209.8881358177756,"d":"209.888"}]
["2.1.","в том числе по  видам деятельности  (№ П-1, раздел 2):",null,"млн. руб."]
[null,"код по ОКВЭД2","наименование вида деятельности"]
[null,"08..12"," - Разработка гравийных и песчаных карьеров, добыча глины и каолина","млн. руб.",37.856,{"v":73.25588,"d":"73.256"},72.425,144.85,{"$f":"H321*I330/100*I332/100","v":{"v":163.41247047244096,"d":"163.412"}},{"$f":"I321*J330/100*J332/100","v":{"v":185.75541188976382,"d":"185.755"}},{"$f":"J321*K330/100*K332/100","v":{"v":209.8881358177756,"d":"209.888"}}]
[null,null," -","млн. руб."]
[null,null," -","млн. руб."]
[null,null," -","млн. руб."]
[null,null," -","млн. руб."]
[null,null," -","млн. руб."]
[null,null," -","млн. руб."]
[null,null," -","млн. руб."]
["3.","Отгружено товаров собственного производства, выполнено работ и услуг собственными силами по промышленным видам экономической деятельности  (из стр.2.1 настоящей формы - сумма строк с кодами от 05 до 39 включительно) - всего",null,"млн. руб.",37.856,{"$f":"F321","v":{"v":73.25588,"d":"73.256"}},{"$f":"G321","v":72.425},{"v":144.85,"d":"144.850"},{"v":163.41247047244096,"d":"163.412"},{"v":185.75541188976382,"d":"185.755"},{"v":209.8881358177756,"d":"209.888"}]
["4.","Темп роста (снижения) промышленного производства в сопоставимых ценах (ценах 2010г.)",null,"в % к предыдущему году",73,{"$f":"'расчет темпов по предприятиям'!L204","v":{"v":161.52597402597402,"d":"161.53"}},{"$f":"'расчет темпов по предприятиям'!L224","v":{"v":387.29946524064167,"d":"387.3"}},{"$f":"'расчет темпов по предприятиям'!F214","v":{"v":127.63819095477386,"d":"127.6"}},{"$f":"'расчет темпов по предприятиям'!I214","v":{"v":108.26771653543308,"d":"108.3"}},{"$f":"'расчет темпов по предприятиям'!L214","v":{"v":109.09090909090911,"d":"109.1"}},{"$f":"'расчет темпов по предприятиям'!F224","v":{"v":108.33333333333333,"d":"108.3"}}]
["5.","Индекс цен производителей промышленных товаров (фактически сложившийся на предприятии)",null,"в % к предыдущему году",107,{"$f":"F317/E317*100/F330*100","v":{"v":119.80236686390533,"d":"119.80"}},{"$f":"G317/10.242*100/G330*100","v":{"v":182.58152704549892,"d":"182.58"}},{"$f":"H317/F317*100/H330*100","v":{"v":154.9156771028961,"d":"154.9"}},"х","х","х"]
["6.","Индекс-дефлятор оптовых цен",null,"в % к предыдущему году","х","х","х","х",104.2,104.2,104.3]
["7.","Среднесписочная численность работающих ",null,"человек",56,18,28,28,28,28,28]
["8.","Среднемесячная заработная плата ",null,"руб.",25581,27232,29013,29013,31334,33840,36548]
["9.","Расходы на производство и продажу продукции (товаров, работ и услуг) - итого*) (№ 1-предприятие, раздел 6, стр.659)",null,"млн. руб.",{"$f":"E337+E338+E339+E340+E341+E342","v":62.56000000000001},{"$f":"F337+F338+F339+F340+F341+F342","v":{"v":79.248509824,"d":"79.249"}},{"$f":"G337+G338+G339+G340+G341+G342","v":{"v":78.99218756799999,"d":"78.992"}},{"v":146.34037513599998,"d":"146.340"},{"v":150.92374764800002,"d":"150.924"},{"v":154.59705248,"d":"154.597"},{"v":158.40972665600003,"d":"158.410"}]
[null,"в том числе "]
["9.1.","Материальные затраты ",null,"млн.руб.",15.912,31.824,32.846,63.648,64.92,66.219,67.543]
["9.2.","Расходы на оплату труда",null,"млн. руб.",17.19,{"$f":"F334*F333*12/1000000","v":{"v":5.882112,"d":"5.882"}},{"$f":"G334*G333*6/1000000","v":{"v":4.874184,"d":"4.874"}},{"$f":"H334*H333*12/1000000","v":{"v":9.748368,"d":"9.748"}},{"v":10.528224,"d":"10.528"},{"v":11.37024,"d":"11.370"},{"v":12.280128,"d":"12.280"}]
["8.3.","Страховые взносы в Пенсионный фонд, ФСС, ФФОМС",null,"млн. руб.",5.192,{"$f":"F338*30.2%","v":{"v":1.776397824,"d":"1.776"}},{"$f":"G338*30.2%","v":{"v":1.4720035679999999,"d":"1.472"}},{"v":2.9440071359999997,"d":"2.944"},{"v":3.179523648,"d":"3.180"},{"v":3.4338124800000003,"d":"3.434"},{"v":3.708598656,"d":"3.709"}]
["8.4.","Амортизация (основные средства и нематериальные активы)",null,"млн. руб.",8.666,8.666,8.6,8.6,8.4,8.4,8.4]
["8.5.","Налоги и сборы, включаемые в себестоимость продукции (работ, услуг)",null,"млн. руб.",6.24,12.4,12.48,24.96,25.708,26.222,26.747]
["8.6.","Прочие расходы, связанные с производством и продажей продукции (товаров, работ, услуг)",null,"млн. руб.",9.36,{"v":18.7,"d":"18.700"},{"v":18.72,"d":"18.720"},{"v":36.44,"d":"36.440"},38.188,38.952,39.731]
["9.","Прибыль (+), убыток (-) до налогообложения ",null,"млн. руб.",-24.704,{"$f":"'расчет прибыли по предприятиям'!C96","v":{"v":-5.992629823999991,"d":"-5.993"}},{"$f":"'расчет прибыли по предприятиям'!D96","v":{"v":-6.567187567999994,"d":"-6.567"}},{"$f":"'расчет прибыли по предприятиям'!E96","v":{"v":-1.490375135999983,"d":"-1.490"}},{"$f":"'расчет прибыли по предприятиям'!F96","v":{"v":12.488722824440941,"d":"12.489"}},{"$f":"'расчет прибыли по предприятиям'!G96","v":{"v":31.15835940976382,"d":"31.158"}},{"$f":"'расчет прибыли по предприятиям'!H96","v":{"v":51.47840916177557,"d":"51.478"}}]
["10.","Наличие основных  фондов на конец года по полной учетной  стоимости (ф.№11стат.отчетн., стр. 01, гр.9)",null,"млн. руб.",287,287,287,287,287,287,287]
["11.","Наличие  основных  фондов на конец года по остаточной балансовой  стоимости (ф.№11стат.отчетн., стр. 01, гр.10)",null,"млн. руб.",90,90,90,90,90,90,90]
["12.","Среднегодовая остаточная стоимость основных средств ( за минусом необлагаемого налогом имущества) - налоговая база (форма по КНД 1152026, раздел 2,строка 190)",null,"млн. руб.",90,90,90,90,88,88,88]
["13.","Коэффициент загрузки (использования) производственной мощности (по основному виду выпускаемой продукции) ",null,"%",44,80,80,80,80,80,80]
["14.","Производство основных видов промышленной продукции**) (форма стат. отч. №1-натура-БМ) ",null,"в соответств. натур.ед. измер."]
[null," -  Камень строительный",null,"тыс. тонн.",92.3,{"$f":"'расчет темпов по предприятиям'!J199","v":398},{"$f":"'расчет темпов по предприятиям'!J219","v":289.7},{"$f":"'расчет темпов по предприятиям'!D209","v":508},{"$f":"'расчет темпов по предприятиям'!G209","v":550},{"$f":"'расчет темпов по предприятиям'!J209","v":600},{"$f":"'расчет темпов по предприятиям'!D219","v":650}]
[null," - "]
[null," - "]
[null," - "]
[null," - "]
[null," - "]
["15.","Инвестиции в основной капитал, всего",null,"млн. руб.",{"$f":"E357+E358","v":0},{"$f":"F357+F358","v":0},0,0,0,0,0]
[null,"в том числе по источникам:"]
[null," - собственные средства",null,"млн. руб."]
[null," - привлеченные средства",null,"млн. руб.",{"$f":"E360+E361+E362","v":0},{"$f":"F360+F361+F362","v":0},0,0,0,0,0]
[null,"           из них"]
[null,"                 кредиты банков",null,"млн. руб."]
[null,"                 федеральный бюджет",null,"млн. руб."]
[null,"                 бюджет области ",null,"млн. руб."]
[null," - прочие ",null,"млн. руб."]
[]
[]
["ПРОГНОЗ"]
["социально-экономического развития на 2018 год и на период до 2020 года"]
["ООО \"Строительные материалы - Тихий Дон\""]
["(организационно-правовая форма, наименование предприятия)"]
["Структура уставного капитала предприятия:*)",null,null,"Вид деятельности по ОКВЭД2 (основной):"]
["доля государственной  (федеральной) собственности _______%,",null,null,"1.Код вида деятельности 08..12..12"]
["доля государственной (областной) собственности ________%,",null,null,"2.Наименование вида деятельности ______________________________________"]
["доля муниципальной собственности ______%,"]
["другие собственники 100%"]
[]
["№ п/п ","Показатели ",null,"Единица измерения"," отчет",null,"2017г.",null,"прогноз"]
[{"$nulls":4},"2015г.","2016г.","январь-июнь, отчет","январь-декабрь, оценка","2018г. ","2019г. ","2020г. "]
[]
["1.","Оборот организации (без НДС, акцизов и других аналогичных обязательных платежей) - всего (№ 1-предприятие, раздел 5, стр.501 или раздел 8, стр. 801)",null,"млн. руб.",110.447,{"v":218.9,"d":"218.900"},{"v":140.2,"d":"140.200"},{"v":300.4,"d":"300.400"},312.416,324.912,337.909]
["2.","Отгружено товаров собственного производства, выполнено работ и услуг собственными силами (нарастающим итогом с начала года, на основании данных раздела 2 формы стат. отчет. № П-1 и (или) раздела 8, стр. 801 формы стат. отчет. № 1-предприятие)",null,"млн. руб.",110.447,{"$f":"F383","v":{"v":169.9503,"d":"169.950"}},{"$f":"G383","v":115.049},230.098,{"v":259.5849681102363,"d":"259.585"},{"v":295.077312840945,"d":"295.077"},{"v":333.41277373419774,"d":"333.413"}]
["2.1.","в том числе по  видам деятельности  (№ П-1, раздел 2):",null,"млн. руб."]
[null,"код по ОКВЭД2","наименование вида деятельности"]
[null,"08..12..12"," - нерудные материалы","млн. руб.",110.447,{"v":169.9503,"d":"169.950"},115.049,230.098,{"$f":"H383*I392/100*I394/100","v":{"v":259.5849681102363,"d":"259.585"}},{"$f":"I383*J392/100*J394/100","v":{"v":295.077312840945,"d":"295.077"}},{"$f":"J383*K392/100*K394/100","v":{"v":333.41277373419774,"d":"333.413"}}]
[null,null," -","млн. руб."]
[null,null," -","млн. руб."]
[null,null," -","млн. руб."]
[null,null," -","млн. руб."]
[null,null," -","млн. руб."]
[null,null," -","млн. руб."]
[null,null," -","млн. руб."]
["3.","Отгружено товаров собственного производства, выполнено работ и услуг собственными силами по промышленным видам экономической деятельности  (из стр.2.1 настоящей формы - сумма строк с кодами от 05 до 39 включительно) - всего",null,"млн. руб.",110.447,{"$f":"F383","v":{"v":169.9503,"d":"169.950"}},{"$f":"G383","v":115.049},230.098,{"v":259.5849681102363,"d":"259.585"},{"v":295.077312840945,"d":"295.077"},{"v":333.41277373419774,"d":"333.413"}]
["4.","Темп роста (снижения) промышленного производства в сопоставимых ценах (ценах 2010г.)",null,"в % к предыдущему году",{"v":67,"d":"67.0"},{"$f":"'расчет темпов по предприятиям'!L239","v":{"v":171.46654851572882,"d":"171.5"}},{"$f":"'расчет темпов по предприятиям'!L259","v":{"v":287.57062146892656,"d":"287.6"}},{"$f":"'расчет темпов по предприятиям'!F249","v":{"v":131.26614987080103,"d":"131.3"}},{"$f":"'расчет темпов по предприятиям'!I249","v":{"v":108.26771653543308,"d":"108.3"}},{"$f":"'расчет темпов по предприятиям'!L249","v":{"v":109.09090909090911,"d":"109.1"}},{"$f":"'расчет темпов по предприятиям'!F259","v":{"v":108.33333333333333,"d":"108.3"}}]
["5.","Индекс цен производителей промышленных товаров (фактически сложившийся на предприятии)",null,"в % к предыдущему году",146.2,{"$f":"F379/E379*100/F392*100","v":{"v":115.58791548246663,"d":"115.6"}},{"$f":"G379/47.805*100/G392*100","v":{"v":101.98356165734693,"d":"102.0"}},{"$f":"H379/F379*100/H392*100","v":{"v":104.54455527458335,"d":"104.5"}},"х","х","х"]
["6.","Индекс-дефлятор оптовых цен",null,"в % к предыдущему году","х","х","х","х",104.2,104.2,104.3]
["7.","Среднесписочная численность работающих ",null,"человек",123,167,177,177,178,182,185]
["8.","Среднемесячная заработная плата ",null,"руб.",16650,23288,32918,24918,26911,29064,31390]
["9.","Расходы на производство и продажу продукции (товаров, работ и услуг) - итого*) (№ 1-предприятие, раздел 6, стр.659)",null,"млн. руб.",{"$f":"+E399+E400+E401+E402+E403+E404","v":144.247},{"$f":"F399+F400+F401+F402+F403+F404","v":{"v":251.65323590399998,"d":"251.653"}},{"$f":"G399+G400+G401+G402+G403+G404","v":{"v":156.31650863200002,"d":"156.317"}},{"v":286.509433264,"d":"286.509"},{"v":294.639428592,"d":"294.639"},{"v":306.479460352,"d":"306.479"},{"v":318.60591159999996,"d":"318.606"}]
[null,"в том числе "]
["9.1.","Материальные затраты ",null,"млн.руб.",{"v":80,"d":"80.000"},{"v":122.7,"d":"122.700"},{"v":92.1,"d":"92.100"},{"v":180.2,"d":"180.200"},182.002,{"v":185.64,"d":"185.640"},{"v":189.35,"d":"189.350"}]
["9.2.","Расходы на оплату труда",null,"млн. руб.",24.575,{"$f":"F396*F395*12/1000000","v":{"v":46.669152,"d":"46.669"}},{"$f":"G396*G395*6/1000000","v":{"v":34.958916,"d":"34.959"}},{"$f":"H396*H395*12/1000000","v":{"v":52.925832,"d":"52.926"}},{"v":57.481896,"d":"57.482"},{"v":63.475776,"d":"63.476"},{"v":69.6858,"d":"69.686"}]
["8.3.","Страховые взносы в Пенсионный фонд, ФСС, ФФОМС",null,"млн. руб.",7.422,{"$f":"F400*30.2%","v":{"v":14.094083903999998,"d":"14.094"}},{"$f":"G400*30.2%","v":{"v":10.557592632,"d":"10.558"}},{"v":15.983601263999999,"d":"15.984"},{"v":17.359532592,"d":"17.360"},{"v":19.169684352,"d":"19.170"},{"v":21.0451116,"d":"21.045"}]
["8.4.","Амортизация (основные средства и нематериальные активы)",null,"млн. руб.",{"v":7,"d":"7.000"},{"v":6.39,"d":"6.390"},{"v":3.9,"d":"3.900"},{"v":7.8,"d":"7.800"},{"v":7.9,"d":"7.900"},{"v":8,"d":"8.000"},{"v":8.03,"d":"8.030"}]
["8.5.","Налоги и сборы, включаемые в себестоимость продукции (работ, услуг)",null,"млн. руб."]
["8.6.","Прочие расходы, связанные с производством и продажей продукции (товаров, работ, услуг)",null,"млн. руб.",25.25,61.8,14.8,29.6,29.896,30.194,30.495]
["9.","Прибыль (+), убыток (-) до налогообложения ",null,"млн. руб.",-33.8,{"$f":"'расчет прибыли по предприятиям'!C112","v":-43.95},{"$f":"'расчет прибыли по предприятиям'!D112","v":-28.74},{"$f":"'расчет прибыли по предприятиям'!E112","v":-2.11},{"$f":"'расчет прибыли по предприятиям'!F112","v":5.28},{"$f":"'расчет прибыли по предприятиям'!G112","v":5.43},{"$f":"'расчет прибыли по предприятиям'!H112","v":5.8}]
["10.","Наличие основных  фондов на конец года по полной учетной  стоимости (ф.№11стат.отчетн., стр. 01, гр.9)",null,"млн. руб.",88,89.3,96.3,96.3,96.3,96,96]
["11.","Наличие  основных  фондов на конец года по остаточной балансовой  стоимости (ф.№11стат.отчетн., стр. 01, гр.10)",null,"млн. руб.",57,57,53,46,46,44.6,44.6]
["12.","Среднегодовая остаточная стоимость основных средств ( за минусом необлагаемого налогом имущества) - налоговая база (форма по КНД 1152026, раздел 2,строка 190)",null,"млн. руб.",55,55,49,49,49,49,49]
["13.","Коэффициент загрузки (использования) производственной мощности (по основному виду выпускаемой продукции) ",null,"%",50,50,50,50,60,60,60]
["14.","Производство основных видов промышленной продукции**) (форма стат. отч. №1-натура-БМ) ",null,"в соответств. натур.ед. измер."]
[null," -  Нерудные материалы",null,"тыс. тонн.",225.7,387.3,{"$f":"'расчет темпов по предприятиям'!J254","v":254.5},{"$f":"'расчет темпов по предприятиям'!D244","v":508},{"$f":"'расчет темпов по предприятиям'!G244","v":550},{"$f":"'расчет темпов по предприятиям'!J244","v":600},{"$f":"'расчет темпов по предприятиям'!D254","v":650}]
[null," - "]
[null," - "]
[null," - "]
[null," - "]
[null," - "]
["15.","Инвестиции в основной капитал, всего",null,"млн. руб.",{"$f":"E419+E420","v":0},{"$f":"F419+F420","v":1.4158},0,1.415,1.478,1.544,1.607]
[null,"в том числе по источникам:"]
[null," - собственные средства",null,"млн. руб.",null,1.4158,null,1.415,1.478,1.544,1.607]
[null," - привлеченные средства",null,"млн. руб.",{"$f":"E422+E423+E424","v":0},{"$f":"F422+F423+F424","v":0},0,0,0,0,0]
[null,"           из них",{"$nulls":13},"выпуск","%",null,"отгрузка","%"]
[null,"                 кредиты банков",null,"млн. руб.",{"$nulls":11},544.273,{"$f":"P422/P430*100","v":{"v":49.25592086806215,"d":"49"}},null,544.273,{"$f":"S422/S430*100","v":{"v":52.76780529139104,"d":"53"}}]
[null,"                 федеральный бюджет",null,"млн. руб.",{"$nulls":11},77.798,{"$f":"P423/P430*100","v":{"v":7.040606702323096,"d":"7"}},null,77.798,{"$f":"S423/S430*100","v":{"v":7.542592992964267,"d":"8"}}]
[null,"                 бюджет области ",null,"млн. руб.",{"$nulls":11},86.46,{"$f":"P424/P430*100","v":{"v":7.824505199142072,"d":"8"}},null,61.869,{"$f":"S424/S430*100","v":{"v":5.998260699268698,"d":"6"}}]
[null," - прочие ",null,"млн. руб.",{"$nulls":11},23.144,{"$f":"P425/P430*100","v":{"v":2.094498592747445,"d":"2"}},null,23.144,{"$f":"S425/S430*100","v":{"v":2.243833674762397,"d":"2"}}]
[{"$nulls":15},16.663,{"$f":"P426/P430*100","v":{"v":1.5079774477597079,"d":"2"}},null,16.663,{"$f":"S426/S430*100","v":{"v":1.6154943191568367,"d":"2"}}]
[{"$nulls":15},73.256,{"$f":"P427/P430*100","v":{"v":6.629562258481976,"d":"7"}},null,73.256,{"$f":"S427/S430*100","v":{"v":7.10224160380203,"d":"7"}}]
["ПРОГНОЗ",{"$nulls":14},218.9,{"$f":"P428/P430*100","v":{"v":19.810134028362246,"d":"20"}},null,169.95,{"$f":"S428/S430*100","v":{"v":16.47682047294631,"d":"16"}}]
["социально-экономического развития на 2018 год и на период до 2020 года",{"$nulls":14},64.496,{"$f":"P429/P430*100","v":{"v":5.836794903121294,"d":"6"}},null,64.496,{"$f":"S429/S430*100","v":{"v":6.252950945708415,"d":"6"}}]
["МКУП \"Богучаркоммунсервис\"",{"$nulls":14},{"$f":"SUM(P422:P429)","v":1104.9900000000002},{"$f":"SUM(Q422:Q429)","v":{"v":99.99999999999999,"d":"100.0"}},null,{"$f":"SUM(S422:S429)","v":1031.449},{"$f":"SUM(T422:T429)","v":100.00000000000001}]
["(организационно-правовая форма, наименование предприятия)"]
["Структура уставного капитала предприятия:*)",null,null,"Вид деятельности по ОКВЭД2 (основной):"]
["доля государственной  (федеральной) собственности _______%,",null,null,"1.Код вида деятельности 36..00..2"]
["доля государственной (областной) собственности ________%,",null,null,"2.Наименование вида деятельности: Распределение воды"]
["доля муниципальной собственности ______%,"]
["другие собственники_______%"]
[]
["№ п/п ","Показатели ",null,"Единица измерения"," отчет",null,"2017г.",null,"прогноз"]
[{"$nulls":4},"2015г.","2016г.","январь-июнь, отчет","январь-декабрь, оценка","2018г. ","2019г. ","2020г. "]
[]
["1.","Оборот организации (без НДС, акцизов и других аналогичных обязательных платежей) - всего (№ 1-предприятие, раздел 5, стр.501 или раздел 8, стр. 801)",null,"млн. руб.",64.799,{"$f":"F445+F446+F447+F448","v":{"v":64.4961,"d":"64.496"}},{"$f":"G445+G446+G447+G448","v":{"v":36.1441,"d":"36.144"}},{"v":70.07,"d":"70.070"},{"v":74.11914162307087,"d":"74.119"},{"v":78.62558543375357,"d":"78.626"},{"v":84.21213398765413,"d":"84.212"}]
["2.","Отгружено товаров собственного производства, выполнено работ и услуг собственными силами (нарастающим итогом с начала года, на основании данных раздела 2 формы стат. отчет. № П-1 и (или) раздела 8, стр. 801 формы стат. отчет. № 1-предприятие)",null,"млн. руб.",{"$f":"E445+E446+E447+E448","v":64.799},{"$f":"F445+F446+F447+F448","v":{"v":64.4961,"d":"64.496"}},{"$f":"G445+G446+G447+G448","v":{"v":36.1441,"d":"36.144"}},{"v":70.07,"d":"70.070"},{"v":74.11914162307087,"d":"74.119"},{"v":78.62558543375357,"d":"78.626"},{"v":84.21213398765413,"d":"84.212"}]
["2.1.","в том числе по  видам деятельности  (№ П-1, раздел 2):",null,"млн. руб."]
[null,"код по ОКВЭД2","наименование вида деятельности"]
[null,"36..00.2"," - Распределение воды","млн. руб.",22.327,{"v":24.6353,"d":"24.635"},{"v":13.5453,"d":"13.545"},23.955,{"$f":"H445*I454/100*I456/100","v":{"v":25.339289818476704,"d":"25.339"}},{"$f":"I445*J454/100*J456/100","v":{"v":26.879918639440085,"d":"26.880"}},{"$f":"J445*K454/100*K456/100","v":{"v":28.78980547558519,"d":"28.790"}}]
[null,"35..30..14"," - Производство пара и грячей воды (тепловой энергии ) котельными","млн. руб.",{"v":30.87,"d":"30.870"},{"v":26.3544,"d":"26.354"},{"v":15.0352,"d":"15.035"},30.953,{"$f":"H446*I454/100*I456/100","v":{"v":32.741683896944664,"d":"32.742"}},{"$f":"I446*J454/100*J456/100","v":{"v":34.732378277878894,"d":"34.732"}},{"$f":"J446*K454/100*K456/100","v":{"v":37.20020241643867,"d":"37.200"}}]
[null,"37..00"," -  Удаление и обработка сточных вод","млн. руб.",{"v":10.69,"d":"10.690"},{"v":11.3987,"d":"11.399"},{"v":6.5147,"d":"6.515"},12.729,{"$f":"H447*I454/100*I456/100","v":{"v":13.464571909805466,"d":"13.465"}},{"$f":"I447*J454/100*J456/100","v":{"v":14.283217881921637,"d":"14.283"}},{"$f":"J447*K454/100*K456/100","v":{"v":15.298076973438691,"d":"15.298"}}]
[null,"35..30..3"," - Передача пара и горячей воды","млн. руб.",0.912,{"v":2.1077,"d":"2.108"},{"v":1.0489,"d":"1.049"},2.433,{"$f":"H448*I454/100*I456/100","v":{"v":2.5735959978440333,"d":"2.574"}},{"$f":"I448*J454/100*J456/100","v":{"v":2.7300706345129497,"d":"2.730"}},{"$f":"J448*K454/100*K456/100","v":{"v":2.9240491221915574,"d":"2.924"}}]
[null,null," -","млн. руб."]
[null,null," -","млн. руб."]
[null,null," -","млн. руб."]
[null,null," -","млн. руб."]
["3.","Отгружено товаров собственного производства, выполнено работ и услуг собственными силами по промышленным видам экономической деятельности  (из стр.2.1 настоящей формы - сумма строк с кодами от 05 до 39 включительно) - всего",null,"млн. руб.",{"$f":"E445+E446+E448","v":54.109},{"$f":"F445+F446+F447+F448","v":{"v":64.4961,"d":"64.496"}},{"$f":"G445+G446+G447+G448","v":{"v":36.1441,"d":"36.144"}},{"v":70.07,"d":"70.070"},{"v":74.11914162307087,"d":"74.119"},{"v":78.62558543375357,"d":"78.626"},{"v":84.21213398765413,"d":"84.212"}]
["4.","Темп роста (снижения) промышленного производства в сопоставимых ценах (ценах 2010г.)",null,"в % к предыдущему году",107,{"$f":"'расчет темпов по предприятиям'!L274","v":{"v":99.16520738055324,"d":"99.2"}},{"$f":"'расчет темпов по предприятиям'!L294","v":{"v":113.00562696673605,"d":"113.0"}},{"$f":"'расчет темпов по предприятиям'!F284","v":{"v":101.09992651036914,"d":"101.1"}},{"$f":"'расчет темпов по предприятиям'!I284","v":{"v":102.00454129569407,"d":"102.0"}},{"$f":"'расчет темпов по предприятиям'!L284","v":101.99999999999999},{"$f":"'расчет темпов по предприятиям'!F294","v":{"v":102.98582237659033,"d":"103.0"}}]
["5.","Индекс цен производителей промышленных товаров (фактически сложившийся на предприятии)",null,"в % к предыдущему году",104.9,{"$f":"F441/E441*100/F454*100","v":{"v":100.37043953608364,"d":"100.4"}},{"$f":"G441/31.0629*100/G454*100","v":{"v":102.96635699247648,"d":"103.0"}},{"$f":"H441/F441*100/H454*100","v":{"v":107.46024426489922,"d":"107.5"}},"х","х","х"]
["6.","Индекс-дефлятор оптовых цен",null,"в % к предыдущему году","х","х","х","х",103.7,{"v":104,"d":"104.0"},{"v":104,"d":"104.0"}]
["7.","Среднесписочная численность работающих ",null,"человек",153,155,155,155,155,155,155]
["8.","Среднемесячная заработная плата ",null,"руб.",12898,13373,13894,14309,15454,16690,18025]
["9.","Расходы на производство и продажу продукции (товаров, работ и услуг) - итого*) (№ 1-предприятие, раздел 6, стр.659)",null,"млн. руб.",{"$f":"E461+E462+E463+E464+E465+E466","v":65.886},{"$f":"F461+F462+F463+F464+F465+F466","v":70.155},{"$f":"G461+G462+G463+G464+G465+G466","v":{"v":39.228688840000004,"d":"39.229"}},{"v":69.37039148,"d":"69.370"},{"v":73.93526087999999,"d":"73.935"},{"v":77.65050679999999,"d":"77.651"},{"v":83.10250299999997,"d":"83.103"}]
[null,"в том числе "]
["9.1.","Материальные затраты ",null,"млн.руб.",31.803,34.111,18.587,32.168,{"v":33.83,"d":"33.830"},34.142,35.951]
["9.2.","Расходы на оплату труда",null,"млн. руб.",23.681,{"v":24.87,"d":"24.870"},{"$f":"G458*G457*6/1000000","v":{"v":12.92142,"d":"12.921"}},{"$f":"H458*H457*12/1000000","v":{"v":26.61474,"d":"26.615"}},{"v":28.74444,"d":"28.744"},{"v":31.0434,"d":"31.043"},{"v":33.5265,"d":"33.527"}]
["8.3.","Страховые взносы в Пенсионный фонд, ФСС, ФФОМС",null,"млн. руб.",7.152,{"v":7.43,"d":"7.430"},{"$f":"G462*30.2%","v":{"v":3.9022688399999996,"d":"3.902"}},{"$f":"H462*30.2%","v":{"v":8.037651480000001,"d":"8.038"}},{"v":8.68082088,"d":"8.681"},{"v":9.3751068,"d":"9.375"},{"v":10.125003,"d":"10.125"}]
["8.4.","Амортизация (основные средства и нематериальные активы)",null,"млн. руб.",{"v":0.19,"d":"0.190"},{"v":0.23,"d":"0.230"},{"v":0.18,"d":"0.180"},{"v":0.1,"d":"0.100"},{"v":0.1,"d":"0.100"},{"v":0.1,"d":"0.100"},{"v":0.1,"d":"0.100"}]
["8.5.","Налоги и сборы, включаемые в себестоимость продукции (работ, услуг)",null,"млн. руб.",{"v":0.92,"d":"0.920"},{"v":0.97,"d":"0.970"},{"v":0.49,"d":"0.490"},{"v":0.57,"d":"0.570"},{"v":0.57,"d":"0.570"},{"v":0.57,"d":"0.570"},{"v":0.57,"d":"0.570"}]
["8.6.","Прочие расходы, связанные с производством и продажей продукции (товаров, работ, услуг)",null,"млн. руб.",{"v":2.14,"d":"2.140"},2.544,3.148,{"v":1.88,"d":"1.880"},{"v":2.01,"d":"2.010"},{"v":2.42,"d":"2.420"},{"v":2.83,"d":"2.830"}]
["9.","Прибыль (+), убыток (-) до налогообложения ",null,"млн. руб.",-1.083,{"$f":"'расчет прибыли по предприятиям'!C128","v":{"v":-5.658900000000003,"d":"-5.659"}},{"$f":"'расчет прибыли по предприятиям'!D128","v":{"v":-3.084588840000002,"d":"-3.085"}},{"$f":"'расчет прибыли по предприятиям'!E128","v":{"v":0.6996085199999982,"d":"0.700"}},{"$f":"'расчет прибыли по предприятиям'!F128","v":{"v":0.18388074307088687,"d":"0.184"}},{"$f":"'расчет прибыли по предприятиям'!G128","v":{"v":0.9750786337535828,"d":"0.975"}},{"$f":"'расчет прибыли по предприятиям'!H128","v":{"v":1.1096309876541568,"d":"1.110"}}]
["10.","Наличие основных  фондов на конец года по полной учетной  стоимости (ф.№11стат.отчетн., стр. 01, гр.9)",null,"млн. руб."]
["11.","Наличие  основных  фондов на конец года по остаточной балансовой  стоимости (ф.№11стат.отчетн., стр. 01, гр.10)",null,"млн. руб."]
["12.","Среднегодовая остаточная стоимость основных средств ( за минусом необлагаемого налогом имущества) - налоговая база (форма по КНД 1152026, раздел 2,строка 190)",null,"млн. руб."]
["13.","Коэффициент загрузки (использования) производственной мощности (по основному виду выпускаемой продукции) ",null,"%",90,90,90,90,90,90,90]
["14.","Производство основных видов промышленной продукции**) (форма стат. отч. №1-натура-БМ) ",null,"в соответств. натур.ед. измер."]
[null," -  Распределение воды",null,"тыс. м. куб.",634.9,{"$f":"'расчет темпов по предприятиям'!J269","v":677.3},{"$f":"'расчет темпов по предприятиям'!J289","v":365.8},{"$f":"'расчет темпов по предприятиям'!D279","v":648.065},{"$f":"'расчет темпов по предприятиям'!G279","v":654.55},{"$f":"'расчет темпов по предприятиям'!J279","v":667.641},{"$f":"'расчет темпов по предприятиям'!D289","v":687.67}]
[null," - Производство пара и горячей воды (тепловой энергии) котельными",null,"тыс. Гкалл",16.3,{"$f":"'расчет темпов по предприятиям'!J270","v":13.96},{"$f":"'расчет темпов по предприятиям'!J290","v":7.8},{"$f":"'расчет темпов по предприятиям'!D280","v":{"v":14.5,"d":"14.50"}},{"$f":"'расчет темпов по предприятиям'!G280","v":15},{"$f":"'расчет темпов по предприятиям'!J280","v":15.3},{"$f":"'расчет темпов по предприятиям'!D290","v":15.6}]
[null," -  Удаление и обработка сточных вод",null,"тыс. м. куб.",292.6,{"$f":"'расчет темпов по предприятиям'!J271","v":301.88},{"$f":"'расчет темпов по предприятиям'!J291","v":169.4},{"$f":"'расчет темпов по предприятиям'!D281","v":325.37},{"$f":"'расчет темпов по предприятиям'!G281","v":329.6},{"$f":"'расчет темпов по предприятиям'!J281","v":336.192},{"$f":"'расчет темпов по предприятиям'!D291","v":353.01}]
[null," -  Передача пара и горячей воды",null,"тыс. Гкалл",2.2,{"$f":"'расчет темпов по предприятиям'!J272","v":5.03},{"$f":"'расчет темпов по предприятиям'!J292","v":2.4},{"$f":"'расчет темпов по предприятиям'!D282","v":5.242},{"$f":"'расчет темпов по предприятиям'!G282","v":5.4},{"$f":"'расчет темпов по предприятиям'!J282","v":5.508},{"$f":"'расчет темпов по предприятиям'!D292","v":5.61}]
[null," - "]
[null," - "]
["15.","Инвестиции в основной капитал, всего",null,"млн. руб.",{"$f":"E481+E482","v":0.467},{"$f":"F481+F482","v":0.311},0.272,0.327,0.342,0.357,0.372]
[null,"в том числе по источникам:"]
[null," - собственные средства",null,"млн. руб.",0.467,0.311,0.272,0.327,0.342,0.357,0.372]
[null," - привлеченные средства",null,"млн. руб.",{"$f":"E484+E485+E486","v":0},{"$f":"F484+F485+F486","v":0},0,0,0,0,0]
[null,"           из них"]
[null,"                 кредиты банков",null,"млн. руб."]
[null,"                 федеральный бюджет",null,"млн. руб."]
[null,"                 бюджет области ",null,"млн. руб."]
[null," - прочие ",null,"млн. руб."]

{"sheet":"расчет прибыли по предприятиям","index":1,"n_rows":136,"n_cols":8,"rows_kept":136,"merged":[[0,6,0,7],[1,0,1,7],[2,0,2,7],[3,0,3,7],[4,0,4,7],[6,0,8,0],[6,1,6,2],[6,3,6,4],[6,5,6,7],[7,1,8,1],[7,2,8,2],[7,3,8,3],[7,4,8,4],[7,5,8,5],[7,6,8,6],[7,7,8,7],[17,0,17,7],[18,0,18,7],[19,0,19,7],[20,0,20,7],[22,0,24,0],[22,1,22,2],[22,3,22,4],[22,5,22,7],[23,1,24,1],[23,2,24,2],[23,3,24,3],[23,4,24,4],[23,5,24,5],[23,6,24,6],[23,7,24,7],[33,0,33,7],[34,0,34,7],[35,0,35,7],[36,0,36,7],[38,0,40,0],[38,1,38,2],[38,3,38,4],[38,5,38,7],[39,1,40,1],[39,2,40,2],[39,3,40,3],[39,4,40,4],[39,5,40,5],[39,6,40,6],[39,7,40,7],[49,0,49,7],[50,0,50,7],[51,0,51,7],[52,0,52,7],[54,0,56,0],[54,1,54,2],[54,3,54,4],[54,5,54,7],[55,1,56,1],[55,2,56,2],[55,3,56,3],[55,4,56,4],[55,5,56,5],[55,6,56,6],[55,7,56,7],[65,0,65,7],[66,0,66,7],[67,0,67,7],[68,0,68,7],[70,0,72,0],[70,1,70,2],[70,3,70,4],[70,5,70,7],[71,1,72,1],[71,2,72,2],[71,3,72,3],[71,4,72,4],[71,5,72,5],[71,6,72,6],[71,7,72,7],[81,0,81,7],[82,0,82,7],[83,0,83,7],[84,0,84,7],[86,0,88,0],[86,1,86,2],[86,3,86,4],[86,5,86,7],[87,1,88,1],[87,2,88,2],[87,3,88,3],[87,4,88,4],[87,5,88,5],[87,6,88,6],[87,7,88,7],[97,0,97,7],[98,0,98,7],[99,0,99,7],[100,0,100,7],[102,0,104,0],[102,1,102,2],[102,3,102,4],[102,5,102,7],[103,1,104,1],[103,2,104,2],[103,3,104,3],[103,4,104,4],[103,5,104,5],[103,6,104,6],[103,7,104,7],[113,0,113,7],[114,0,114,7],[115,0,115,7],[116,0,116,7],[118,0,120,0],[118,1,118,2],[118,3,118,4],[118,5,118,7],[119,1,120,1],[119,2,120,2],[119,3,120,3],[119,4,120,4],[119,5,120,5],[119,6,120,6],[119,7,120,7],[130,1,130,3],[130,4,130,5],[132,2,132,3]]}
[{"$nulls":6},"Таблица № 1а"]
["ПРОГНОЗ*)"]
["прибыли  на 2018 год и на период до 2020 года"]
["ООО \"Агро-Спутник\""]
["(организационно-правовая форма, наименование предприятия)"]
[{"$nulls":7},"(млн.руб.)"]
["Показатели"," отчет",null,"2017г.",null,"прогноз"]
[null,"2015г.","2016г.","январь-июнь, отчет","январь-декабрь, оценка","2018г. ","2019г. ","2020г. "]
[]
["1. Выручка  (за минусом НДС, акцизов)",468.26,{"$f":"'форма для предприятий '!F15","v":{"v":544.2734,"d":"544.273"}},{"$f":"'форма для предприятий '!G15","v":{"v":340.14840000000004,"d":"340.148"}},{"$f":"'форма для предприятий '!H15","v":{"v":635.0779999999999,"d":"635.078"}},{"$f":"'форма для предприятий '!I15","v":{"v":675.6623051928982,"d":"675.662"}},{"$f":"'форма для предприятий '!J15","v":{"v":723.2469715107759,"d":"723.247"}},{"$f":"'форма для предприятий '!K15","v":{"v":786.0369795813134,"d":"786.037"}}]
["2. Себестоимость продаж",302.974,{"v":338.6,"d":"338.600"},{"v":223.7,"d":"223.700"},{"v":450,"d":"450.000"},{"v":450,"d":"450.000"},{"v":455,"d":"455.000"},{"v":460,"d":"460.000"}]
["3. Валовая прибыль (убыток)",165.287,{"$f":"C10-C11","v":{"v":205.67340000000002,"d":"205.673"}},{"$f":"D10-D11","v":{"v":116.44840000000005,"d":"116.448"}},{"v":185.07799999999986,"d":"185.078"},{"v":225.6623051928982,"d":"225.662"},{"v":305,"d":"305.000"},{"v":305,"d":"305.000"}]
["4. Коммерческие расходы",18.5,{"v":33.9,"d":"33.900"},{"v":9.3,"d":"9.300"},{"v":17,"d":"17.000"},{"v":18,"d":"18.000"},{"v":19,"d":"19.000"},{"v":19,"d":"19.000"}]
["5. Управленческие расходы",12.8,{"v":12.5,"d":"12.500"},{"v":7,"d":"7.000"},{"v":13,"d":"13.000"},{"v":14,"d":"14.000"},{"v":15,"d":"15.000"},{"v":15,"d":"15.000"}]
["6. Прибыль (убыток) от продаж",133.987,{"$f":"C12-C13-C14","v":{"v":159.2734,"d":"159.273"}},{"v":127.7,"d":"127.700"},{"$f":"E12-E13-E14","v":{"v":155.07799999999986,"d":"155.078"}},{"v":193.6623051928982,"d":"193.662"},{"v":271,"d":"271.000"},{"v":271,"d":"271.000"}]
["7. Прибыль (убыток) до налогообложения",109.9,{"v":148.3,"d":"148.300"},{"v":94.6,"d":"94.600"},125.613,181.335,196.332,{"v":200,"d":"200.000"}]
[]
["ПРОГНОЗ*)"]
["прибыли  на 2018 год и на период до 2020 года"]
["ООО \"Богучарский ЗРМ\""]
["(организационно-правовая форма, наименование предприятия)"]
[{"$nulls":7},"(млн.руб.)"]
["Показатели"," отчет",null,"2017г.",null,"прогноз"]
[null,"2015г.","2016г.","январь-июнь, отчет","январь-декабрь, оценка","20178г. ","2019г. ","2020г. "]
[]
["1. Выручка  (за минусом НДС, акцизов)",{"$f":"'форма для предприятий '!E79","v":74.094},{"$f":"'форма для предприятий '!F79","v":77.798},{"$f":"'форма для предприятий '!G79","v":{"v":48.336999999999996,"d":"48.337"}},{"$f":"'форма для предприятий '!H79","v":82.015},{"$f":"'форма для предприятий '!I79","v":{"v":91.4181910392344,"d":"91.418"}},{"$f":"'форма для предприятий '!J79","v":{"v":101.86013134672936,"d":"101.860"}},{"$f":"'форма для предприятий '!K79","v":{"v":113.1127688621084,"d":"113.113"}}]
["2. Себестоимость продаж",{"$f":"'форма для предприятий '!E97","v":{"v":63.29704,"d":"63.297"}},{"$f":"'форма для предприятий '!F97","v":{"v":74.948662,"d":"74.949"}},{"$f":"'форма для предприятий '!G97","v":{"v":46.852844440000005,"d":"46.853"}},{"$f":"'форма для предприятий '!H97","v":{"v":78.58468888000002,"d":"78.585"}},{"$f":"'форма для предприятий '!I97","v":{"v":83.19800528,"d":"83.198"}},{"$f":"'форма для предприятий '!J97","v":{"v":89.11709072,"d":"89.117"}},{"$f":"'форма для предприятий '!K97","v":{"v":99.19541296,"d":"99.195"}}]
["3. Валовая прибыль (убыток)",{"$f":"B26-B27","v":{"v":10.796959999999991,"d":"10.797"}},{"$f":"C26-C27","v":{"v":2.849338000000003,"d":"2.849"}},{"$f":"D26-D27","v":{"v":1.4841555599999907,"d":"1.484"}},{"v":3.4303111199999847,"d":"3.430"},{"v":8.220185759234397,"d":"8.220"},{"v":12.743040626729368,"d":"12.743"},{"v":13.917355902108397,"d":"13.917"}]
["4. Коммерческие расходы",1.52,1.596,0.83,1.675,1.759,1.865,1.977]
["5. Управленческие расходы",1.52,1.581,0.83,1.661,1.744,1.831,1.922]
["6. Прибыль (убыток) от продаж",{"$f":"B28-B29-B30","v":{"v":7.756959999999992,"d":"7.757"}},{"$f":"C28-C29-C30","v":{"v":-0.327661999999997,"d":"-0.328"}},{"$f":"D28-D29-D30","v":{"v":-0.1758444400000092,"d":"-0.176"}},{"v":0.09431111999998465,"d":"0.094"},{"v":4.717185759234397,"d":"4.717"},{"v":9.047040626729368,"d":"9.047"},{"v":10.018355902108397,"d":"10.018"}]
["7. Прибыль (убыток) до налогообложения",{"$f":"B31","v":{"v":7.756959999999992,"d":"7.757"}},{"$f":"C31","v":{"v":-0.327661999999997,"d":"-0.328"}},{"$f":"D31","v":{"v":-0.1758444400000092,"d":"-0.176"}},{"v":0.09431111999998465,"d":"0.094"},{"v":4.717185759234397,"d":"4.717"},{"v":9.047040626729368,"d":"9.047"},{"v":10.018355902108397,"d":"10.018"}]
[]
["ПРОГНОЗ*)"]
["прибыли  на 2018 год и на период до 2020 года"]
["ОАО \"Богучармолоко\""]
["(организационно-правовая форма, наименование предприятия)"]
[{"$nulls":7},"(млн.руб.)"]
["Показатели"," отчет",null,"2017г.",null,"прогноз"]
[null,"2015г.","2016г.","январь-июнь, отчет","январь-декабрь, оценка","2018г. ","2019г. ","2020г. "]
[]
["1. Выручка  (за минусом НДС, акцизов)",73.877,{"$f":"'форма для предприятий '!F139","v":{"v":86.46110000000002,"d":"86.461"}},{"$f":"'форма для предприятий '!G139","v":{"v":43.616099999999996,"d":"43.616"}},{"$f":"'форма для предприятий '!H139","v":87.086},{"$f":"'форма для предприятий '!I139","v":{"v":93.03532320844829,"d":"93.035"}},{"$f":"'форма для предприятий '!J139","v":{"v":98.62276083275397,"d":"98.623"}},{"$f":"'форма для предприятий '!K139","v":{"v":105.5069629230564,"d":"105.507"}}]
["2. Себестоимость продаж",47.515,{"$f":"'форма для предприятий '!F155","v":{"v":51.536219599999995,"d":"51.536"}},{"$f":"'форма для предприятий '!G155","v":{"v":27.413990784,"d":"27.414"}},{"$f":"'форма для предприятий '!H155","v":{"v":54.747981568,"d":"54.748"}},{"$f":"'форма для предприятий '!I155","v":{"v":59.17045891999999,"d":"59.170"}},{"$f":"'форма для предприятий '!J155","v":{"v":63.53442127999999,"d":"63.534"}},{"$f":"'форма для предприятий '!K155","v":{"v":67.73502376,"d":"67.735"}}]
["3. Валовая прибыль (убыток)",26.362,{"$f":"C42-C43","v":{"v":34.92488040000002,"d":"34.925"}},{"$f":"D42-D43","v":{"v":16.202109215999997,"d":"16.202"}},{"v":32.338018432,"d":"32.338"},{"v":33.8648642884483,"d":"33.865"},{"v":35.08833955275398,"d":"35.088"},{"v":37.7719391630564,"d":"37.772"}]
["4. Коммерческие расходы",0,0,0,0,0,0,0]
["5. Управленческие расходы",19.96,{"v":17.5,"d":"17.500"},{"v":8.9,"d":"8.900"},{"v":16.5,"d":"16.500"},{"v":17.8,"d":"17.800"},17.978,18.158]
["6. Прибыль (убыток) от продаж",6.4,{"$f":"C44-C46","v":{"v":17.42488040000002,"d":"17.425"}},{"$f":"D44-D46","v":{"v":7.302109215999996,"d":"7.302"}},{"v":15.838018431999998,"d":"15.838"},{"v":16.0648642884483,"d":"16.065"},{"v":17.110339552753977,"d":"17.110"},{"v":19.6139391630564,"d":"19.614"}]
["7. Прибыль (убыток) до налогообложения",-0.6,{"v":0.7,"d":"0.700"},{"v":3.1,"d":"3.100"},{"v":6.1,"d":"6.100"},8.675,9.239,10.591]
[]
["ПРОГНОЗ*)"]
["прибыли  на 2018 год и на период до 2020 года"]
["ООО \"Богучархлеб\""]
["(организационно-правовая форма, наименование предприятия)"]
[{"$nulls":7},"(млн.руб.)"]
["Показатели"," отчет",null,"2017г.",null,"прогноз"]
[null,"2015г.","2016г.","январь-июнь, отчет","январь-декабрь, оценка","2018г. ","2019г. ","2020г. "]
[]
["1. Выручка  (за минусом НДС, акцизов)",27.327,{"$f":"'форма для предприятий '!F199","v":{"v":23.14404,"d":"23.144"}},{"$f":"'форма для предприятий '!G199","v":{"v":9.7024,"d":"9.702"}},{"$f":"'форма для предприятий '!H199","v":{"v":23.6,"d":"23.600"}},{"$f":"'форма для предприятий '!I199","v":{"v":25.306628267411867,"d":"25.307"}},{"$f":"'форма для предприятий '!J199","v":{"v":27.278228595586125,"d":"27.278"}},{"$f":"'форма для предприятий '!K199","v":{"v":28.895969938292346,"d":"28.896"}}]
["2. Себестоимость продаж",26.943,{"$f":"'форма для предприятий '!F214","v":{"v":25.167104000000002,"d":"25.167"}},{"$f":"'форма для предприятий '!G214","v":{"v":10.2636,"d":"10.264"}},{"$f":"'форма для предприятий '!H214","v":{"v":20.145888,"d":"20.146"}},{"$f":"'форма для предприятий '!I214","v":{"v":21.0510912,"d":"21.051"}},{"$f":"'форма для предприятий '!J214","v":{"v":21.703353599999996,"d":"21.703"}},{"$f":"'форма для предприятий '!K214","v":{"v":22.5076,"d":"22.508"}}]
["3. Валовая прибыль (убыток)",0.384,{"$f":"C58-C59","v":{"v":-2.0230640000000015,"d":"-2.023"}},{"$f":"D58-D59","v":{"v":-0.5611999999999995,"d":"-0.561"}},{"v":3.454112000000002,"d":"3.454"},{"v":4.255537067411868,"d":"4.256"},{"v":5.5748749955861285,"d":"5.575"},{"v":6.388369938292346,"d":"6.388"}]
["4. Коммерческие расходы",{"v":0,"d":"0.000"},-0.128,{"v":0.07,"d":"0.070"},0.144,0.145,0.147,0.149]
["5. Управленческие расходы",{"v":0,"d":"0.000"},{"v":0,"d":"0.000"},{"v":0,"d":"0.000"},{"v":0,"d":"0.000"},{"v":0,"d":"0.000"},{"v":0,"d":"0.000"},{"v":0,"d":"0.000"}]
["6. Прибыль (убыток) от продаж",0.384,-0.322,0.159,0.318,0.328,0.334,0.341]
["7. Прибыль (убыток) до налогообложения",0.384,{"$f":"C60-C61-C62-C63","v":{"v":-1.5730640000000014,"d":"-1.573"}},{"$f":"D60-D61-D62-D63","v":{"v":-0.7901999999999996,"d":"-0.790"}},{"v":2.992112000000002,"d":"2.992"},{"v":3.782537067411869,"d":"3.783"},{"v":5.093874995586129,"d":"5.094"},{"v":5.898369938292346,"d":"5.898"}]
[]
["ПРОГНОЗ*)"]
["прибыли  на 2018 год и на период до 2020 года"]
["ООО \"Строймаш\""]
["(организационно-правовая форма, наименование предприятия)"]
[{"$nulls":7},"(млн.руб.)"]
["Показатели"," отчет",null,"2017г.",null,"прогноз"]
[null,"2015г.","2016г.","январь-июнь, отчет","январь-декабрь, оценка","2018г. ","2019г. ","2020г. "]
[]
["1. Выручка  (за минусом НДС, акцизов)",{"$f":"'форма для предприятий '!E258","v":15.021},{"$f":"'форма для предприятий '!F258","v":16.6633},{"$f":"'форма для предприятий '!G258","v":10.292},{"$f":"'форма для предприятий '!H258","v":20.584},{"$f":"'форма для предприятий '!I258","v":22.367055},{"$f":"'форма для предприятий '!J258","v":24.775936499999997},{"$f":"'форма для предприятий '!K258","v":27.73248706799999}]
["2. Себестоимость продаж",{"$f":"'форма для предприятий '!E276","v":15.021},{"$f":"'форма для предприятий '!F276","v":{"v":16.662998975999997,"d":"16.663"}},{"$f":"'форма для предприятий '!G276","v":{"v":10.291731968,"d":"10.292"}},{"$f":"'форма для предприятий '!H276","v":{"v":20.555463936,"d":"20.555"}},{"$f":"'форма для предприятий '!I276","v":{"v":21.235921024,"d":"21.236"}},{"$f":"'форма для предприятий '!J276","v":{"v":21.01537472,"d":"21.015"}},{"$f":"'форма для предприятий '!K276","v":{"v":22.400824639999996,"d":"22.401"}}]
["3. Валовая прибыль (убыток)",{"$f":"B74-B75","v":0},{"$f":"C74-C75","v":{"v":3.0102400000231455E-4,"d":"0.000"}},{"v":0.000268031999999252,"d":"0.000"},{"v":0.02853606400000075,"d":"0.029"},{"v":1.131133976000001,"d":"1.131"},{"v":3.760561779999996,"d":"3.761"},{"v":5.331662427999994,"d":"5.332"}]
["4. Коммерческие расходы",0,0,0,0,0,0,0]
["5. Управленческие расходы",0,0,0,0,0,0,0]
["6. Прибыль (убыток) от продаж",0,0,0,0,0,0,0]
["7. Прибыль (убыток) до налогообложения",0,{"$f":"C76","v":{"v":3.0102400000231455E-4,"d":"0.000"}},{"$f":"D76","v":{"v":0.000268031999999252,"d":"0.000"}},{"v":0.02853606400000075,"d":"0.029"},{"v":1.131133976000001,"d":"1.131"},{"v":3.760561779999996,"d":"3.761"},{"v":5.331662427999994,"d":"5.332"}]
[]
["ПРОГНОЗ*)"]
["прибыли  на 2018 год и на период до 2020 года"]
["ООО \"Тихий Дон\""]
["(организационно-правовая форма, наименование предприятия)"]
[{"$nulls":7},"(млн.руб.)"]
["Показатели"," отчет",null,"2017г.",null,"прогноз"]
[null,"2015г.","2016г.","январь-июнь, отчет","январь-декабрь, оценка","2018г. ","2019г. ","2020г. "]
[]
["1. Выручка  (за минусом НДС, акцизов)",37.856,{"$f":"'форма для предприятий '!F317","v":{"v":73.25588,"d":"73.256"}},{"$f":"'форма для предприятий '!G317","v":72.425},{"$f":"'форма для предприятий '!H317","v":{"v":144.85,"d":"144.850"}},{"$f":"'форма для предприятий '!I317","v":{"v":163.41247047244096,"d":"163.412"}},{"$f":"'форма для предприятий '!J317","v":{"v":185.75541188976382,"d":"185.755"}},{"$f":"'форма для предприятий '!K317","v":{"v":209.8881358177756,"d":"209.888"}}]
["2. Себестоимость продаж",62.56,{"$f":"'форма для предприятий '!F335","v":{"v":79.248509824,"d":"79.249"}},{"$f":"'форма для предприятий '!G335","v":{"v":78.99218756799999,"d":"78.992"}},{"$f":"'форма для предприятий '!H335","v":{"v":146.34037513599998,"d":"146.340"}},{"$f":"'форма для предприятий '!I335","v":{"v":150.92374764800002,"d":"150.924"}},{"$f":"'форма для предприятий '!J335","v":{"v":154.59705248,"d":"154.597"}},{"$f":"'форма для предприятий '!K335","v":{"v":158.40972665600003,"d":"158.410"}}]
["3. Валовая прибыль (убыток)",-24.704,{"$f":"C90-C91","v":{"v":-5.992629823999991,"d":"-5.993"}},{"$f":"D90-D91","v":{"v":-6.567187567999994,"d":"-6.567"}},{"v":-1.490375135999983,"d":"-1.490"},{"v":12.488722824440941,"d":"12.489"},{"v":31.15835940976382,"d":"31.158"},{"v":51.47840916177557,"d":"51.478"}]
["4. Коммерческие расходы",0]
["5. Управленческие расходы",0]
["6. Прибыль (убыток) от продаж",-24.704,{"$f":"C92","v":{"v":-5.992629823999991,"d":"-5.993"}},{"$f":"D92","v":{"v":-6.567187567999994,"d":"-6.567"}},{"v":-1.490375135999983,"d":"-1.490"},{"v":12.488722824440941,"d":"12.489"},{"v":31.15835940976382,"d":"31.158"},{"v":51.47840916177557,"d":"51.478"}]
["7. Прибыль (убыток) до налогообложения",-24.704,{"$f":"C92","v":{"v":-5.992629823999991,"d":"-5.993"}},{"$f":"D92","v":{"v":-6.567187567999994,"d":"-6.567"}},{"v":-1.490375135999983,"d":"-1.490"},{"v":12.488722824440941,"d":"12.489"},{"v":31.15835940976382,"d":"31.158"},{"v":51.47840916177557,"d":"51.478"}]
[]
["ПРОГНОЗ*)"]
["прибыли  на 2018 год и на период до 2020 года"]
["ООО \"Строительные материалы - Тихий Дон\""]
["(организационно-правовая форма, наименование предприятия)"]
[{"$nulls":7},"(млн.руб.)"]
["Показатели"," отчет",null,"2017г.",null,"прогноз"]
[null,"2015г.","2016г.","январь-июнь, отчет","январь-декабрь, оценка","2018г. ","2019г. ","2020г. "]
[]
["1. Выручка  (за минусом НДС, акцизов)",110.447,{"$f":"'форма для предприятий '!F379","v":{"v":218.9,"d":"218.900"}},{"$f":"'форма для предприятий '!G379","v":{"v":140.2,"d":"140.200"}},{"$f":"'форма для предприятий '!H379","v":{"v":300.4,"d":"300.400"}},{"$f":"'форма для предприятий '!I379","v":312.416},{"$f":"'форма для предприятий '!J379","v":324.912},{"$f":"'форма для предприятий '!K379","v":337.909}]
["2. Себестоимость продаж",144.247,{"$f":"'форма для предприятий '!F397","v":{"v":251.65323590399998,"d":"251.653"}},{"$f":"'форма для предприятий '!G397","v":{"v":156.31650863200002,"d":"156.317"}},{"$f":"'форма для предприятий '!H397","v":{"v":286.509433264,"d":"286.509"}},{"$f":"'форма для предприятий '!I397","v":{"v":294.639428592,"d":"294.639"}},{"$f":"'форма для предприятий '!J397","v":{"v":306.479460352,"d":"306.479"}},{"$f":"'форма для предприятий '!K397","v":{"v":318.60591159999996,"d":"318.606"}}]
["3. Валовая прибыль (убыток)",-33.8,{"$f":"C106-C107","v":{"v":-32.75323590399998,"d":"-32.75"}},{"$f":"D106-D107","v":{"v":-16.116508632000034,"d":"-16.12"}},{"v":13.890566735999982,"d":"13.89"},{"v":17.776571407999995,"d":"17.78"},{"v":18.432539647999988,"d":"18.43"},{"v":19.303088400000036,"d":"19.30"}]
["4. Коммерческие расходы",11.2,11.2,6.5,12,12.5,13,13.5]
["5. Управленческие расходы",0,0,0,0,0,0,0]
["6. Прибыль (убыток) от продаж",-33.8,{"v":-43.95,"d":"-43.950"},-28.74,-2.11,5.28,5.43,5.8]
["7. Прибыль (убыток) до налогообложения",-33.8,{"$f":"C111","v":{"v":-43.95,"d":"-43.950"}},-28.74,-2.11,5.28,5.43,5.8]
[]
["ПРОГНОЗ*)"]
["прибыли  на 2018 год и на период до 2020 года"]
["МКУП \"Богучаркоммунсервис\""]
["(организационно-правовая форма, наименование предприятия)"]
[{"$nulls":7},"(млн.руб.)"]
["Показатели"," отчет",null,"2017г.",null,"прогноз"]
[null,"2015г.","2016г.","январь-июнь, отчет","январь-декабрь, оценка","2018г. ","2019г. ","2020г. "]
[]
["1. Выручка  (за минусом НДС, акцизов)",64.799,{"$f":"'форма для предприятий '!F441","v":{"v":64.4961,"d":"64.496"}},{"$f":"'форма для предприятий '!G441","v":{"v":36.1441,"d":"36.144"}},{"$f":"'форма для предприятий '!H441","v":{"v":70.07,"d":"70.070"}},{"$f":"'форма для предприятий '!I441","v":{"v":74.11914162307087,"d":"74.119"}},{"$f":"'форма для предприятий '!J441","v":{"v":78.62558543375357,"d":"78.626"}},{"$f":"'форма для предприятий '!K441","v":{"v":84.21213398765413,"d":"84.212"}}]
["2. Себестоимость продаж",65.882,{"$f":"'форма для предприятий '!F459","v":70.155},{"$f":"'форма для предприятий '!G459","v":{"v":39.228688840000004,"d":"39.229"}},{"$f":"'форма для предприятий '!H459","v":{"v":69.37039148,"d":"69.370"}},{"$f":"'форма для предприятий '!I459","v":{"v":73.93526087999999,"d":"73.935"}},{"$f":"'форма для предприятий '!J459","v":{"v":77.65050679999999,"d":"77.651"}},{"$f":"'форма для предприятий '!K459","v":{"v":83.10250299999997,"d":"83.103"}}]
["3. Валовая прибыль (убыток)",-1.083,{"$f":"C122-C123","v":{"v":-5.658900000000003,"d":"-5.659"}},{"$f":"D122-D123","v":{"v":-3.084588840000002,"d":"-3.085"}},{"v":0.6996085199999982,"d":"0.700"},{"v":0.18388074307088687,"d":"0.184"},{"v":0.9750786337535828,"d":"0.975"},{"v":1.1096309876541568,"d":"1.110"}]
["4. Коммерческие расходы",0]
["5. Управленческие расходы",0]
["6. Прибыль (убыток) от продаж",0]
["7. Прибыль (убыток) до налогообложения",-1.083,{"$f":"C124","v":{"v":-5.658900000000003,"d":"-5.659"}},{"$f":"D124","v":{"v":-3.084588840000002,"d":"-3.085"}},{"v":0.6996085199999982,"d":"0.700"},{"v":0.18388074307088687,"d":"0.184"},{"v":0.9750786337535828,"d":"0.975"},{"v":1.1096309876541568,"d":"1.110"}]
[]
[]
["Заместитель главы администрации Богучарского муниципального района ______________________________","                                        А.Ю.Кожанов"]
[]
["Исполнитель: специалист 1 категории экономического отдела",null,"З.П.Колесникова"]
["Телефон: 8(47366) 2-29-96"]
["*) Источник информации: Отчет о финансовых результатах (форма по ОКУД 0710002)"]
["                      "]

{"sheet":"расчет темпов по предприятиям","index":2,"n_rows":294,"n_cols":12,"rows_kept":294,"merged":[[0,9,0,11],[1,0,1,11],[2,0,2,11],[3,2,3,7],[5,0,6,0],[5,1,6,1],[5,2,6,2],[5,3,5,5],[5,6,5,8],[5,9,5,11],[19,9,19,11],[20,0,21,0],[20,1,21,1],[20,2,21,2],[20,3,20,5],[20,6,20,8],[20,9,20,11],[33,9,33,11],[34,0,35,0],[34,1,35,1],[34,2,35,2],[34,3,34,5],[34,6,34,8],[34,9,34,11],[47,1,47,11],[48,1,48,11],[49,0,49,11],[51,0,51,11],[52,0,52,11],[53,2,53,7],[55,0,56,0],[55,1,56,1],[55,2,56,2],[55,3,55,5],[55,6,55,8],[55,9,55,11],[64,9,64,11],[65,0,66,0],[65,1,66,1],[65,2,66,2],[65,3,65,5],[65,6,65,8],[65,9,65,11],[74,9,74,11],[75,0,76,0],[75,1,76,1],[75,2,76,2],[75,3,75,5],[75,6,75,8],[75,9,75,11],[86,0,86,11],[87,0,87,11],[88,2,88,7],[90,0,91,0],[90,1,91,1],[90,2,91,2],[90,3,90,5],[90,6,90,8],[90,9,90,11],[99,9,99,11],[100,0,101,0],[100,1,101,1],[100,2,101,2],[100,3,100,5],[100,6,100,8],[100,9,100,11],[109,9,109,11],[110,0,111,0],[110,1,111,1],[110,2,111,2],[110,3,110,5],[110,6,110,8],[110,9,110,11],[121,0,121,11],[122,0,122,11],[123,2,123,7],[125,0,126,0],[125,1,126,1],[125,2,126,2],[125,3,125,5],[125,6,125,8],[125,9,125,11],[134,9,134,11],[135,0,136,0],[135,1,136,1],[135,2,136,2],[135,3,135,5],[135,6,135,8],[135,9,135,11],[144,9,144,11],[145,0,146,0],[145,1,146,1],[145,2,146,2],[145,3,145,5],[145,6,145,8],[145,9,145,11],[156,0,156,11],[157,0,157,11],[158,2,158,7],[160,0,161,0],[160,1,161,1],[160,2,161,2],[160,3,160,5],[160,6,160,8],[160,9,160,11],[169,9,169,11],[170,0,171,0],[170,1,171,1],[170,2,171,2],[170,3,170,5],[170,6,170,8],[170,9,170,11],[179,9,179,11],[180,0,181,0],[180,1,181,1],[180,2,181,2],[180,3,180,5],[180,6,180,8],[180,9,180,11],[191,0,191,11],[192,0,192,11],[193,2,193,7],[195,0,196,0],[195,1,196,1],[195,2,196,2],[195,3,195,5],[195,6,195,8],[195,9,195,11],[204,9,204,11],[205,0,206,0],[205,1,206,1],[205,2,206,2],[205,3,205,5],[205,6,205,8],[205,9,205,11],[214,9,214,11],[215,0,216,0],[215,1,216,1],[215,2,216,2],[215,3,215,5],[215,6,215,8],[215,9,215,11],[226,0,226,11],[227,0,227,11],[228,2,228,7],[230,0,231,0],[230,1,231,1],[230,2,231,2],[230,3,230,5],[230,6,230,8],[230,9,230,11],[239,9,239,11],[240,0,241,0],[240,1,241,1],[240,2,241,2],[240,3,240,5],[240,6,240,8],[240,9,240,11],[249,9,249,11],[250,0,251,0],[250,1,251,1],[250,2,251,2],[250,3,250,5],[250,6,250,8],[250,9,250,11],[261,0,261,11],[262,0,262,11],[263,2,263,7],[265,0,266,0],[265,1,266,1],[265,2,266,2],[265,3,265,5],[265,6,265,8],[265,9,265,11],[274,9,274,11],[275,0,276,0],[275,1,276,1],[275,2,276,2],[275,3,275,5],[275,6,275,8],[275,9,275,11],[284,9,284,11],[285,0,286,0],[285,1,286,1],[285,2,286,2],[285,3,285,5],[285,6,285,8],[285,9,285,11]]}
[{"$nulls":9},"Таблица  № 1б"]
["Расчет темпов роста (снижения) промышленного производства в сопоставимых ценах (ценах 2010 года)"]
["по \"товарам-представителям   ООО \"Агро-Спутник\" в 2018 году и на период до 2020 года"]
[null,null,"(наименование предприятия, организации)"]
[]
["Наименование  видов выпускаемой продукции (\"товары-представители\") ","Код вида деятельности (по ОКВЭД)","Единица измер.","2014 год",null,null,"2015 год",null,null,"2016 год"]
[{"$nulls":3},"количество*) ","базовая среднегодовая цена (2010г.), руб.","сумма, млн.руб.","количество*) ","базовая среднегодовая цена (2010г.), руб.","сумма, млн.руб.","количество*) ","базовая среднегодовая цена (2010г.), руб.","сумма, млн.руб."]
["А","Б","В",1,2,"3=1х2",4,5,"6=4х5",7,8,"9=7х8"]
["Семечки жареные","10.89.9","тн.",2265.7,{"v":88900,"d":"88900.0"},{"$f":"D9*E9/1000000","v":{"v":201.42072999999996,"d":"201.421"}},3131.2,{"v":88900,"d":"88900.0"},{"$f":"G9*H9/1000000","v":{"v":278.36368,"d":"278.4"}},2672.9,{"v":88900,"d":"88900.0"},{"$f":"J9*K9/1000000","v":{"v":237.62081,"d":"237.621"}}]
["Арахис","10.89.9","тн.",6.5,{"v":106550,"d":"106550.0"},{"$f":"D10*E10/1000000","v":{"v":0.692575,"d":"0.693"}},{"v":13,"d":"13.0"},{"v":106550,"d":"106550.0"},{"$f":"G10*H10/1000000","v":{"v":1.38515,"d":"1.4"}},{"v":13,"d":"13.0"},{"v":106550,"d":"106550.0"},{"$f":"J10*K10/1000000","v":{"v":1.38515,"d":"1.385"}}]
["Фисташки","10.89.9","тн.",3.6,{"v":391000,"d":"391000.0"},{"v":1.4076,"d":"1.408"},4.1,{"v":391000,"d":"391000.0"},{"v":1.6030999999999997,"d":"1.6"},1.5,{"v":391000,"d":"391000.0"},{"v":0.5865,"d":"0.587"}]
["Ядро","10.89.9","тн.",172.5,{"v":33290,"d":"33290.0"},{"v":5.742525,"d":"5.743"},484.4,{"v":33290,"d":"33290.0"},{"v":16.125676,"d":"16.1"},1144.4,{"v":33290,"d":"33290.0"},{"v":38.097076,"d":"38.097"}]
["Семечки тыквенные","10.89.9","тн.",10.4,{"v":151270,"d":"151270.0"},{"v":1.573208,"d":"1.573"},9.9,{"v":151270,"d":"151270.0"},{"v":1.497573,"d":"1.5"},6.8,{"v":151270,"d":"151270.0"},{"v":1.028636,"d":"1.029"}]
["Халва","10.89.9","тн.",2.2,{"v":32184,"d":"32184.0"},{"v":0.0708048,"d":"0.071"},33.4,{"v":32184,"d":"32184.0"},{"v":1.0749456,"d":"1.1"},107.7,{"v":32184,"d":"32184.0"},{"v":3.4662168,"d":"3.466"}]
["Семечки с арахисом","10.89.9","тн.",{"v":0,"d":"0.0"},{"v":89800,"d":"89800.0"},{"v":0,"d":"0.000"},{"v":0,"d":"0.0"},{"v":89800,"d":"89800.0"},{"v":0,"d":"0.0"},3.3,{"v":89800,"d":"89800.0"},{"v":0.29634,"d":"0.296"}]
["Крем-халва","10.89.9","тн.",{"v":0,"d":"0.0"},{"v":56350,"d":"56350.0"},{"v":0,"d":"0.0"},{"v":0,"d":"0.0"},{"v":56350,"d":"56350.0"},{"v":0,"d":"0.0"},{"v":0,"d":"0.0"},{"v":56350,"d":"56350.0"},{"v":0,"d":"0.000"}]
["Подсолнечник мелочь","10.89.9","тн.",277.1,{"v":6800,"d":"6800.0"},{"v":1.8842800000000002,"d":"1.9"},{"v":0,"d":"0.0"}]
["Всего по товарам-представителям ",null,null,"х","х",{"$f":"SUM(F9:F17)","v":{"v":212.79172279999995,"d":"212.792"}},"х","х",{"$f":"SUM(I9:I16)","v":{"v":300.05012459999995,"d":"300.1"}},"х","х",{"$f":"SUM(L9:L16)","v":{"v":282.4807288,"d":"282.5"}}]
["Темп роста (снижения) промышленного производства в сопоставимых ценах, в % к предыдущему году",null,null,"х","х","х","х","х",{"$f":"I18/F18*100","v":{"v":141.00648307735776,"d":"141.01"}},"х","х",{"$f":"L18/I18*100","v":{"v":94.14451307979895,"d":"94.1"}}]
[{"$nulls":9},"Продолжение таблицы № 1б"]
["Наименование  видов выпускаемой продукции (\"товары-представители\") ","Код вида деятельности (по ОКВЭД)","Единица измер.","2017 год",null,null,"2018 год",null,null,"2019 год"]
[{"$nulls":3},"количество*) ","базовая среднегодовая цена (2010г.), руб.","сумма, млн.руб.","количество*) ","базовая среднегодовая цена (2010г.), руб.","сумма, млн.руб.","количество*) ","базовая среднегодовая цена (2010г.), руб.","сумма, млн.руб."]
["А","Б","В",10,11,"12=10х11",13,14,"15=13х14",16,17,"18=16х17"]
["Семечки жареные","10.89.9","тн.",{"v":2730,"d":"2730.0"},{"v":88900,"d":"88900.0"},{"$f":"D24*E24/1000000","v":{"v":242.697,"d":"242.7"}},2780,{"v":88900,"d":"88900.0"},{"$f":"G24*H24/1000000","v":{"v":247.142,"d":"247.1"}},{"v":2860,"d":"2860.0"},{"v":88900,"d":"88900.0"},{"$f":"J24*K24/1000000","v":{"v":254.254,"d":"254.3"}}]
["Арахис","10.89.9","тн.",{"v":9,"d":"9.0"},{"v":106550,"d":"106550.0"},{"$f":"D25*E25/1000000","v":{"v":0.95895,"d":"1.0"}},9.2,{"v":106550,"d":"106550.0"},{"$f":"G25*H25/1000000","v":{"v":0.9802599999999999,"d":"1.0"}},9.5,{"v":106550,"d":"106550.0"},{"$f":"J25*K25/1000000","v":{"v":1.012225,"d":"1.0"}}]
["Фисташки","10.89.9","тн.",{"v":1,"d":"1.0"},{"v":391000,"d":"391000.0"},{"v":0.391,"d":"0.4"},{"v":1.63,"d":"1.6"},{"v":391000,"d":"391000.0"},{"v":0.63733,"d":"0.6"},1.7,{"v":391000,"d":"391000.0"},{"v":0.6647,"d":"0.7"}]
["Ядро","10.89.9","тн.",{"v":1155,"d":"1155.0"},{"v":33290,"d":"33290.0"},{"v":38.44995,"d":"38.4"},{"v":1180,"d":"1180.0"},{"v":33290,"d":"33290.0"},{"v":39.2822,"d":"39.3"},{"v":1215,"d":"1215.0"},{"v":33290,"d":"33290.0"},{"v":40.44735,"d":"40.4"}]
["Семечки тыквенные","10.89.9","тн.",6.9,{"v":151270,"d":"151270.0"},{"v":1.043763,"d":"1.0"},{"v":7,"d":"7.0"},{"v":151270,"d":"151270.0"},{"v":1.05889,"d":"1.1"},{"v":7.15,"d":"7.2"},{"v":151270,"d":"151270.0"},{"v":1.0815805,"d":"1.1"}]
["Халва","10.89.9","тн.",{"v":90,"d":"90.0"},{"v":32184,"d":"32184.0"},{"v":2.89656,"d":"2.9"},{"v":92,"d":"92.0"},{"v":32184,"d":"32184.0"},{"v":2.960928,"d":"3.0"},{"v":95,"d":"95.0"},{"v":32184,"d":"32184.0"},{"v":3.05748,"d":"3.1"}]
["Семечки с арахисом","10.89.9","тн.",{"v":16,"d":"16.0"},{"v":89800,"d":"89800.0"},{"v":1.4368,"d":"1.4"},16.3,{"v":89800,"d":"89800.0"},{"v":1.46374,"d":"1.5"},{"v":17,"d":"17.0"},{"v":89800,"d":"89800.0"},{"v":1.5266,"d":"1.5"}]
["Крем-халва","10.89.9","тн.",{"v":290,"d":"290.0"},{"v":56350,"d":"56350.0"},{"v":16.3415,"d":"16.3"},{"v":300,"d":"300.0"},{"v":56350,"d":"56350.0"},{"v":16.905,"d":"16.9"},{"v":310,"d":"310.0"},{"v":56350,"d":"56350.0"},{"v":17.4685,"d":"17.5"}]
["Всего по товарам-представителям ",null,null,"х","х",{"$f":"SUM(F24:F31)","v":{"v":304.215523,"d":"304.2"}},"х","х",{"$f":"SUM(I24:I31)","v":{"v":310.430348,"d":"310.4"}},"х","х",{"$f":"SUM(L24:L31)","v":{"v":319.5124355,"d":"319.5"}}]
["Темп роста (снижения) промышленного производства в сопоставимых ценах, в % к предыдущему году",null,null,"х","х",{"$f":"F32/L18*100","v":{"v":107.69425733653799,"d":"107.7"}},"х","х",{"$f":"I32/F32*100","v":{"v":102.04290199879115,"d":"102.0"}},"х","х",{"$f":"L32/I32*100","v":{"v":102.92564420924464,"d":"103"}}]
[{"$nulls":9},"Продолжение таблицы № 1б"]
["Наименование  видов выпускаемой продукции (\"товары-представители\") ","Код вида деятельности (по ОКВЭД)","Единица измер.","2020 год",null,null," январь-июнь 2016 года",null,null," январь-июнь 2017 года"]
[{"$nulls":3},"количество*) ","базовая среднегодовая цена (2010г.), руб.","сумма, млн.руб.","количество*) ","базовая среднегодовая цена (2010г.), руб.","сумма, млн.руб.","количество*) ","базовая среднегодовая цена (2010г.), руб.","сумма, млн.руб."]
["А","Б","В",19,20,"21=19х20",22,23,"24=22х23",25,26,"27=25х26"]
["Семечки жареные","10.89.9","тн.",{"v":2980,"d":"2980.0"},{"v":88900,"d":"88900.0"},{"$f":"D38*E38/1000000","v":{"v":264.922,"d":"264.9"}},1349.8,{"v":88900,"d":"88900.0"},{"$f":"G38*H38/1000000","v":{"v":119.99722,"d":"120.0"}},1533.4,{"v":88900,"d":"88900.0"},{"$f":"J38*K38/1000000","v":{"v":136.31926,"d":"136.319"}}]
["Арахис","10.89.9","тн.",9.9,{"v":106550,"d":"106550.0"},{"$f":"D39*E39/1000000","v":{"v":1.054845,"d":"1.1"}},8.3,{"v":106550,"d":"106550.0"},{"$f":"G39*H39/1000000","v":{"v":0.8843650000000001,"d":"0.9"}},4.5,{"v":106550,"d":"106550.0"},{"$f":"J39*K39/1000000","v":{"v":0.479475,"d":"0.479"}}]
["Фисташки","10.89.9","тн.",1.8,{"v":391000,"d":"391000.0"},{"v":0.7038,"d":"0.7"},1.1,{"v":391000,"d":"391000.0"},{"v":0.43010000000000004,"d":"0.4"},0.5,{"v":391000,"d":"391000.0"},{"v":0.1955,"d":"0.196"}]
["Ядро","10.89.9","тн.",{"v":1280,"d":"1280.0"},{"v":33290,"d":"33290.0"},{"v":42.6112,"d":"42.6"},545.6,{"v":33290,"d":"33290.0"},{"v":18.163024,"d":"18.2"},694.7,{"v":33290,"d":"33290.0"},{"v":23.126563,"d":"23.127"}]
["Семечки тыквенные","10.89.9","тн.",7.5,{"v":151270,"d":"151270.0"},{"v":1.134525,"d":"1.1"},4.3,{"v":151270,"d":"151270.0"},{"v":0.650461,"d":"0.7"},2.6,{"v":151270,"d":"151270.0"},{"v":0.393302,"d":"0.393"}]
["Халва","10.89.9","тн.",{"v":100,"d":"100.0"},{"v":32184,"d":"32184.0"},{"v":3.2184,"d":"3.2"},61.8,{"v":32184,"d":"32184.0"},{"v":1.9889712,"d":"2.0"},44.6,{"v":32184,"d":"32184.0"},{"v":1.4354064000000002,"d":"1.435"}]
["Семечки с арахисом","10.89.9","тн.",{"v":18,"d":"18.0"},{"v":89800,"d":"89800.0"},{"v":1.6164,"d":"1.6"},{"v":0,"d":"0.0"},{"v":89800,"d":"89800.0"},{"v":0,"d":"0.0"},{"v":8,"d":"8.0"},{"v":89800,"d":"89800.0"},{"v":0.7184,"d":"0.718"}]
["Крем-халва","10.89.9","тн.",{"v":325,"d":"325.0"},{"v":56350,"d":"56350.0"},{"v":18.31375,"d":"18.3"},{"v":0,"d":"0.0"},{"v":56350,"d":"56350.0"},{"v":0,"d":"0.0"},145.6,{"v":56350,"d":"56350.0"},{"v":8.20456,"d":"8.205"}]
["Всего по товарам-представителям ",null,null,"х","х",{"$f":"SUM(F38:F45)","v":{"v":333.57492,"d":"333.6"}},"х","х",{"$f":"SUM(I38:I45)","v":{"v":142.1141412,"d":"142.114"}},"х","х",{"$f":"SUM(L38:L45)","v":{"v":170.87246640000006,"d":"170.9"}}]
["Темп роста (снижения) промышленного производства в сопоставимых ценах, в % к предыдущему году",null,null,"х","х",{"$f":"F46/L32*100","v":{"v":104.40123229569886,"d":"104.4"}},"х","х",95.5,"х","х",{"$f":"L46/I46*100","v":{"v":120.2360757044775,"d":"120.2"}}]
["*) Примечания:  ","1. К \"товарам-представителям\" относятся основные промышленные товары, работы, услуги (разделы В+С+D+Е по ОКВЭД2), по которым предприятия отчитываются в формах статотчетности  в натуральных единицах измерения."]
[null,"2.В расчет принимается весь объем произведенной продукции (в соответствующих натуральных единицах измерения), включая объем продукции, произведенный из давальческого сырья."]
["ОБРАЩАЕМ ВАШЕ ВНИМАНИЕ:   базовым годом по ценам является 2010 год (в соответствии с указаниями РОССТАТА)"]
[]
["Расчет темпов роста (снижения) промышленного производства в сопоставимых ценах (ценах 2010 года)"]
["по \"товарам-представителям\" ООО \"Богучарский ЗРМ\" в 2018 году и на период до 2020 года"]
[null,null,"(наименование предприятия, организации)"]
[]
["Наименование  видов выпускаемой продукции (\"товары-представители\") ","Код вида деятельности (по ОКВЭД)","Единица измер.","2014 год",null,null,"2015 год",null,null,"2016 год"]
[{"$nulls":3},"количество*) ","базовая среднегодовая цена (2010г.), руб.","сумма, млн.руб.","количество*) ","базовая среднегодовая цена (2010г.), руб.","сумма, млн.руб.","количество*) ","базовая среднегодовая цена (2010г.), руб.","сумма, млн.руб."]
["А","Б","В",1,2,"3=1х2",4,5,"6=4х5",7,8,"9=7х8"]
["Производство масла растительного ","10.41.24","тн.",{"v":8889,"d":"8889.0"},{"v":40320,"d":"40320.0"},{"$f":"D59*E59/1000000","v":{"v":358.40448,"d":"358.404"}},{"v":2133,"d":"2133.0"},{"v":40320,"d":"40320.0"},{"$f":"G59*H59/1000000","v":{"v":86.00256,"d":"86.0"}},{"v":2494,"d":"2494.0"},{"v":40320,"d":"40320.0"},{"$f":"J59*K59/1000000","v":{"v":100.55808,"d":"100.6"}}]
["Жмых подсолнечный","10.41.24","тн.",{"v":0,"d":"0.0"},{"v":784,"d":"784.0"},{"$f":"D60*E60/1000000","v":{"v":0,"d":"0.000"}},{"v":784,"d":"784.0"},{"v":784,"d":"784.0"},{"$f":"G60*H60/1000000","v":{"v":0.614656,"d":"0.6"}},{"v":922,"d":"922.0"},{"v":784,"d":"784.0"},{"$f":"J60*K60/1000000","v":{"v":0.722848,"d":"0.7"}}]
[{"$nulls":3},{"v":0,"d":"0.0"},{"$nulls":7},{"$f":"J61*K61/1000000","v":{"v":0,"d":"0.0"}}]
[]
["Всего по товарам-представителям ",null,null,"х","х",{"$f":"SUM(F59:F62)","v":{"v":358.40448,"d":"358.404"}},"х","х",{"$f":"SUM(I59:I62)","v":{"v":86.617216,"d":"86.6"}},"х","х",{"$f":"SUM(L59:L62)","v":{"v":101.280928,"d":"101.3"}}]
["Темп роста (снижения) промышленного производства в сопоставимых ценах, в % к предыдущему году",null,null,"х","х","х","х","х",null,"х","х",{"$f":"L63/I63*100","v":{"v":116.92932730601733,"d":"116.9"}}]
[{"$nulls":9},"Продолжение таблицы № 1б"]
["Наименование  видов выпускаемой продукции (\"товары-представители\") ","Код вида деятельности (по ОКВЭД)","Единица измер.","2017 год",null,null,"2018 год",null,null,"2019 год"]
[{"$nulls":3},"количество*) ","базовая среднегодовая цена (2010г.), руб.","сумма, млн.руб.","количество*) ","базовая среднегодовая цена (2010г.), руб.","сумма, млн.руб.","количество*) ","базовая среднегодовая цена (2010г.), руб.","сумма, млн.руб."]
["А","Б","В",10,11,"12=10х11",13,14,"15=13х14",16,17,"18=16х17"]
["Производство масла растительного ","10.41.24","тн.",{"v":2620,"d":"2620.0"},{"v":40320,"d":"40320.0"},{"$f":"D69*E69/1000000","v":{"v":105.6384,"d":"105.6"}},{"v":2800,"d":"2800.0"},{"v":40320,"d":"40320.0"},{"$f":"G69*H69/1000000","v":{"v":112.896,"d":"112.9"}},{"v":3000,"d":"3000.0"},{"v":40320,"d":"40320.0"},{"$f":"J69*K69/1000000","v":{"v":120.96,"d":"121.0"}}]
["Жмых подсолнечный","10.41.24","тн.",{"v":969,"d":"969.0"},{"v":784,"d":"784.0"},{"$f":"D70*E70/1000000","v":{"v":0.759696,"d":"0.8"}},{"v":1035,"d":"1035.0"},{"v":784,"d":"784.0"},{"$f":"G70*H70/1000000","v":{"v":0.81144,"d":"0.8"}},{"v":1100,"d":"1100.0"},{"v":784,"d":"784.0"},{"$f":"J70*K70/1000000","v":{"v":0.8624,"d":"0.9"}}]
[{"$nulls":5},{"$f":"D71*E71/1000000","v":{"v":0,"d":"0.0"}},{"$nulls":5},{"$f":"J71*K71/1000000","v":{"v":0,"d":"0.0"}}]
[]
["Всего по товарам-представителям ",null,null,"х","х",{"$f":"SUM(F69:F72)","v":{"v":106.39809600000001,"d":"106.4"}},"х","х",{"$f":"SUM(I69:I72)","v":{"v":113.70744,"d":"113.7"}},"х","х",{"$f":"SUM(L69:L72)","v":{"v":121.82239999999999,"d":"121.8"}}]
["Темп роста (снижения) промышленного производства в сопоставимых ценах, в % к предыдущему году",null,null,"х","х",{"$f":"F73/L63*100","v":{"v":105.05244975638455,"d":"105.1"}},"х","х",{"$f":"I73/F73*100","v":{"v":106.86980714391731,"d":"106.9"}},"х","х",{"$f":"L73/I73*100","v":{"v":107.13670099335626,"d":"107.1"}}]
[{"$nulls":9},"Продолжение таблицы № 1б"]
["Наименование  видов выпускаемой продукции (\"товары-представители\") ","Код вида деятельности (по ОКВЭД)","Единица измер.","2020 год",null,null," январь-июнь 2016 года",null,null," январь-июнь 2017 года"]
[{"$nulls":3},"количество*) ","базовая среднегодовая цена (2010г.), руб.","сумма, млн.руб.","количество*) ","базовая среднегодовая цена (2010г.), руб.","сумма, млн.руб.","количество*) ","базовая среднегодовая цена (2010г.), руб.","сумма, млн.руб."]
["А","Б","В",19,20,"21=19х20",22,23,"24=22х23",1170,26,"27=25х26"]
["Производство масла растительного ","10.41.24","тн.",{"v":3200,"d":"3200.0"},{"v":40320,"d":"40320.0"},{"$f":"D79*E79/1000000","v":{"v":129.024,"d":"129.0"}},{"v":1066,"d":"1066.0"},{"v":40320,"d":"40320.0"},{"$f":"G79*H79/1000000","v":{"v":42.98112,"d":"43.0"}},{"v":1170,"d":"1170.0"},{"v":40320,"d":"40320.0"},{"$f":"J79*K79/1000000","v":{"v":47.1744,"d":"47.2"}}]
["Жмых подсолнечный","10.41.24","тн.",{"v":1184,"d":"1184.0"},{"v":784,"d":"784.0"},{"$f":"D80*E80/1000000","v":{"v":0.928256,"d":"0.9"}},{"v":906,"d":"906.0"},{"v":784,"d":"784.0"},{"$f":"G80*H80/1000000","v":{"v":0.710304,"d":"0.7"}},{"v":460,"d":"460.0"},{"v":784,"d":"784.0"},{"$f":"J80*K80/1000000","v":{"v":0.36064,"d":"0.4"}}]
[null,null,"тн.",{"$f":"J71*104%","v":{"v":0,"d":"0.0"}},null,{"$f":"D81*E81/1000000","v":{"v":0,"d":"0.0"}},{"v":0,"d":"0.0"},null,{"$f":"G81*H81/1000000","v":{"v":0,"d":"0.0"}},null,null,{"$f":"J81*K81/1000000","v":{"v":0,"d":"0.000"}}]
[{"$nulls":4},{"v":0,"d":"0.0"}]
["Всего по товарам-представителям ",null,null,"х","х",{"$f":"SUM(F79:F82)","v":{"v":129.952256,"d":"130.0"}},"х","х",{"$f":"SUM(I79:I82)","v":{"v":43.691424,"d":"43.7"}},"х","х",{"$f":"SUM(L79:L82)","v":{"v":47.535039999999995,"d":"47.535"}}]
["Темп роста (снижения) промышленного производства в сопоставимых ценах, в % к предыдущему году",null,null,"х","х",{"$f":"F83/L73*100","v":{"v":106.67353130458767,"d":"106.7"}},"х","х",0,"х","х",{"$f":"L83/I83*100","v":{"v":108.79718637689628,"d":"109"}}]
[]
[]
["Расчет темпов роста (снижения) промышленного производства в сопоставимых ценах (ценах 2010 года)"]
["по \"товарам-представителям\" ОАО \"Богучармолоко\" в 2018 году и на период до 2020 года"]
[null,null,"(наименование предприятия, организации)"]
[]
["Наименование  видов выпускаемой продукции (\"товары-представители\") ","Код вида деятельности (по ОКВЭД)","Единица измер.","2014 год",null,null,"2015 год",null,null,"2016 год"]
[{"$nulls":3},"количество*) ","базовая среднегодовая цена (2010г.), руб.","сумма, млн.руб.","количество*) ","базовая среднегодовая цена (2010г.), руб.","сумма, млн.руб.","количество*) ","базовая среднегодовая цена (2010г.), руб.","сумма, млн.руб."]
["А","Б","В",1,2,"3=1х2",4,5,"6=4х5",7,8,"9=7х8"]
["Переработано молока","10.51.1","тн",{"v":20235,"d":"20235.0"},3860.5,{"$f":"D94*E94/1000000","v":{"v":78.1172175,"d":"78.1"}},{"v":13297,"d":"13297.0"},3860.5,{"$f":"G94*H94/1000000","v":{"v":51.3330685,"d":"51.3"}},19905.5,3860.5,{"$f":"J94*K94/1000000","v":{"v":76.84518275,"d":"76.8"}}]
["Производство пара и горячей воды (тепловой энергии) котельными","35.30.14","тыс. Г.кал.",0.6,816.7,{"$f":"D95*E95/1000","v":{"v":0.49001999999999996,"d":"0.5"}},0.6,816.7,{"$f":"G95*H95/1000","v":{"v":0.49001999999999996,"d":"0.490"}},0.6,816.7,{"$f":"J95*K95/1000","v":{"v":0.49001999999999996,"d":"0.5"}}]
[]
[]
["Всего по товарам-представителям ",null,null,"х","х",{"$f":"SUM(F94:F97)","v":{"v":78.6072375,"d":"78.607"}},"х","х",{"$f":"SUM(I94:I97)","v":{"v":51.823088500000004,"d":"51.823"}},"х","х",{"$f":"SUM(L94:L97)","v":{"v":77.33520275000001,"d":"77.3"}}]
["Темп роста (снижения) промышленного производства в сопоставимых ценах, в % к предыдущему году",null,null,"х","х","х","х","х",{"$f":"I98/F98*100","v":{"v":65.92661203747302,"d":"65.9"}},"х","х",{"$f":"L98/I98*100","v":{"v":149.22924315867434,"d":"149"}}]
[{"$nulls":9},"Продолжение таблицы № 1б"]
["Наименование  видов выпускаемой продукции (\"товары-представители\") ","Код вида деятельности (по ОКВЭД)","Единица измер.","2017 год",null,null,"2018 год",null,null,"2019 год"]
[{"$nulls":3},"количество*) ","базовая среднегодовая цена (2010г.), руб.","сумма, млн.руб.","количество*) ","базовая среднегодовая цена (2010г.), руб.","сумма, млн.руб.","количество*) ","базовая среднегодовая цена (2010г.), руб.","сумма, млн.руб."]
["А","Б","В",10,11,"12=10х11",13,14,"15=13х14",16,17,"18=16х17"]
["Переработано молока","10.51.1","тн",{"v":20105,"d":"20105.0"},3860.5,{"$f":"D104*E104/1000000","v":{"v":77.6153525,"d":"77.6"}},{"v":21110,"d":"21110.0"},3860.5,{"$f":"G104*H104/1000000","v":{"v":81.495155,"d":"81.5"}},{"v":21954,"d":"21954.0"},3860.5,{"$f":"J104*K104/1000000","v":{"v":84.753417,"d":"84.8"}}]
["Производство пара и горячей воды (тепловой энергии) котельными","35.30.14","тыс. Г.кал.",0.6,816.7,{"$f":"D105*E105/1000","v":{"v":0.49001999999999996,"d":"0.5"}},0.6,816.7,{"$f":"G105*H105/1000","v":{"v":0.49001999999999996,"d":"0.5"}},0.6,816.7,{"$f":"J105*K105/1000","v":{"v":0.49001999999999996,"d":"0.5"}}]
[]
[]
["Всего по товарам-представителям ",null,null,"х","х",{"$f":"SUM(F104:F107)","v":{"v":78.1053725,"d":"78.1"}},"х","х",{"$f":"SUM(I104:I107)","v":{"v":81.985175,"d":"82.0"}},"х","х",{"$f":"SUM(L104:L107)","v":{"v":85.243437,"d":"85.2"}}]
["Темп роста (снижения) промышленного производства в сопоставимых ценах, в % к предыдущему году",null,null,"х","х",{"$f":"F108/L98*100","v":{"v":100.99588508546321,"d":"101.0"}},"х","х",{"$f":"I108/F108*100","v":{"v":104.96739516862299,"d":"105.0"}},"х","х",{"$f":"L108/I108*100","v":{"v":103.97420875176518,"d":"104.0"}}]
[{"$nulls":9},"Продолжение таблицы № 1б"]
["Наименование  видов выпускаемой продукции (\"товары-представители\") ","Код вида деятельности (по ОКВЭД)","Единица измер.","2020 год",null,null," январь-июнь 2016 года",null,null," январь-июнь 2017 года"]
[{"$nulls":3},"количество*) ","базовая среднегодовая цена (2010г.), руб.","сумма, млн.руб.","количество*) ","базовая среднегодовая цена (2010г.), руб.","сумма, млн.руб.","количество*) ","базовая среднегодовая цена (2010г.), руб.","сумма, млн.руб."]
["А","Б","В",19,20,"21=19х20",22,23,"24=22х23",25,26,"27=25х26"]
["Переработано молока","10.51.1","тн",{"v":23050,"d":"23050.0"},3860.5,{"$f":"D114*E114/1000000","v":{"v":88.984525,"d":"89.0"}},{"v":10770,"d":"10770.0"},3860.5,{"$f":"G114*H114/1000000","v":{"v":41.577585,"d":"41.6"}},10347.8,3860.5,{"$f":"J114*K114/1000000","v":{"v":39.9476819,"d":"39.9"}}]
["Производство пара и горячей воды (тепловой энергии) котельными","35.30.14","тыс. Г.кал.",0.6,816.7,{"$f":"D115*E115/1000","v":{"v":0.49001999999999996,"d":"0.5"}},0.6,816.7,{"$f":"G115*H115/1000","v":{"v":0.49001999999999996,"d":"0.5"}},0.6,816.7,{"$f":"J115*K115/1000","v":{"v":0.49001999999999996,"d":"0.5"}}]
[]
[]
["Всего по товарам-представителям ",null,null,"х","х",{"$f":"SUM(F114:F117)","v":{"v":89.474545,"d":"89.5"}},"х","х",{"$f":"SUM(I114:I117)","v":{"v":42.067605,"d":"42.068"}},"х","х",{"$f":"SUM(L114:L117)","v":{"v":40.4377019,"d":"40.4"}}]
["Темп роста (снижения) промышленного производства в сопоставимых ценах, в % к предыдущему году",null,null,"х","х",{"$f":"F118/L108*100","v":{"v":104.96355866082688,"d":"105.0"}},"х","х",123,"х","х",{"$f":"L118/I118*100","v":{"v":96.1255148706469,"d":"96.13"}}]
[]
[]
["Расчет темпов роста (снижения) промышленного производства в сопоставимых ценах (ценах 2010 года)"]
["по \"товарам-представителям\" ООО \"Богучархлеб\" в 2018 году и на период до 2020 года"]
[null,null,"(наименование предприятия, организации)"]
[]
["Наименование  видов выпускаемой продукции (\"товары-представители\") ","Код вида деятельности (по ОКВЭД)","Единица измер.","2014 год",null,null,"2015 год",null,null,"2016 год"]
[{"$nulls":3},"количество*) ","базовая среднегодовая цена (2010г.), руб.","сумма, млн.руб.","количество*) ","базовая среднегодовая цена (2010г.), руб.","сумма, млн.руб.","количество*) ","базовая среднегодовая цена (2010г.), руб.","сумма, млн.руб."]
["А","Б","В",1,2,"3=1х2",4,5,"6=4х5",7,8,"9=7х8"]
["производство хлебобулочных изделий","10..8","тн",544.9,{"v":23.05,"d":"23.050"},{"$f":"D129*E129/1000","v":{"v":12.559944999999999,"d":"12.560"}},476.6,{"v":23.05,"d":"23.050"},{"$f":"G129*H129/1000","v":{"v":10.98563,"d":"11.0"}},{"v":376,"d":"376.0"},{"v":23.05,"d":"23.050"},{"$f":"J129*K129/1000","v":{"v":8.6668,"d":"8.7"}}]
["производство кндитерских изделий","10..8","тн",{"v":16,"d":"16.0"},{"v":104.6,"d":"104.600"},{"$f":"D130*E130/1000","v":{"v":1.6736,"d":"1.674"}},32.7,{"v":104.6,"d":"104.600"},{"$f":"G130*H130/1000","v":{"v":3.42042,"d":"3.4"}},21.9,{"v":104.6,"d":"104.600"},{"$f":"J130*K130/1000","v":{"v":2.29074,"d":"2.3"}}]
[{"$nulls":8},{"v":0,"d":"0.0"}]
[{"$nulls":8},{"v":0,"d":"0.0"}]
["Всего по товарам-представителям ",null,null,"х","х",{"$f":"SUM(F129:F132)","v":{"v":14.233545,"d":"14.234"}},"х","х",{"$f":"SUM(I129:I132)","v":{"v":14.40605,"d":"14.406"}},"х","х",{"$f":"SUM(L129:L132)","v":{"v":10.95754,"d":"11.0"}}]
["Темп роста (снижения) промышленного производства в сопоставимых ценах, в % к предыдущему году",null,null,"х","х","х","х","х",{"$f":"I133/F133*100","v":{"v":101.21196089941051,"d":"101.2"}},"х","х",{"$f":"L133/I133*100","v":{"v":76.06207114372087,"d":"76.1"}}]
[{"$nulls":9},"Продолжение таблицы № 1б"]
["Наименование  видов выпускаемой продукции (\"товары-представители\") ","Код вида деятельности (по ОКВЭД)","Единица измер.","2017 год",null,null,"2018 год",null,null,"2019 год"]
[{"$nulls":3},"количество*) ","базовая среднегодовая цена (2010г.), руб.","сумма, млн.руб.","количество*) ","базовая среднегодовая цена (2010г.), руб.","сумма, млн.руб.","количество*) ","базовая среднегодовая цена (2010г.), руб.","сумма, млн.руб."]
["А","Б","В",10,11,"12=10х11",13,14,"15=13х14",16,17,"18=16х17"]
["производство хлебобулочных изделий","10..8","тн",{"v":380,"d":"380.0"},{"v":23.05,"d":"23.050"},{"$f":"D139*E139/1000","v":{"v":8.759,"d":"8.8"}},{"v":380,"d":"380.0"},{"v":23.05,"d":"23.050"},{"$f":"G139*H139/1000","v":{"v":8.759,"d":"8.8"}},{"v":380,"d":"380.0"},{"v":23.05,"d":"23.050"},{"$f":"J139*K139/1000","v":{"v":8.759,"d":"8.8"}}]
["производство кндитерских изделий","10..8","тн",{"v":23,"d":"23.0"},{"v":104.6,"d":"104.600"},{"$f":"D140*E140/1000","v":{"v":2.4057999999999997,"d":"2.4"}},{"v":26,"d":"26.0"},{"v":104.6,"d":"104.600"},{"$f":"G140*H140/1000","v":{"v":2.7196,"d":"2.7"}},{"v":30,"d":"30.0"},{"v":104.6,"d":"104.600"},{"$f":"J140*K140/1000","v":{"v":3.138,"d":"3.1"}}]
[]
[]
["Всего по товарам-представителям ",null,null,"х","х",{"$f":"SUM(F139:F142)","v":{"v":11.1648,"d":"11.2"}},"х","х",{"$f":"SUM(I139:I142)","v":{"v":11.4786,"d":"11.5"}},"х","х",{"$f":"SUM(L139:L142)","v":{"v":11.897,"d":"11.9"}}]
["Темп роста (снижения) промышленного производства в сопоставимых ценах, в % к предыдущему году",null,null,"х","х",{"$f":"F143/L133*100","v":{"v":101.89148294233925,"d":"101.9"}},"х","х",{"$f":"I143/F143*100","v":{"v":102.81061908856405,"d":"103"}},"х","х",{"$f":"L143/I143*100","v":{"v":103.64504382067499,"d":"104"}}]
[{"$nulls":9},"Продолжение таблицы № 1б"]
["Наименование  видов выпускаемой продукции (\"товары-представители\") ","Код вида деятельности (по ОКВЭД)","Единица измер.","2020 год",null,null," январь-июнь 2016 года",null,null," январь-июнь 2017 года"]
[{"$nulls":3},"количество*) ","базовая среднегодовая цена (2010г.), руб.","сумма, млн.руб.","количество*) ","базовая среднегодовая цена (2010г.), руб.","сумма, млн.руб.","количество*) ","базовая среднегодовая цена (2010г.), руб.","сумма, млн.руб."]
["А","Б","В",19,20,"21=19х20",22,23,"24=22х23",25,26,"27=25х26"]
["производство хлебобулочных изделий","10..8","тн",{"v":380,"d":"380.0"},{"v":23.05,"d":"23.050"},{"$f":"D149*E149/1000","v":{"v":8.759,"d":"8.8"}},197.1,{"v":23.05,"d":"23.050"},{"$f":"G149*H149/1000","v":{"v":4.543155,"d":"4.543"}},149.2,{"v":23.05,"d":"23.050"},{"$f":"J149*K149/1000","v":{"v":3.43906,"d":"3.439"}}]
["производство кндитерских изделий","10..8","тн",{"v":32,"d":"32.0"},{"v":104.6,"d":"104.600"},{"$f":"D150*E150/1000","v":{"v":3.3472,"d":"3.3"}},12.1,{"v":104.6,"d":"104.600"},{"$f":"G150*H150/1000","v":{"v":1.2656599999999998,"d":"1.266"}},8.98,{"v":104.6,"d":"104.600"},{"$f":"J150*K150/1000","v":{"v":0.939308,"d":"0.939"}}]
[]
[]
["Всего по товарам-представителям ",null,null,"х","х",{"$f":"SUM(F149:F152)","v":{"v":12.106200000000001,"d":"12.1"}},"х","х",{"$f":"SUM(I149:I152)","v":{"v":5.808814999999999,"d":"5.809"}},"х","х",{"$f":"SUM(L149:L152)","v":{"v":4.378368,"d":"4.378"}}]
["Темп роста (снижения) промышленного производства в сопоставимых ценах, в % к предыдущему году",null,null,"х","х",{"$f":"F153/L143*100","v":{"v":101.75842649407414,"d":"101.8"}},"х","х",80.4,"х","х",{"$f":"L153/I153*100","v":{"v":75.37454713224643,"d":"75.4"}}]
[]
[]
["Расчет темпов роста (снижения) промышленного производства в сопоставимых ценах (ценах 2010 года)"]
["по \"товарам-представителям\"  ООО \"Строймаш\" в 2018 году и на период до 2020 года"]
[null,null,"(наименование предприятия, организации)"]
[]
["Наименование  видов выпускаемой продукции (\"товары-представители\") ","Код вида деятельности (по ОКВЭД)","Единица измер.","2014 год",null,null,"2015 год",null,null,"2016 год"]
[{"$nulls":3},"количество*) ","базовая среднегодовая цена (2010г.), руб.","сумма, млн.руб.","количество*) ","базовая среднегодовая цена (2010г.), руб.","сумма, млн.руб.","количество*) ","базовая среднегодовая цена (2010г.), руб.","сумма, млн.руб."]
["А","Б","В",1,2,"3=1х2",4,5,"6=4х5",7,8,"9=7х8"]
["Производство машин и оборудования общего назначения","28..1","млн. руб.",null,null,7.866,15.021,null,{"$f":"G164/1.046/1.031/1.256/1.023/0.942/1.02/1.115/1.054","v":{"v":9.600120192055611,"d":"9.600"}},{"v":16.6633,"d":"16.7"},null,{"$f":"J164/1.046/1.031/1.256/1.023/0.942/1.02/1.115/1.054","v":{"v":10.649735889506708,"d":"10.6"}}]
[]
[]
[]
["Всего по товарам-представителям ",null,null,"х","х",{"$f":"SUM(F164:F167)","v":7.866},"х","х",{"$f":"SUM(I164:I167)","v":{"v":9.600120192055611,"d":"9.600"}},"х","х",{"$f":"SUM(L164:L167)","v":{"v":10.649735889506708,"d":"10.6"}}]
["Темп роста (снижения) промышленного производства в сопоставимых ценах, в % к предыдущему году",null,null,"х","х","х","х","х",{"$f":"I168/F168*100","v":{"v":122.04576903198081,"d":"122.05"}},"х","х",{"$f":"L168/I168*100","v":{"v":110.93335996271887,"d":"110.9"}}]
[{"$nulls":9},"Продолжение таблицы № 1б"]
["Наименование  видов выпускаемой продукции (\"товары-представители\") ","Код вида деятельности (по ОКВЭД)","Единица измер.","2017 год",null,null,"2018 год",null,null,"2019 год"]
[{"$nulls":3},"количество*) ","базовая среднегодовая цена (2010г.), руб.","сумма, млн.руб.","количество*) ","базовая среднегодовая цена (2010г.), руб.","сумма, млн.руб.","количество*) ","базовая среднегодовая цена (2010г.), руб.","сумма, млн.руб."]
["А","Б","В",10,11,"12=10х11",13,14,"15=13х14",16,17,"18=16х17"]
["Производство машин и оборудования общего назначения","28..1","млн. руб.",{"v":20.584,"d":"20.6"},null,{"$f":"D174/1.046/1.031/1.256/1.023/0.942/1.02/1.115/1.054","v":{"v":13.155507225435905,"d":"13.2"}},{"v":21.201,"d":"21.2"},null,{"$f":"G174/1.046/1.031/1.256/1.023/0.942/1.02/1.115/1.054","v":{"v":13.549840103306774,"d":"13.5"}},{"v":22.26,"d":"22.3"},null,{"$f":"J174/1.046/1.031/1.256/1.023/0.942/1.02/1.115/1.054","v":{"v":14.22666103955515,"d":"14.2"}}]
[]
[]
[]
["Всего по товарам-представителям ",null,null,"х","х",{"$f":"SUM(F174:F177)","v":{"v":13.155507225435905,"d":"13.2"}},"х","х",{"$f":"SUM(I174:I177)","v":{"v":13.549840103306774,"d":"13.5"}},"х","х",{"$f":"SUM(L174:L177)","v":{"v":14.22666103955515,"d":"14.2"}}]
["Темп роста (снижения) промышленного производства в сопоставимых ценах, в % к предыдущему году",null,null,"х","х",{"$f":"F178/L168*100","v":{"v":123.5289528484754,"d":"123.5"}},"х","х",{"$f":"I178/F178*100","v":{"v":102.99747376603187,"d":"103.0"}},"х","х",{"$f":"L178/I178*100","v":{"v":104.99504740342435,"d":"105.0"}}]
[{"$nulls":9},"Продолжение таблицы № 1б"]
["Наименование  видов выпускаемой продукции (\"товары-представители\") ","Код вида деятельности (по ОКВЭД)","Единица измер.","2020 год",null,null," январь-июнь 2016 года",null,null," январь-июнь 2017 года"]
[{"$nulls":3},"количество*) ","базовая среднегодовая цена (2010г.), руб.","сумма, млн.руб.","количество*) ","базовая среднегодовая цена (2010г.), руб.","сумма, млн.руб.","количество*) ","базовая среднегодовая цена (2010г.), руб.","сумма, млн.руб."]
["А","Б","В",19,20,"21=19х20",22,23,"24=22х23",25,26,"27=25х26"]
["Производство машин и оборудования общего назначения","28..1","млн. руб.",{"v":23.595,"d":"23.6"},null,{"$f":"D184/1.046/1.031/1.256/1.023/0.942/1.02/1.115/1.054","v":{"v":15.079877233975907,"d":"15.1"}},{"v":7.619,"d":"7.6"},null,{"$f":"G184/1.046/1.031/1.256/1.023/0.942/1.02/1.115/1.054","v":{"v":4.869403884113686,"d":"4.869"}},{"v":10.292,"d":"10.3"},null,{"$f":"J184/1.046/1.031/1.256/1.023/0.942/1.02/1.115/1.054","v":{"v":6.577753612717952,"d":"6.6"}}]
[]
[]
[]
["Всего по товарам-представителям ",null,null,"х","х",{"$f":"SUM(F184:F187)","v":{"v":15.079877233975907,"d":"15.1"}},"х","х",{"$f":"SUM(I184:I187)","v":{"v":4.869403884113686,"d":"4.869"}},"х","х",{"$f":"SUM(L184:L187)","v":{"v":6.577753612717952,"d":"6.6"}}]
["Темп роста (снижения) промышленного производства в сопоставимых ценах, в % к предыдущему году",null,null,"х","х",{"$f":"F188/L178*100","v":{"v":105.99730458221022,"d":"106.0"}},"х","х",176.1,"х","х",{"$f":"L188/I188*100","v":{"v":135.08334427090173,"d":"135.1"}}]
[]
[]
["Расчет темпов роста (снижения) промышленного производства в сопоставимых ценах (ценах 2010 года)"]
["по \"товарам-представителям\"  ООО \"Тихий Дон\" в 2018 году и на период до 2020 года"]
[null,null,"(наименование предприятия, организации)"]
[]
["Наименование  видов выпускаемой продукции (\"товары-представители\") ","Код вида деятельности (по ОКВЭД)","Единица измер.","2014 год",null,null,"2015 год",null,null,"2016 год"]
[{"$nulls":3},"количество*) ","базовая среднегодовая цена (2010г.), руб.","сумма, млн.руб.","количество*) ","базовая среднегодовая цена (2010г.), руб.","сумма, млн.руб.","количество*) ","базовая среднегодовая цена (2010г.), руб.","сумма, млн.руб."]
["А","Б","В",1,2,"3=1х2",4,5,"6=4х5",7,8,"9=7х8"]
[" Камень строительный","08..12","тыс. тонн",335.3,{"v":144,"d":"144.0"},{"$f":"D199*E199/1000","v":{"v":48.28320000000001,"d":"48.283"}},246.4,{"v":144,"d":"144.0"},{"$f":"G199*H199/1000","v":{"v":35.4816,"d":"35.482"}},{"v":398,"d":"398.0"},{"v":144,"d":"144.0"},{"$f":"J199*K199/1000","v":{"v":57.312,"d":"57.3"}}]
[]
[]
[]
["Всего по товарам-представителям ",null,null,"х","х",{"$f":"SUM(F199:F202)","v":{"v":48.28320000000001,"d":"48.283"}},"х","х",{"$f":"SUM(I199:I202)","v":{"v":35.4816,"d":"35.482"}},"х","х",{"$f":"SUM(L199:L202)","v":{"v":57.312,"d":"57.3"}}]
["Темп роста (снижения) промышленного производства в сопоставимых ценах, в % к предыдущему году",null,null,"х","х","х","х","х",{"$f":"I203/F203*100","v":{"v":73.48643006263048,"d":"73.5"}},"х","х",{"$f":"L203/I203*100","v":{"v":161.52597402597402,"d":"161.5"}}]
[{"$nulls":9},"Продолжение таблицы № 1б"]
["Наименование  видов выпускаемой продукции (\"товары-представители\") ","Код вида деятельности (по ОКВЭД)","Единица измер.","2017 год",null,null,"2018 год",null,null,"2019 год"]
[{"$nulls":3},"количество*) ","базовая среднегодовая цена (2010г.), руб.","сумма, млн.руб.","количество*) ","базовая среднегодовая цена (2010г.), руб.","сумма, млн.руб.","количество*) ","базовая среднегодовая цена (2010г.), руб.","сумма, млн.руб."]
["А","Б","В",10,11,"12=10х11",13,14,"15=13х14",16,17,"18=16х17"]
[" Камень строительный","08..12","тыс. тонн",{"v":508,"d":"508.0"},{"v":144,"d":"144.0"},{"$f":"D209*E209/1000","v":{"v":73.152,"d":"73.2"}},{"v":550,"d":"550.0"},{"v":144,"d":"144.0"},{"$f":"G209*H209/1000","v":79.2},{"v":600,"d":"600.0"},{"v":144,"d":"144.0"},{"$f":"J209*K209/1000","v":86.4}]
[]
[]
[]
["Всего по товарам-представителям ",null,null,"х","х",{"$f":"SUM(F209:F212)","v":{"v":73.152,"d":"73.2"}},"х","х",{"$f":"SUM(I209:I212)","v":79.2},"х","х",{"$f":"SUM(L209:L212)","v":86.4}]
["Темп роста (снижения) промышленного производства в сопоставимых ценах, в % к предыдущему году",null,null,"х","х",{"$f":"F213/L203*100","v":{"v":127.63819095477386,"d":"127.6"}},"х","х",{"$f":"I213/F213*100","v":{"v":108.26771653543308,"d":"108.3"}},"х","х",{"$f":"L213/I213*100","v":{"v":109.09090909090911,"d":"109.1"}}]
[{"$nulls":9},"Продолжение таблицы № 1б"]
["Наименование  видов выпускаемой продукции (\"товары-представители\") ","Код вида деятельности (по ОКВЭД)","Единица измер.","2020 год",null,null," январь-июнь 2016 года",null,null," январь-июнь 2017 года"]
[{"$nulls":3},"количество*) ","базовая среднегодовая цена (2010г.), руб.","сумма, млн.руб.","количество*) ","базовая среднегодовая цена (2010г.), руб.","сумма, млн.руб.","количество*) ","базовая среднегодовая цена (2010г.), руб.","сумма, млн.руб."]
["А","Б","В",19,20,"21=19х20",22,23,"24=22х23",25,26,"27=25х26"]
[" Камень строительный","08..12","тыс. тонн",{"v":650,"d":"650.0"},{"v":144,"d":"144.0"},{"$f":"D219*E219/1000","v":93.6},74.8,{"v":144,"d":"144.0"},{"$f":"G219*H219/1000","v":{"v":10.771199999999999,"d":"10.771"}},289.7,{"v":144,"d":"144.0"},{"$f":"J219*K219/1000","v":{"v":41.71679999999999,"d":"41.7"}}]
[]
[]
[]
["Всего по товарам-представителям ",null,null,"х","х",{"$f":"SUM(F219:F222)","v":93.6},"х","х",{"$f":"SUM(I219:I222)","v":{"v":10.771199999999999,"d":"10.771"}},"х","х",{"$f":"SUM(L219:L222)","v":{"v":41.71679999999999,"d":"41.7"}}]
["Темп роста (снижения) промышленного производства в сопоставимых ценах, в % к предыдущему году",null,null,"х","х",{"$f":"F223/L213*100","v":{"v":108.33333333333333,"d":"108.3"}},"х","х",82,"х","х",{"$f":"L223/I223*100","v":{"v":387.29946524064167,"d":"387.3"}}]
[]
[]
["Расчет темпов роста (снижения) промышленного производства в сопоставимых ценах (ценах 2010 года)"]
["по \"товарам-представителям\" ООО \"Строительные материалы - Тихий Дон\" в 2018 году и на период до 2020 года"]
[null,null,"(наименование предприятия, организации)"]
[]
["Наименование  видов выпускаемой продукции (\"товары-представители\") ","Код вида деятельности (по ОКВЭД)","Единица измер.","2014 год",null,null,"2015 год",null,null,"2016 год"]
[{"$nulls":3},"количество*) ","базовая среднегодовая цена (2010г.), руб.","сумма, млн.руб.","количество*) ","базовая среднегодовая цена (2010г.), руб.","сумма, млн.руб.","количество*) ","базовая среднегодовая цена (2010г.), руб.","сумма, млн.руб."]
["А","Б","В",1,2,"3=1х2",4,5,"6=4х5",7,8,"9=7х8"]
["Нерудные материалы","08..12..12","тыс. тонн",335.5,{"v":304,"d":"304.0"},{"$f":"D234*E234/1000","v":101.992},225.7,{"v":304,"d":"304.0"},{"$f":"G234*H234/1000","v":{"v":68.61280000000001,"d":"68.613"}},{"v":387,"d":"387.0"},{"v":304,"d":"304.0"},{"$f":"J234*K234/1000","v":{"v":117.648,"d":"117.6"}}]
[]
[]
[]
["Всего по товарам-представителям ",null,null,"х","х",{"$f":"SUM(F234:F237)","v":101.992},"х","х",{"$f":"SUM(I234:I237)","v":{"v":68.61280000000001,"d":"68.613"}},"х","х",{"$f":"SUM(L234:L237)","v":{"v":117.648,"d":"117.6"}}]
["Темп роста (снижения) промышленного производства в сопоставимых ценах, в % к предыдущему году",null,null,"х","х","х","х","х",{"$f":"I238/F238*100","v":{"v":67.27272727272727,"d":"67.3"}},"х","х",{"$f":"L238/I238*100","v":{"v":171.46654851572882,"d":"171.5"}}]
[{"$nulls":9},"Продолжение таблицы № 1б"]
["Наименование  видов выпускаемой продукции (\"товары-представители\") ","Код вида деятельности (по ОКВЭД)","Единица измер.","2017 год",null,null,"2018 год",null,null,"2019 год"]
[{"$nulls":3},"количество*) ","базовая среднегодовая цена (2010г.), руб.","сумма, млн.руб.","количество*) ","базовая среднегодовая цена (2010г.), руб.","сумма, млн.руб.","количество*) ","базовая среднегодовая цена (2010г.), руб.","сумма, млн.руб."]
["А","Б","В",10,11,"12=10х11",13,14,"15=13х14",16,17,"18=16х17"]
["Нерудные материалы","08..12..12","тыс. тонн",{"v":508,"d":"508.0"},{"v":304,"d":"304.0"},{"$f":"D244*E244/1000","v":{"v":154.432,"d":"154.4"}},{"v":550,"d":"550.0"},{"v":304,"d":"304.0"},{"$f":"G244*H244/1000","v":167.2},{"v":600,"d":"600.0"},{"v":304,"d":"304.0"},{"$f":"J244*K244/1000","v":182.4}]
[]
[]
[]
["Всего по товарам-представителям ",null,null,"х","х",{"$f":"SUM(F244:F247)","v":{"v":154.432,"d":"154.4"}},"х","х",{"$f":"SUM(I244:I247)","v":167.2},"х","х",{"$f":"SUM(L244:L247)","v":182.4}]
["Темп роста (снижения) промышленного производства в сопоставимых ценах, в % к предыдущему году",null,null,"х","х",{"$f":"F248/L238*100","v":{"v":131.26614987080103,"d":"131.3"}},"х","х",{"$f":"I248/F248*100","v":{"v":108.26771653543308,"d":"108.3"}},"х","х",{"$f":"L248/I248*100","v":{"v":109.09090909090911,"d":"109.1"}}]
[{"$nulls":9},"Продолжение таблицы № 1б"]
["Наименование  видов выпускаемой продукции (\"товары-представители\") ","Код вида деятельности (по ОКВЭД)","Единица измер.","2020 год",null,null," январь-июнь 2016 года",null,null," январь-июнь 2017 года"]
[{"$nulls":3},"количество*) ","базовая среднегодовая цена (2010г.), руб.","сумма, млн.руб.","количество*) ","базовая среднегодовая цена (2010г.), руб.","сумма, млн.руб.","количество*) ","базовая среднегодовая цена (2010г.), руб.","сумма, млн.руб."]
["А","Б","В",19,20,"21=19х20",22,23,"24=22х23",25,26,"27=25х26"]
["Нерудные материалы","08..12..12","тыс. тонн",{"v":650,"d":"650.0"},{"v":304,"d":"304.0"},{"$f":"D254*E254/1000","v":197.6},88.5,{"v":304,"d":"304.0"},{"$f":"G254*H254/1000","v":26.904},254.5,{"v":304,"d":"304.0"},{"$f":"J254*K254/1000","v":{"v":77.368,"d":"77.4"}}]
[]
[]
[]
["Всего по товарам-представителям ",null,null,"х","х",{"$f":"SUM(F254:F257)","v":197.6},"х","х",{"$f":"SUM(I254:I257)","v":26.904},"х","х",{"$f":"SUM(L254:L257)","v":{"v":77.368,"d":"77.4"}}]
["Темп роста (снижения) промышленного производства в сопоставимых ценах, в % к предыдущему году",null,null,"х","х",{"$f":"F258/L248*100","v":{"v":108.33333333333333,"d":"108.3"}},"х","х",96.7,"х","х",{"$f":"L258/I258*100","v":{"v":287.57062146892656,"d":"287.6"}}]
[]
[]
["Расчет темпов роста (снижения) промышленного производства в сопоставимых ценах (ценах 2010 года)"]
["по \"товарам-представителям\" МКУП \"Богучаркоммунсервис\"  в 2018 году и на период до 2020 года"]
[null,null,"(наименование предприятия, организации)"]
[]
["Наименование  видов выпускаемой продукции (\"товары-представители\") ","Код вида деятельности (по ОКВЭД)","Единица измер.","2014 год",null,null,"2015 год",null,null,"2016 год"]
[{"$nulls":3},"количество*) ","базовая среднегодовая цена (2010г.), руб.","сумма, млн.руб.","количество*) ","базовая среднегодовая цена (2010г.), руб.","сумма, млн.руб.","количество*) ","базовая среднегодовая цена (2010г.), руб.","сумма, млн.руб."]
["А","Б","В",1,2,"3=1х2",4,5,"6=4х5",7,8,"9=7х8"]
["Распределение воды","36.00.2","тыс. м. куб.",603.1,{"v":29.45,"d":"29.5"},{"$f":"D269*E269/1000","v":{"v":17.761295,"d":"17.761"}},634.9,{"v":29.45,"d":"29.5"},{"$f":"G269*H269/1000","v":{"v":18.697805,"d":"18.698"}},677.3,{"v":29.45,"d":"29.5"},{"$f":"J269*K269/1000","v":{"v":19.946484999999996,"d":"19.9"}}]
["Производство пара и грячей воды","35.30.14","тыс. Гкалл",15.3,{"v":1161.49,"d":"1161.5"},{"$f":"D270*E270/1000","v":{"v":17.770797,"d":"17.771"}},16.3,{"v":1161.49,"d":"1161.5"},{"$f":"G270*H270/1000","v":{"v":18.932287,"d":"18.932"}},{"v":13.96,"d":"14.0"},{"v":1161.49,"d":"1161.5"},{"$f":"J270*K270/1000","v":{"v":16.2144004,"d":"16.2"}}]
["Удаление и обработка сточных вод","37.00","тыс. м. куб.",281.6,{"v":29.09,"d":"29.1"},{"v":8.191744,"d":"8.192"},292.6,{"v":29.09,"d":"29.1"},{"v":8.511734,"d":"8.512"},{"v":301.88,"d":"301.9"},{"v":29.09,"d":"29.1"},{"v":8.7816892,"d":"8.8"}]
["Передача пара и грячей воды","35,30,3","тыс. Гкалл",{"v":0,"d":"0.0"},285.8,{"v":0,"d":"0.000"},2.2,285.8,{"v":0.6287600000000001,"d":"0.629"},{"v":5.03,"d":"5.0"},285.8,{"v":1.4375740000000001,"d":"1.4"}]
["Всего по товарам-представителям ",null,null,"х","х",{"$f":"SUM(F269:F272)","v":{"v":43.723836000000006,"d":"43.724"}},"х","х",{"$f":"SUM(I269:I272)","v":{"v":46.770585999999994,"d":"46.771"}},"х","х",{"$f":"SUM(L269:L272)","v":{"v":46.3801486,"d":"46.4"}}]
["Темп роста (снижения) промышленного производства в сопоставимых ценах, в % к предыдущему году",null,null,"х","х","х","х","х",{"$f":"I273/F273*100","v":{"v":106.9681672028959,"d":"107.0"}},"х","х",{"$f":"L273/I273*100","v":{"v":99.16520738055324,"d":"99.2"}}]
[{"$nulls":9},"Продолжение таблицы № 1б"]
["Наименование  видов выпускаемой продукции (\"товары-представители\") ","Код вида деятельности (по ОКВЭД)","Единица измер.","2017 год",null,null,"2018 год",null,null,"2019 год"]
[{"$nulls":3},"количество*) ","базовая среднегодовая цена (2010г.), руб.","сумма, млн.руб.","количество*) ","базовая среднегодовая цена (2010г.), руб.","сумма, млн.руб.","количество*) ","базовая среднегодовая цена (2010г.), руб.","сумма, млн.руб."]
["А","Б","В",10,11,"12=10х11",13,14,"15=13х14",16,17,"18=16х17"]
["Распределение воды","36.00.2","тыс. м. куб.",648.065,{"v":29.45,"d":"29.5"},{"$f":"D279*E279/1000","v":{"v":19.08551425,"d":"19.1"}},654.55,{"v":29.45,"d":"29.5"},{"$f":"G279*H279/1000","v":{"v":19.276497499999998,"d":"19.3"}},{"v":667.641,"d":"667.6"},{"v":29.45,"d":"29.5"},{"$f":"J279*K279/1000","v":{"v":19.662027449999997,"d":"19.7"}}]
["Производство пара и грячей воды","35.30.14","тыс. Гкалл",{"v":14.5,"d":"14.50"},{"v":1161.49,"d":"1161.5"},{"$f":"D280*E280/1000","v":{"v":16.841605,"d":"16.8"}},{"v":15,"d":"15.0"},{"v":1161.49,"d":"1161.5"},{"$f":"G280*H280/1000","v":{"v":17.422349999999998,"d":"17.4"}},15.3,{"v":1161.49,"d":"1161.5"},{"$f":"J280*K280/1000","v":{"v":17.770797,"d":"17.8"}}]
["Удаление и обработка сточных вод","37.00","тыс. м. куб.",325.37,{"v":29.09,"d":"29.1"},{"v":9.4650133,"d":"9.5"},329.6,{"v":29.09,"d":"29.1"},{"v":9.588064000000001,"d":"9.6"},{"v":336.192,"d":"336.2"},{"v":29.09,"d":"29.1"},{"v":9.77982528,"d":"9.8"}]
["Передача пара и грячей воды","35,30,3","тыс. Гкалл",5.242,285.8,{"v":1.4981636,"d":"1.5"},5.4,285.8,{"v":1.5433200000000002,"d":"1.5"},{"v":5.508,"d":"5.5"},285.8,{"v":1.5741864,"d":"1.6"}]
["Всего по товарам-представителям ",null,null,"х","х",{"$f":"SUM(F279:F282)","v":{"v":46.890296150000005,"d":"46.9"}},"х","х",{"$f":"SUM(I279:I282)","v":{"v":47.830231500000004,"d":"47.8"}},"х","х",{"$f":"SUM(L279:L282)","v":{"v":48.78683613,"d":"48.8"}}]
["Темп роста (снижения) промышленного производства в сопоставимых ценах, в % к предыдущему году",null,null,"х","х",{"$f":"F283/L273*100","v":{"v":101.09992651036914,"d":"101.10"}},"х","х",{"$f":"I283/F283*100","v":{"v":102.00454129569407,"d":"102.0"}},"х","х",{"$f":"L283/I283*100","v":101.99999999999999}]
[{"$nulls":9},"Продолжение таблицы № 1б"]
["Наименование  видов выпускаемой продукции (\"товары-представители\") ","Код вида деятельности (по ОКВЭД)","Единица измер.","2020 год",null,null," январь-июнь 2016 года",null,null," январь-июнь 2017 года"]
[{"$nulls":3},"количество*) ","базовая среднегодовая цена (2010г.), руб.","сумма, млн.руб.","количество*) ","базовая среднегодовая цена (2010г.), руб.","сумма, млн.руб.","количество*) ","базовая среднегодовая цена (2010г.), руб.","сумма, млн.руб."]
["А","Б","В",19,20,"21=19х20",22,23,"24=22х23",25,26,"27=25х26"]
["Распределение воды","36.00.2","тыс. м. куб.",{"v":687.67,"d":"687.7"},{"v":29.45,"d":"29.5"},{"$f":"D289*E289/1000","v":{"v":20.2518815,"d":"20.3"}},315.2,29.45,{"$f":"G289*H289/1000","v":{"v":9.282639999999999,"d":"9.283"}},365.8,{"v":29.45,"d":"29.5"},{"$f":"J289*K289/1000","v":{"v":10.77281,"d":"10.8"}}]
["Производство пара и грячей воды","35.30.14","тыс. Гкалл",15.6,{"v":1161.49,"d":"1161.5"},{"$f":"D290*E290/1000","v":{"v":18.119244,"d":"18.1"}},7.3,1161.49,{"$f":"G290*H290/1000","v":{"v":8.478877,"d":"8.479"}},7.8,{"v":1161.49,"d":"1161.5"},{"$f":"J290*K290/1000","v":{"v":9.059622,"d":"9.1"}}]
["Удаление и обработка сточных вод","37.00","тыс. м. куб.",{"v":353.01,"d":"353.0"},{"v":29.09,"d":"29.1"},{"v":10.269060900000001,"d":"10.3"},140.9,29.09,{"v":4.098781,"d":"4.099"},169.4,{"v":29.09,"d":"29.1"},{"v":4.927846000000001,"d":"4.9"}]
["Передача пара и грячей воды","35,30,3","тыс. Гкалл",{"v":5.61,"d":"5.6"},285.8,{"v":1.6033380000000002,"d":"1.6"},2.3,{"v":285.8,"d":"285.80"},{"v":0.65734,"d":"0.657"},2.4,285.8,{"v":0.68592,"d":"0.7"}]
["Всего по товарам-представителям ",null,null,"х","х",{"$f":"SUM(F289:F292)","v":{"v":50.2435244,"d":"50.2"}},"х","х",{"$f":"SUM(I289:I292)","v":{"v":22.517637999999998,"d":"22.518"}},"х","х",{"$f":"SUM(L289:L292)","v":{"v":25.446198,"d":"25.4"}}]
["Темп роста (снижения) промышленного производства в сопоставимых ценах, в % к предыдущему году",null,null,"х","х",{"$f":"F293/L283*100","v":{"v":102.98582237659033,"d":"103"}},"х","х",87.8,"х","х",{"$f":"L293/I293*100","v":{"v":113.00562696673605,"d":"113.0"}}]

{"sheet":"форма для всех_сводная","index":3,"n_rows":89,"n_cols":11,"rows_kept":89,"merged":[[0,8,0,10],[1,0,1,10],[2,0,2,10],[3,0,3,10],[5,0,6,0],[5,1,6,2],[5,3,6,3],[5,4,5,5],[5,6,5,7],[5,8,5,10],[7,1,7,2],[8,1,8,2],[9,1,9,2],[11,0,34,0],[16,13,16,14],[37,1,37,2],[38,1,38,2],[39,1,39,2],[40,1,40,2],[41,0,42,0],[41,1,41,2],[42,1,42,2],[43,1,43,2],[44,1,44,2],[45,1,45,2],[46,1,46,2],[47,1,47,2],[48,1,48,2],[49,1,49,2],[50,1,50,2],[51,1,51,2],[52,0,72,0],[52,1,52,2],[53,1,53,2],[54,1,54,2],[55,1,55,2],[56,1,56,2],[57,1,57,2],[58,1,58,2],[59,1,59,2],[60,1,60,2],[61,1,61,2],[62,1,62,2],[63,1,63,2],[64,1,64,2],[65,1,65,2],[66,1,66,2],[67,1,67,2],[68,1,68,2],[69,1,69,2],[70,1,70,2],[71,1,71,2],[72,1,72,2],[73,0,81,0],[73,1,73,2],[74,1,74,2],[75,1,75,2],[76,1,76,2],[77,1,77,2],[78,1,78,2],[79,1,79,2],[80,1,80,2],[81,1,81,2],[83,0,83,10],[84,2,84,10],[86,2,86,9],[88,2,88,9],[90,2,90,8],[91,2,91,8],[92,2,92,8],[95,2,95,8],[96,2,96,8]]}
[{"$nulls":8},"Форма № 2"]
["ПРОГНОЗ*)"]
["социально-экономического развития на 2018 год и на период до 2020 года"]
["Богучарского муниципального района"]
[]
["№ п/п ","Показатели ",null,"Единица измерения"," отчет",null,"2017г.",null,"прогноз"]
[{"$nulls":4},"2015г.","2016г.","январь-июнь, отчет","январь-декабрь, оценка","2018г. ","2019г. ","2020г. "]
["1.","Оборот промышленных организаций (без НДС, акцизов и других аналогичных обязательных платежей) - всего**) ",null,"млн.руб.",{"$f":"'форма для предприятий '!E15+'форма для предприятий '!E79+'форма для предприятий '!E139+'форма для предприятий '!E199+'форма для предприятий '!E258+'форма для предприятий '!E317+'форма для предприятий '!E379+'форма для предприятий '!E441","v":871.6809999999999},{"$f":"'форма для предприятий '!F15+'форма для предприятий '!F79+'форма для предприятий '!F139+'форма для предприятий '!F199+'форма для предприятий '!F258+'форма для предприятий '!F317+'форма для предприятий '!F379+'форма для предприятий '!F441","v":{"v":1104.9918200000002,"d":"1104.992"}},{"$f":"'форма для предприятий '!G15+'форма для предприятий '!G79+'форма для предприятий '!G139+'форма для предприятий '!G199+'форма для предприятий '!G258+'форма для предприятий '!G317+'форма для предприятий '!G379+'форма для предприятий '!G441","v":700.865},{"$f":"'форма для предприятий '!H15+'форма для предприятий '!H79+'форма для предприятий '!H139+'форма для предприятий '!H199+'форма для предприятий '!H258+'форма для предприятий '!H317+'форма для предприятий '!H379+'форма для предприятий '!H441","v":1363.6829999999998},{"$f":"'форма для предприятий '!I15+'форма для предприятий '!I79+'форма для предприятий '!I139+'форма для предприятий '!I199+'форма для предприятий '!I258+'форма для предприятий '!I317+'форма для предприятий '!I379+'форма для предприятий '!I441","v":{"v":1457.7371148035045,"d":"1457.737"}},{"$f":"'форма для предприятий '!J15+'форма для предприятий '!J79+'форма для предприятий '!J139+'форма для предприятий '!J199+'форма для предприятий '!J258+'форма для предприятий '!J317+'форма для предприятий '!J379+'форма для предприятий '!J441","v":{"v":1565.0770261093626,"d":"1565.077"}},{"$f":"'форма для предприятий '!K15+'форма для предприятий '!K79+'форма для предприятий '!K139+'форма для предприятий '!K199+'форма для предприятий '!K258+'форма для предприятий '!K317+'форма для предприятий '!K379+'форма для предприятий '!K441","v":{"v":1693.2944381782006,"d":"1693.294"}}]
["2.","Отгружено товаров собственного производства, выполнено работ и услуг собственными силами по промышленным видам экономической деятельности  (В+С+D+Е) - всего (по чистым видам деятельности)",null,"млн.руб.",{"$f":"'форма для предприятий '!E27+'форма для предприятий '!E91+'форма для предприятий '!E149+'форма для предприятий '!E208+'форма для предприятий '!E270+'форма для предприятий '!E329+'форма для предприятий '!E391+'форма для предприятий '!E453","v":842.5600000000001},{"$f":"'форма для предприятий '!F27+'форма для предприятий '!F91+'форма для предприятий '!F149+'форма для предприятий '!F208+'форма для предприятий '!F270+'форма для предприятий '!F329+'форма для предприятий '!F391+'форма для предприятий '!F453","v":1031.4500200000002},{"$f":"'форма для предприятий '!G27+'форма для предприятий '!G91+'форма для предприятий '!G149+'форма для предприятий '!G208+'форма для предприятий '!G270+'форма для предприятий '!G329+'форма для предприятий '!G391+'форма для предприятий '!G453","v":{"v":663.4331999999999,"d":"663.433"}},{"$f":"'форма для предприятий '!H27+'форма для предприятий '!H91+'форма для предприятий '!H149+'форма для предприятий '!H208+'форма для предприятий '!H270+'форма для предприятий '!H329+'форма для предприятий '!H391+'форма для предприятий '!H453","v":1268.8189999999997},{"$f":"'форма для предприятий '!I27+'форма для предприятий '!I91+'форма для предприятий '!I149+'форма для предприятий '!I208+'форма для предприятий '!I270+'форма для предприятий '!I329+'форма для предприятий '!I391+'форма для предприятий '!I453","v":{"v":1380.3226558691974,"d":"1380.323"}},{"$f":"'форма для предприятий '!J27+'форма для предприятий '!J91+'форма для предприятий '!J149+'форма для предприятий '!J208+'форма для предприятий '!J270+'форма для предприятий '!J329+'форма для предприятий '!J391+'форма для предприятий '!J453","v":{"v":1510.6387882260335,"d":"1510.639"}},{"$f":"'форма для предприятий '!K27+'форма для предприятий '!K91+'форма для предприятий '!K149+'форма для предприятий '!K208+'форма для предприятий '!K270+'форма для предприятий '!K329+'форма для предприятий '!K391+'форма для предприятий '!K453","v":{"v":1664.1698670897588,"d":"1664.170"}}]
[null,"в том числе по  видам деятельности:"]
["2.1.","В","«Добыча полезных ископаемых» ","млн.руб.",{"$f":"'форма для предприятий '!E321+'форма для предприятий '!E383","v":148.303},{"$f":"'форма для предприятий '!F321+'форма для предприятий '!F383","v":243.20618000000002},{"$f":"'форма для предприятий '!G321+'форма для предприятий '!G383","v":187.474},{"$f":"'форма для предприятий '!H321+'форма для предприятий '!H383","v":374.948},{"$f":"'форма для предприятий '!I321+'форма для предприятий '!I383","v":{"v":422.9974385826772,"d":"422.997"}},{"$f":"'форма для предприятий '!J321+'форма для предприятий '!J383","v":{"v":480.83272473070883,"d":"480.833"}},{"$f":"'форма для предприятий '!K321+'форма для предприятий '!K383","v":{"v":543.3009095519733,"d":"543.301"}}]
["2.2.","С","«Обрабатывающие производства»","млн.руб.",{"$f":"E14+E27","v":639.5360000000001},{"$f":"F14+F27","v":723.12624},{"$f":"G14+G27","v":{"v":439.4285,"d":"439.429"}},823.1749999999998,{"v":882.5207246462622,"d":"882.521"},{"v":950.4393862323869,"d":"950.439"},{"v":1035.847054262644,"d":"1035.847"}]
[null,null,"в том числе:"]
[null,10,"Производство пищевых продуктов","млн.руб.",{"$f":"'форма для предприятий '!E19+'форма для предприятий '!E20+'форма для предприятий '!E21+'форма для предприятий '!E22+'форма для предприятий '!E23+'форма для предприятий '!E24+'форма для предприятий '!E25+'форма для предприятий '!E26+'форма для предприятий '!E83+'форма для предприятий '!E84+'форма для предприятий '!E143+'форма для предприятий '!E203+'форма для предприятий '!E204","v":624.5150000000001},{"$f":"'форма для предприятий '!F19+'форма для предприятий '!F20+'форма для предприятий '!F21+'форма для предприятий '!F22+'форма для предприятий '!F23+'форма для предприятий '!F24+'форма для предприятий '!F25+'форма для предприятий '!F26+'форма для предприятий '!F83+'форма для предприятий '!F84+'форма для предприятий '!F143+'форма для предприятий '!F203+'форма для предприятий '!F204","v":706.46294},{"$f":"'форма для предприятий '!G19+'форма для предприятий '!G20+'форма для предприятий '!G21+'форма для предприятий '!G22+'форма для предприятий '!G23+'форма для предприятий '!G24+'форма для предприятий '!G25+'форма для предприятий '!G26+'форма для предприятий '!G83+'форма для предприятий '!G84+'форма для предприятий '!G143+'форма для предприятий '!G203+'форма для предприятий '!G204","v":{"v":429.1365,"d":"429.137"}},{"$f":"'форма для предприятий '!H19+'форма для предприятий '!H20+'форма для предприятий '!H21+'форма для предприятий '!H22+'форма для предприятий '!H23+'форма для предприятий '!H24+'форма для предприятий '!H25+'форма для предприятий '!H26+'форма для предприятий '!H83+'форма для предприятий '!H84+'форма для предприятий '!H143+'форма для предприятий '!H203+'форма для предприятий '!H204","v":802.5909999999999},{"$f":"'форма для предприятий '!I19+'форма для предприятий '!I20+'форма для предприятий '!I21+'форма для предприятий '!I22+'форма для предприятий '!I23+'форма для предприятий '!I24+'форма для предприятий '!I25+'форма для предприятий '!I26+'форма для предприятий '!I83+'форма для предприятий '!I84+'форма для предприятий '!I143+'форма для предприятий '!I203+'форма для предприятий '!I204","v":{"v":860.1536696462622,"d":"860.154"}},{"$f":"'форма для предприятий '!J19+'форма для предприятий '!J20+'форма для предприятий '!J21+'форма для предприятий '!J22+'форма для предприятий '!J23+'форма для предприятий '!J24+'форма для предприятий '!J25+'форма для предприятий '!J26+'форма для предприятий '!J83+'форма для предприятий '!J84+'форма для предприятий '!J143+'форма для предприятий '!J203+'форма для предприятий '!J204","v":{"v":925.663449732387,"d":"925.663"}},{"$f":"'форма для предприятий '!K19+'форма для предприятий '!K20+'форма для предприятий '!K21+'форма для предприятий '!K22+'форма для предприятий '!K23+'форма для предприятий '!K24+'форма для предприятий '!K25+'форма для предприятий '!K26+'форма для предприятий '!K83+'форма для предприятий '!K84+'форма для предприятий '!K143+'форма для предприятий '!K203+'форма для предприятий '!K204","v":{"v":1008.1145671946439,"d":"1008.115"}}]
[null,11,"Производство напитков","млн.руб."]
[null,13,"Производство текстильных изделий","млн.руб."]
[null,14,"Производство одежды","млн.руб."]
[null,15,"Производство кожи и изделий из кожи","млн.руб."]
[null,16,"Обработка древесины и производство изделий из дерева и пробки, кроме мебели, производство изделий из соломки и материалов для плетения","млн.руб."]
[null,17,"Производство бумаги и бумажных изделий","млн.руб."]
[null,18,"Деятельность полиграфическая и копирование носителей информации","млн.руб."]
[null,20,"Производство химических веществ и химических продуктов","млн.руб."]
[null,21,"Производство лекарственных средств и материалов, применяемых в медицинских целях","млн.руб."]
[null,22,"Производство резиновых и пластмассовых изделий","млн.руб."]
[null,23,"Производство прочей неметаллической минеральной продукции","млн.руб."]
[null,24,"Производство металлургическое","млн.руб."]
[null,25,"Производство готовых металлических изделий, кроме машин и оборудования","млн.руб.",{"$f":"'форма для предприятий '!E262","v":15.021},{"$f":"'форма для предприятий '!F262","v":16.6633},{"$f":"'форма для предприятий '!G262","v":10.292},{"$f":"'форма для предприятий '!H262","v":20.584},{"$f":"'форма для предприятий '!I262","v":{"v":22.367055,"d":"22.367"}},{"$f":"'форма для предприятий '!J262","v":{"v":24.775936499999997,"d":"24.776"}},{"$f":"'форма для предприятий '!K262","v":{"v":27.73248706799999,"d":"27.732"}}]
[null,26,"Производство компьютеров, электронных и оптических изделий","млн.руб."]
[null,27,"Производство электрического оборудования","млн.руб."]
[null,28,"Производство машин и оборудования, не включенных в другие группировки","млн.руб."]
[null,29,"Производство автотранспортных средств, прицепов и полуприцепов","млн.руб."]
[null,30,"Производство прочих транспортных средств и оборудования","млн.руб."]
[null,31,"Производство мебели","млн.руб."]
[null,32,"Производство прочих готовых изделий","млн.руб."]
[null,33,"Ремонт и монтаж машин и оборудования","млн.руб."]
["2.3.","D","«Обеспечение электрической энергией, газом и паром; кондиционирование воздуха» ","млн.руб.",{"$f":"'форма для предприятий '!E146+'форма для предприятий '!E446+'форма для предприятий '!E448","v":32.345},{"$f":"'форма для предприятий '!F146+'форма для предприятий '!F446+'форма для предприятий '!F448","v":{"v":29.041999999999998,"d":"29.042"}},{"$f":"'форма для предприятий '!G146+'форма для предприятий '!G446+'форма для предприятий '!G448","v":16.449},{"$f":"'форма для предприятий '!H146+'форма для предприятий '!H446+'форма для предприятий '!H448","v":33.968},{"$f":"'форма для предприятий '!I146+'форма для предприятий '!I446+'форма для предприятий '!I448","v":{"v":35.95245927498498,"d":"35.952"}},{"$f":"'форма для предприятий '!J146+'форма для предприятий '!J446+'форма для предприятий '!J448","v":{"v":38.151451220035874,"d":"38.151"}},{"$f":"'форма для предприятий '!K146+'форма для предприятий '!K446+'форма для предприятий '!K448","v":{"v":40.87710413498431,"d":"40.877"}}]
["2.4.","Е","«Водоснабжение; водоотведение, организация сбора и утилизации отходов, деятельность по ликвидации загрязнений» ","млн.руб.",{"$f":"'форма для предприятий '!E145+'форма для предприятий '!E445+'форма для предприятий '!E447","v":33.066},{"$f":"'форма для предприятий '!F145+'форма для предприятий '!F445+'форма для предприятий '!F447","v":{"v":36.0756,"d":"36.076"}},{"$f":"'форма для предприятий '!G145+'форма для предприятий '!G445+'форма для предприятий '!G447","v":{"v":20.081699999999998,"d":"20.082"}},{"$f":"'форма для предприятий '!H145+'форма для предприятий '!H445+'форма для предприятий '!H447","v":{"v":36.727999999999994,"d":"36.728"}},{"$f":"'форма для предприятий '!I145+'форма для предприятий '!I445+'форма для предприятий '!I447","v":{"v":38.85203336527295,"d":"38.852"}},{"$f":"'форма для предприятий '!J145+'форма для предприятий '!J445+'форма для предприятий '!J447","v":{"v":41.21522604290182,"d":"41.215"}},{"$f":"'форма для предприятий '!K145+'форма для предприятий '!K445+'форма для предприятий '!K447","v":{"v":44.14479914015718,"d":"44.145"}}]
["3.","Темп роста (снижения) промышленного производства в сопоставимых ценах (ценах 2010г.)",null,"в % к предыду- щему году",71.1,{"$f":"'расчет темпов - сводная'!E37","v":{"v":113.00225662314301,"d":"113.0"}},{"$f":"'расчет темпов - сводная'!K37","v":{"v":162.45619598477347,"d":"162.5"}},{"$f":"'расчет темпов - сводная'!F37","v":{"v":113.61989163524757,"d":"113.6"}},{"$f":"'расчет темпов - сводная'!G37","v":{"v":104.80855695371972,"d":"104.8"}},{"$f":"'расчет темпов - сводная'!H37","v":{"v":105.44077226625373,"d":"105.4"}},{"$f":"'расчет темпов - сводная'!I37","v":{"v":105.89948471745939,"d":"105.9"}}]
["4.","Индекс цен производителей промышленной продукции (Индекс-дефлятор оптовых цен в 2018-2020гг.)",null,"в % к предыду- щему году",133.4,{"$f":"F8/E8*100/F38*100","v":{"v":112.1797239462136,"d":"112.2"}},{"$f":"G8/429.682*100/G38*100","v":{"v":100.40398080916064,"d":"100.4"}},{"$f":"H8/F8*100/H38*100","v":{"v":108.61754754881878,"d":"108.6"}},{"$f":"I9/H9*100/I38*100","v":{"v":103.79685659375266,"d":"103.8"}},{"$f":"J9/I9*100/J38*100","v":{"v":103.79380600107089,"d":"103.8"}},{"$f":"K9/J9*100/K38*100","v":{"v":104.02630563667547,"d":"104.0"}}]
["5.","Численность работающих ",null,"человек",{"$f":"'форма для предприятий '!E31+'форма для предприятий '!E95+'форма для предприятий '!E153+'форма для предприятий '!E212+'форма для предприятий '!E274+'форма для предприятий '!E333+'форма для предприятий '!E395+'форма для предприятий '!E457","v":797},{"$f":"'форма для предприятий '!F31+'форма для предприятий '!F95+'форма для предприятий '!F153+'форма для предприятий '!F212+'форма для предприятий '!F274+'форма для предприятий '!F333+'форма для предприятий '!F395+'форма для предприятий '!F457","v":811},{"$f":"'форма для предприятий '!G31+'форма для предприятий '!G95+'форма для предприятий '!G153+'форма для предприятий '!G212+'форма для предприятий '!G274+'форма для предприятий '!G333+'форма для предприятий '!G395+'форма для предприятий '!G457","v":830},{"$f":"'форма для предприятий '!H31+'форма для предприятий '!H95+'форма для предприятий '!H153+'форма для предприятий '!H212+'форма для предприятий '!H274+'форма для предприятий '!H333+'форма для предприятий '!H395+'форма для предприятий '!H457","v":837},{"$f":"'форма для предприятий '!I31+'форма для предприятий '!I95+'форма для предприятий '!I153+'форма для предприятий '!I212+'форма для предприятий '!I274+'форма для предприятий '!I333+'форма для предприятий '!I395+'форма для предприятий '!I457","v":844},{"$f":"'форма для предприятий '!J31+'форма для предприятий '!J95+'форма для предприятий '!J153+'форма для предприятий '!J212+'форма для предприятий '!J274+'форма для предприятий '!J333+'форма для предприятий '!J395+'форма для предприятий '!J457","v":860},{"$f":"'форма для предприятий '!K31+'форма для предприятий '!K95+'форма для предприятий '!K153+'форма для предприятий '!K212+'форма для предприятий '!K274+'форма для предприятий '!K333+'форма для предприятий '!K395+'форма для предприятий '!K457","v":863}]
["6.","Среднемесячная заработная плата ",null,"руб.",{"$f":"('форма для предприятий '!E36+'форма для предприятий '!E100+'форма для предприятий '!E158+'форма для предприятий '!E217+'форма для предприятий '!E279+'форма для предприятий '!E338+'форма для предприятий '!E400+'форма для предприятий '!E462)/('форма для предприятий '!E31+'форма для предприятий '!E95+'форма для предприятий '!E153+'форма для предприятий '!E212+'форма для предприятий '!E274+'форма для предприятий '!E333+'форма для предприятий '!E395+'форма для предприятий '!E457)/12*1000000","v":{"v":15430.890840652446,"d":"15431"}},{"$f":"('форма для предприятий '!F36+'форма для предприятий '!F100+'форма для предприятий '!F158+'форма для предприятий '!F217+'форма для предприятий '!F279+'форма для предприятий '!F338+'форма для предприятий '!F400+'форма для предприятий '!F462)/('форма для предприятий '!F31+'форма для предприятий '!F95+'форма для предприятий '!F153+'форма для предприятий '!F212+'форма для предприятий '!F274+'форма для предприятий '!F333+'форма для предприятий '!F395+'форма для предприятий '!F457)/12*1000000","v":{"v":17820.198520345253,"d":"17820"}},{"$f":"('форма для предприятий '!G36+'форма для предприятий '!G100+'форма для предприятий '!G158+'форма для предприятий '!G217+'форма для предприятий '!G279+'форма для предприятий '!G338+'форма для предприятий '!G400+'форма для предприятий '!G462)/('форма для предприятий '!G31+'форма для предприятий '!G95+'форма для предприятий '!G153+'форма для предприятий '!G212+'форма для предприятий '!G274+'форма для предприятий '!G333+'форма для предприятий '!G395+'форма для предприятий '!G457)/6*1000000","v":{"v":21060.669879518075,"d":"21061"}},{"$f":"('форма для предприятий '!H36+'форма для предприятий '!H100+'форма для предприятий '!H158+'форма для предприятий '!H217+'форма для предприятий '!H279+'форма для предприятий '!H338+'форма для предприятий '!H400+'форма для предприятий '!H462)/('форма для предприятий '!H31+'форма для предприятий '!H95+'форма для предприятий '!H153+'форма для предприятий '!H212+'форма для предприятий '!H274+'форма для предприятий '!H333+'форма для предприятий '!H395+'форма для предприятий '!H457)/12*1000000","v":{"v":19851.62007168459,"d":"19852"}},{"$f":"('форма для предприятий '!I36+'форма для предприятий '!I100+'форма для предприятий '!I158+'форма для предприятий '!I217+'форма для предприятий '!I279+'форма для предприятий '!I338+'форма для предприятий '!I400+'форма для предприятий '!I462)/('форма для предприятий '!I31+'форма для предприятий '!I95+'форма для предприятий '!I153+'форма для предприятий '!I212+'форма для предприятий '!I274+'форма для предприятий '!I333+'форма для предприятий '!I395+'форма для предприятий '!I457)/12*1000000","v":{"v":21450.4845971564,"d":"21450"}},{"$f":"('форма для предприятий '!J36+'форма для предприятий '!J100+'форма для предприятий '!J158+'форма для предприятий '!J217+'форма для предприятий '!J279+'форма для предприятий '!J338+'форма для предприятий '!J400+'форма для предприятий '!J462)/('форма для предприятий '!J31+'форма для предприятий '!J95+'форма для предприятий '!J153+'форма для предприятий '!J212+'форма для предприятий '!J274+'форма для предприятий '!J333+'форма для предприятий '!J395+'форма для предприятий '!J457)/12*1000000","v":{"v":23202.258139534883,"d":"23202"}},{"$f":"('форма для предприятий '!K36+'форма для предприятий '!K100+'форма для предприятий '!K158+'форма для предприятий '!K217+'форма для предприятий '!K279+'форма для предприятий '!K338+'форма для предприятий '!K400+'форма для предприятий '!K462)/('форма для предприятий '!K31+'форма для предприятий '!K95+'форма для предприятий '!K153+'форма для предприятий '!K212+'форма для предприятий '!K274+'форма для предприятий '!K333+'форма для предприятий '!K395+'форма для предприятий '!K457)/12*1000000","v":{"v":25080.659327925845,"d":"25081"}}]
["7.","Затраты на производство и продажу продукции (товаров, работ, услуг) - всего",null,"млн.руб.",{"$f":"'форма для предприятий '!E33+'форма для предприятий '!E97+'форма для предприятий '!E155+'форма для предприятий '!E214+'форма для предприятий '!E276+'форма для предприятий '!E335+'форма для предприятий '!E397+'форма для предприятий '!E459","v":{"v":728.4430399999999,"d":"728.443"}},{"$f":"'форма для предприятий '!F33+'форма для предприятий '!F97+'форма для предприятий '!F155+'форма для предприятий '!F214+'форма для предприятий '!F276+'форма для предприятий '!F335+'форма для предприятий '!F397+'форма для предприятий '!F459","v":{"v":854.9349321039999,"d":"854.935"}},{"$f":"'форма для предприятий '!G33+'форма для предприятий '!G97+'форма для предприятий '!G155+'форма для предприятий '!G214+'форма для предприятий '!G276+'форма для предприятий '!G335+'форма для предприятий '!G397+'форма для предприятий '!G459","v":{"v":535.630585072,"d":"535.631"}},{"$f":"'форма для предприятий '!H33+'форма для предприятий '!H97+'форма для предприятий '!H155+'форма для предприятий '!H214+'форма для предприятий '!H276+'форма для предприятий '!H335+'форма для предприятий '!H397+'форма для предприятий '!H459","v":{"v":1057.022952464,"d":"1057.023"}},{"$f":"'форма для предприятий '!I33+'форма для предприятий '!I97+'форма для предприятий '!I155+'форма для предприятий '!I214+'форма для предприятий '!I276+'форма для предприятий '!I335+'форма для предприятий '!I397+'форма для предприятий '!I459","v":{"v":1107.811318664,"d":"1107.811"}},{"$f":"'форма для предприятий '!J33+'форма для предприятий '!J97+'форма для предприятий '!J155+'форма для предприятий '!J214+'форма для предприятий '!J276+'форма для предприятий '!J335+'форма для предприятий '!J397+'форма для предприятий '!J459","v":{"v":1163.1441047519997,"d":"1163.144"}},{"$f":"'форма для предприятий '!K33+'форма для предприятий '!K97+'форма для предприятий '!K155+'форма для предприятий '!K214+'форма для предприятий '!K276+'форма для предприятий '!K335+'форма для предприятий '!K397+'форма для предприятий '!K459","v":{"v":1224.2572250160001,"d":"1224.257"}}]
[null,"в том числе "]
["7.1.","Материальные затраты ",null,"млн.руб.",{"$f":"'форма для предприятий '!E35+'форма для предприятий '!E99+'форма для предприятий '!E157+'форма для предприятий '!E216+'форма для предприятий '!E278+'форма для предприятий '!E337+'форма для предприятий '!E399+'форма для предприятий '!E461","v":{"v":443.25499999999994,"d":"443.255"}},{"$f":"'форма для предприятий '!F35+'форма для предприятий '!F99+'форма для предприятий '!F157+'форма для предприятий '!F216+'форма для предприятий '!F278+'форма для предприятий '!F337+'форма для предприятий '!F399+'форма для предприятий '!F461","v":480.473},{"$f":"'форма для предприятий '!G35+'форма для предприятий '!G99+'форма для предприятий '!G157+'форма для предприятий '!G216+'форма для предприятий '!G278+'форма для предприятий '!G337+'форма для предприятий '!G399+'форма для предприятий '!G461","v":318.408},{"$f":"'форма для предприятий '!H35+'форма для предприятий '!H99+'форма для предприятий '!H157+'форма для предприятий '!H216+'форма для предприятий '!H278+'форма для предприятий '!H337+'форма для предприятий '!H399+'форма для предприятий '!H461","v":{"v":652.5110000000001,"d":"652.511"}},{"$f":"'форма для предприятий '!I35+'форма для предприятий '!I99+'форма для предприятий '!I157+'форма для предприятий '!I216+'форма для предприятий '!I278+'форма для предприятий '!I337+'форма для предприятий '!I399+'форма для предприятий '!I461","v":{"v":675.0970000000001,"d":"675.097"}},{"$f":"'форма для предприятий '!J35+'форма для предприятий '!J99+'форма для предприятий '!J157+'форма для предприятий '!J216+'форма для предприятий '!J278+'форма для предприятий '!J337+'форма для предприятий '!J399+'форма для предприятий '!J461","v":699.135},{"$f":"'форма для предприятий '!K35+'форма для предприятий '!K99+'форма для предприятий '!K157+'форма для предприятий '!K216+'форма для предприятий '!K278+'форма для предприятий '!K337+'форма для предприятий '!K399+'форма для предприятий '!K461","v":731.083}]
["7.2.","Затраты на оплату труда",null,"млн.руб.",{"$f":"'форма для предприятий '!E36+'форма для предприятий '!E100+'форма для предприятий '!E158+'форма для предприятий '!E217+'форма для предприятий '!E279+'форма для предприятий '!E338+'форма для предприятий '!E400+'форма для предприятий '!E462","v":{"v":147.58104,"d":"147.581"}},{"$f":"'форма для предприятий '!F36+'форма для предприятий '!F100+'форма для предприятий '!F158+'форма для предприятий '!F217+'форма для предприятий '!F279+'форма для предприятий '!F338+'форма для предприятий '!F400+'форма для предприятий '!F462","v":{"v":173.426172,"d":"173.426"}},{"$f":"'форма для предприятий '!G36+'форма для предприятий '!G100+'форма для предприятий '!G158+'форма для предприятий '!G217+'форма для предприятий '!G279+'форма для предприятий '!G338+'форма для предприятий '!G400+'форма для предприятий '!G462","v":{"v":104.882136,"d":"104.882"}},{"$f":"'форма для предприятий '!H36+'форма для предприятий '!H100+'форма для предприятий '!H158+'форма для предприятий '!H217+'форма для предприятий '!H279+'форма для предприятий '!H338+'форма для предприятий '!H400+'форма для предприятий '!H462","v":{"v":199.38967200000002,"d":"199.390"}},{"$f":"'форма для предприятий '!I36+'форма для предприятий '!I100+'форма для предприятий '!I158+'форма для предприятий '!I217+'форма для предприятий '!I279+'форма для предприятий '!I338+'форма для предприятий '!I400+'форма для предприятий '!I462","v":{"v":217.250508,"d":"217.251"}},{"$f":"'форма для предприятий '!J36+'форма для предприятий '!J100+'форма для предприятий '!J158+'форма для предприятий '!J217+'форма для предприятий '!J279+'форма для предприятий '!J338+'форма для предприятий '!J400+'форма для предприятий '!J462","v":{"v":239.44730399999997,"d":"239.447"}},{"$f":"'форма для предприятий '!K36+'форма для предприятий '!K100+'форма для предприятий '!K158+'форма для предприятий '!K217+'форма для предприятий '!K279+'форма для предприятий '!K338+'форма для предприятий '!K400+'форма для предприятий '!K462","v":{"v":259.73530800000003,"d":"259.735"}}]
["7.3.","Страховые взносы в Пенсионный фонд, ФСС, ФФОМС, ТФОМС",null,"млн.руб.",{"$f":"'форма для предприятий '!E37+'форма для предприятий '!E101+'форма для предприятий '!E159+'форма для предприятий '!E218+'форма для предприятий '!E280+'форма для предприятий '!E339+'форма для предприятий '!E401+'форма для предприятий '!E463","v":44.014},{"$f":"'форма для предприятий '!F37+'форма для предприятий '!F101+'форма для предприятий '!F159+'форма для предприятий '!F218+'форма для предприятий '!F280+'форма для предприятий '!F339+'форма для предприятий '!F401+'форма для предприятий '!F463","v":{"v":51.599760104,"d":"51.600"}},{"$f":"'форма для предприятий '!G37+'форма для предприятий '!G101+'форма для предприятий '!G159+'форма для предприятий '!G218+'форма для предприятий '!G280+'форма для предприятий '!G339+'форма для предприятий '!G401+'форма для предприятий '!G463","v":{"v":31.360449072,"d":"31.360"}},{"$f":"'форма для предприятий '!H37+'форма для предприятий '!H101+'форма для предприятий '!H159+'форма для предприятий '!H218+'форма для предприятий '!H280+'форма для предприятий '!H339+'форма для предприятий '!H401+'форма для предприятий '!H463","v":{"v":59.574280464000005,"d":"59.574"}},{"$f":"'форма для предприятий '!I37+'форма для предприятий '!I101+'форма для предприятий '!I159+'форма для предприятий '!I218+'форма для предприятий '!I280+'форма для предприятий '!I339+'форма для предприятий '!I401+'форма для предприятий '!I463","v":{"v":64.916810664,"d":"64.917"}},{"$f":"'форма для предприятий '!J37+'форма для предприятий '!J101+'форма для предприятий '!J159+'форма для предприятий '!J218+'форма для предприятий '!J280+'форма для предприятий '!J339+'форма для предприятий '!J401+'форма для предприятий '!J463","v":{"v":71.564800752,"d":"71.565"}},{"$f":"'форма для предприятий '!K37+'форма для предприятий '!K101+'форма для предприятий '!K159+'форма для предприятий '!K218+'форма для предприятий '!K280+'форма для предприятий '!K339+'форма для предприятий '!K401+'форма для предприятий '!K463","v":{"v":77.63191701599999,"d":"77.632"}}]
["7.4.","Амортизация (основные средства и нематериальные активы)",null,"млн.руб.",{"$f":"'форма для предприятий '!E38+'форма для предприятий '!E102+'форма для предприятий '!E160+'форма для предприятий '!E219+'форма для предприятий '!E281+'форма для предприятий '!E340+'форма для предприятий '!E402+'форма для предприятий '!E464","v":32.656},{"$f":"'форма для предприятий '!F38+'форма для предприятий '!F102+'форма для предприятий '!F160+'форма для предприятий '!F219+'форма для предприятий '!F281+'форма для предприятий '!F340+'форма для предприятий '!F402+'форма для предприятий '!F464","v":34.68599999999999},{"$f":"'форма для предприятий '!G38+'форма для предприятий '!G102+'форма для предприятий '!G160+'форма для предприятий '!G219+'форма для предприятий '!G281+'форма для предприятий '!G340+'форма для предприятий '!G402+'форма для предприятий '!G464","v":23.72},{"$f":"'форма для предприятий '!H38+'форма для предприятий '!H102+'форма для предприятий '!H160+'форма для предприятий '!H219+'форма для предприятий '!H281+'форма для предприятий '!H340+'форма для предприятий '!H402+'форма для предприятий '!H464","v":36},{"$f":"'форма для предприятий '!I38+'форма для предприятий '!I102+'форма для предприятий '!I160+'форма для предприятий '!I219+'форма для предприятий '!I281+'форма для предприятий '!I340+'форма для предприятий '!I402+'форма для предприятий '!I464","v":36.5},{"$f":"'форма для предприятий '!J38+'форма для предприятий '!J102+'форма для предприятий '!J160+'форма для предприятий '!J219+'форма для предприятий '!J281+'форма для предприятий '!J340+'форма для предприятий '!J402+'форма для предприятий '!J464","v":36.723000000000006},{"$f":"'форма для предприятий '!K38+'форма для предприятий '!K102+'форма для предприятий '!K160+'форма для предприятий '!K219+'форма для предприятий '!K281+'форма для предприятий '!K340+'форма для предприятий '!K402+'форма для предприятий '!K464","v":36.577000000000005}]
["7.5.","Налоги и сборы, включаемые в себестоимость продукции (работ, услуг) ",null,"млн. руб.",{"$f":"'форма для предприятий '!E39+'форма для предприятий '!E103+'форма для предприятий '!E161+'форма для предприятий '!E220+'форма для предприятий '!E282+'форма для предприятий '!E341+'форма для предприятий '!E403+'форма для предприятий '!E465","v":10.42},{"$f":"'форма для предприятий '!F39+'форма для предприятий '!F103+'форма для предприятий '!F161+'форма для предприятий '!F220+'форма для предприятий '!F282+'форма для предприятий '!F341+'форма для предприятий '!F403+'форма для предприятий '!F465","v":16.726},{"$f":"'форма для предприятий '!G39+'форма для предприятий '!G103+'форма для предприятий '!G161+'форма для предприятий '!G220+'форма для предприятий '!G282+'форма для предприятий '!G341+'форма для предприятий '!G403+'форма для предприятий '!G465","v":15.132},{"$f":"'форма для предприятий '!H39+'форма для предприятий '!H103+'форма для предприятий '!H161+'форма для предприятий '!H220+'форма для предприятий '!H282+'форма для предприятий '!H341+'форма для предприятий '!H403+'форма для предприятий '!H465","v":30.228},{"$f":"'форма для предприятий '!I39+'форма для предприятий '!I103+'форма для предприятий '!I161+'форма для предприятий '!I220+'форма для предприятий '!I282+'форма для предприятий '!I341+'форма для предприятий '!I403+'форма для предприятий '!I465","v":31.153},{"$f":"'форма для предприятий '!J39+'форма для предприятий '!J103+'форма для предприятий '!J161+'форма для предприятий '!J220+'форма для предприятий '!J282+'форма для предприятий '!J341+'форма для предприятий '!J403+'форма для предприятий '!J465","v":31.708000000000002},{"$f":"'форма для предприятий '!K39+'форма для предприятий '!K103+'форма для предприятий '!K161+'форма для предприятий '!K220+'форма для предприятий '!K282+'форма для предприятий '!K341+'форма для предприятий '!K403+'форма для предприятий '!K465","v":32.373999999999995}]
["7.6.","Прочие расходы",null,"млн. руб.",{"$f":"'форма для предприятий '!E40+'форма для предприятий '!E104+'форма для предприятий '!E162+'форма для предприятий '!E221+'форма для предприятий '!E283+'форма для предприятий '!E342+'форма для предприятий '!E404+'форма для предприятий '!E465","v":49.297},{"$f":"'форма для предприятий '!F40+'форма для предприятий '!F104+'форма для предприятий '!F162+'форма для предприятий '!F221+'форма для предприятий '!F283+'форма для предприятий '!F342+'форма для предприятий '!F404+'форма для предприятий '!F465","v":96.44999999999999},{"$f":"'форма для предприятий '!G40+'форма для предприятий '!G104+'форма для предприятий '!G162+'форма для предприятий '!G221+'форма для предприятий '!G283+'форма для предприятий '!G342+'форма для предприятий '!G404+'форма для предприятий '!G465","v":39.470000000000006},{"$f":"'форма для предприятий '!H40+'форма для предприятий '!H104+'форма для предприятий '!H162+'форма для предприятий '!H221+'форма для предприятий '!H283+'форма для предприятий '!H342+'форма для предприятий '!H404+'форма для предприятий '!H465","v":78.00999999999999},{"$f":"'форма для предприятий '!I40+'форма для предприятий '!I104+'форма для предприятий '!I162+'форма для предприятий '!I221+'форма для предприятий '!I283+'форма для предприятий '!I342+'форма для предприятий '!I404+'форма для предприятий '!I465","v":81.454},{"$f":"'форма для предприятий '!J40+'форма для предприятий '!J104+'форма для предприятий '!J162+'форма для предприятий '!J221+'форма для предприятий '!J283+'форма для предприятий '!J342+'форма для предприятий '!J404+'форма для предприятий '!J465","v":82.716},{"$f":"'форма для предприятий '!K40+'форма для предприятий '!K104+'форма для предприятий '!K162+'форма для предприятий '!K221+'форма для предприятий '!K283+'форма для предприятий '!K342+'форма для предприятий '!K404+'форма для предприятий '!K465","v":84.596}]
["8.","Наличие основных  фондов на конец года по полной учетной  стоимости",null,"млн. руб.",{"$f":"'форма для предприятий '!E42+'форма для предприятий '!E106+'форма для предприятий '!E164+'форма для предприятий '!E223+'форма для предприятий '!E285+'форма для предприятий '!E344+'форма для предприятий '!E406+'форма для предприятий '!E468","v":715.0899999999999},{"$f":"'форма для предприятий '!F42+'форма для предприятий '!F106+'форма для предприятий '!F164+'форма для предприятий '!F223+'форма для предприятий '!F285+'форма для предприятий '!F344+'форма для предприятий '!F406+'форма для предприятий '!F468","v":718.5799999999999},{"$f":"'форма для предприятий '!G42+'форма для предприятий '!G106+'форма для предприятий '!G164+'форма для предприятий '!G223+'форма для предприятий '!G285+'форма для предприятий '!G344+'форма для предприятий '!G406+'форма для предприятий '!G468","v":768.98},{"$f":"'форма для предприятий '!H42+'форма для предприятий '!H106+'форма для предприятий '!H164+'форма для предприятий '!H223+'форма для предприятий '!H285+'форма для предприятий '!H344+'форма для предприятий '!H406+'форма для предприятий '!H468","v":808.0799999999999},{"$f":"'форма для предприятий '!I42+'форма для предприятий '!I106+'форма для предприятий '!I164+'форма для предприятий '!I223+'форма для предприятий '!I285+'форма для предприятий '!I344+'форма для предприятий '!I406+'форма для предприятий '!I468","v":808.0799999999999},{"$f":"'форма для предприятий '!J42+'форма для предприятий '!J106+'форма для предприятий '!J164+'форма для предприятий '!J223+'форма для предприятий '!J285+'форма для предприятий '!J344+'форма для предприятий '!J406+'форма для предприятий '!J468","v":807.78},{"$f":"'форма для предприятий '!K42+'форма для предприятий '!K106+'форма для предприятий '!K164+'форма для предприятий '!K223+'форма для предприятий '!K285+'форма для предприятий '!K344+'форма для предприятий '!K406+'форма для предприятий '!K468","v":812.78}]
["9.","Наличие  основных  фондов на конец года по остаточной балансовой  стоимости",null,"млн. руб.",{"$f":"'форма для предприятий '!E43+'форма для предприятий '!E107+'форма для предприятий '!E165+'форма для предприятий '!E224+'форма для предприятий '!E286+'форма для предприятий '!E345+'форма для предприятий '!E407+'форма для предприятий '!E469","v":339.6},{"$f":"'форма для предприятий '!F43+'форма для предприятий '!F107+'форма для предприятий '!F165+'форма для предприятий '!F224+'форма для предприятий '!F286+'форма для предприятий '!F345+'форма для предприятий '!F407+'форма для предприятий '!F469","v":333.001},{"$f":"'форма для предприятий '!G43+'форма для предприятий '!G107+'форма для предприятий '!G165+'форма для предприятий '!G224+'форма для предприятий '!G286+'форма для предприятий '!G345+'форма для предприятий '!G407+'форма для предприятий '!G469","v":366.87699999999995},{"$f":"'форма для предприятий '!H43+'форма для предприятий '!H107+'форма для предприятий '!H165+'форма для предприятий '!H224+'форма для предприятий '!H286+'форма для предприятий '!H345+'форма для предприятий '!H407+'форма для предприятий '!H469","v":377.177},{"$f":"'форма для предприятий '!I43+'форма для предприятий '!I107+'форма для предприятий '!I165+'форма для предприятий '!I224+'форма для предприятий '!I286+'форма для предприятий '!I345+'форма для предприятий '!I407+'форма для предприятий '!I469","v":377.577},{"$f":"'форма для предприятий '!J43+'форма для предприятий '!J107+'форма для предприятий '!J165+'форма для предприятий '!J224+'форма для предприятий '!J286+'форма для предприятий '!J345+'форма для предприятий '!J407+'форма для предприятий '!J469","v":377.177},{"$f":"'форма для предприятий '!K43+'форма для предприятий '!K107+'форма для предприятий '!K165+'форма для предприятий '!K224+'форма для предприятий '!K286+'форма для предприятий '!K345+'форма для предприятий '!K407+'форма для предприятий '!K469","v":380.27700000000004}]
["10.","Среднегодовая остаточная стоимость основных средств (налоговая база)",null,"млн. руб.",{"$f":"'форма для предприятий '!E44+'форма для предприятий '!E108+'форма для предприятий '!E166+'форма для предприятий '!E225+'форма для предприятий '!E287+'форма для предприятий '!E346+'форма для предприятий '!E408+'форма для предприятий '!E470","v":309.53099999999995},{"$f":"'форма для предприятий '!F44+'форма для предприятий '!F108+'форма для предприятий '!F166+'форма для предприятий '!F225+'форма для предприятий '!F287+'форма для предприятий '!F346+'форма для предприятий '!F408+'форма для предприятий '!F470","v":321.423},{"$f":"'форма для предприятий '!G44+'форма для предприятий '!G108+'форма для предприятий '!G166+'форма для предприятий '!G225+'форма для предприятий '!G287+'форма для предприятий '!G346+'форма для предприятий '!G408+'форма для предприятий '!G470","v":297.701},{"$f":"'форма для предприятий '!H44+'форма для предприятий '!H108+'форма для предприятий '!H166+'форма для предприятий '!H225+'форма для предприятий '!H287+'форма для предприятий '!H346+'форма для предприятий '!H408+'форма для предприятий '!H470","v":333.245},{"$f":"'форма для предприятий '!I44+'форма для предприятий '!I108+'форма для предприятий '!I166+'форма для предприятий '!I225+'форма для предприятий '!I287+'форма для предприятий '!I346+'форма для предприятий '!I408+'форма для предприятий '!I470","v":331.145},{"$f":"'форма для предприятий '!J44+'форма для предприятий '!J108+'форма для предприятий '!J166+'форма для предприятий '!J225+'форма для предприятий '!J287+'форма для предприятий '!J346+'форма для предприятий '!J408+'форма для предприятий '!J470","v":331.145},{"$f":"'форма для предприятий '!K44+'форма для предприятий '!K108+'форма для предприятий '!K166+'форма для предприятий '!K225+'форма для предприятий '!K287+'форма для предприятий '!K346+'форма для предприятий '!K408+'форма для предприятий '!K470","v":336.345}]
["11.","Производство основных видов промышленной продукции ",null,"в соответ- ствующих натур.ед. измер."]
[null," - семечки жареные ",null,"тн.",{"$f":"'форма для предприятий '!E47","v":3131.2},{"$f":"'форма для предприятий '!F47","v":2672.9},{"$f":"'форма для предприятий '!G47","v":1533.4},{"$f":"'форма для предприятий '!H47","v":2730},{"$f":"'форма для предприятий '!I47","v":2780},{"$f":"'форма для предприятий '!J47","v":2860},{"$f":"'форма для предприятий '!K47","v":2980}]
[null," - арахис",null,"тн.",{"$f":"'форма для предприятий '!E48","v":13},{"$f":"'форма для предприятий '!F48","v":13},{"$f":"'форма для предприятий '!G48","v":4.5},{"$f":"'форма для предприятий '!H48","v":9},{"$f":"'форма для предприятий '!I48","v":9.2},{"$f":"'форма для предприятий '!J48","v":9.5},{"$f":"'форма для предприятий '!K48","v":9.9}]
[null," - фисташки",null,"тн.",{"$f":"'форма для предприятий '!E49","v":4.1},{"$f":"'форма для предприятий '!F49","v":1.5},{"$f":"'форма для предприятий '!G49","v":0.5},{"$f":"'форма для предприятий '!H49","v":1},{"$f":"'форма для предприятий '!I49","v":1.63},{"$f":"'форма для предприятий '!J49","v":1.7},{"$f":"'форма для предприятий '!K49","v":1.8}]
[null," - ядро",null,"тн.",{"$f":"'форма для предприятий '!E50","v":484.3},{"$f":"'форма для предприятий '!F50","v":1144.4},{"$f":"'форма для предприятий '!G50","v":694.7},{"$f":"'форма для предприятий '!H50","v":1155},{"$f":"'форма для предприятий '!I50","v":1180},{"$f":"'форма для предприятий '!J50","v":1215},{"$f":"'форма для предприятий '!K50","v":1280}]
[null," - семечки тыквенные",null,"тн.",{"$f":"'форма для предприятий '!E51","v":9.9},{"$f":"'форма для предприятий '!F51","v":6.8},{"$f":"'форма для предприятий '!G51","v":2.6},{"$f":"'форма для предприятий '!H51","v":6.9},{"$f":"'форма для предприятий '!I51","v":7},{"$f":"'форма для предприятий '!J51","v":7.15},{"$f":"'форма для предприятий '!K51","v":7.5}]
[null,"  -халва",null,"тн.",{"$f":"'форма для предприятий '!E52","v":33.4},{"$f":"'форма для предприятий '!F52","v":107.7},{"$f":"'форма для предприятий '!G52","v":44.6},{"$f":"'форма для предприятий '!H52","v":90},{"$f":"'форма для предприятий '!I52","v":92},{"$f":"'форма для предприятий '!J52","v":95},{"$f":"'форма для предприятий '!K52","v":100}]
[null," - семечки с арахисом",null,"тн.",{"$f":"'форма для предприятий '!E53","v":0},{"$f":"'форма для предприятий '!F53","v":3.3},{"$f":"'форма для предприятий '!G53","v":8},{"$f":"'форма для предприятий '!H53","v":16},{"$f":"'форма для предприятий '!I53","v":16.3},{"$f":"'форма для предприятий '!J53","v":17},{"$f":"'форма для предприятий '!K53","v":18}]
[null,"  - крем-халва",null,"тн.",{"$f":"'форма для предприятий '!E54","v":0},{"$f":"'форма для предприятий '!F54","v":0},{"$f":"'форма для предприятий '!G54","v":145.6},{"$f":"'форма для предприятий '!H54","v":290},{"$f":"'форма для предприятий '!I54","v":300},{"$f":"'форма для предприятий '!J54","v":310},{"$f":"'форма для предприятий '!K54","v":325}]
[null," -производство масла растительного ",null,"тн.",{"$f":"'форма для предприятий '!E111","v":2133},{"$f":"'форма для предприятий '!F111","v":2494},{"$f":"'форма для предприятий '!G111","v":1170},{"$f":"'форма для предприятий '!H111","v":2620},{"$f":"'форма для предприятий '!I111","v":2800},{"$f":"'форма для предприятий '!J111","v":3000},{"$f":"'форма для предприятий '!K111","v":3200}]
[null," -переработано молока",null,"тн.",{"$f":"'форма для предприятий '!E169","v":13297},{"$f":"'форма для предприятий '!F169","v":19905.5},{"$f":"'форма для предприятий '!G169","v":10347.8},{"$f":"'форма для предприятий '!H169","v":20105},{"$f":"'форма для предприятий '!I169","v":21110},{"$f":"'форма для предприятий '!J169","v":21954},{"$f":"'форма для предприятий '!K169","v":23050}]
[null," - производство хлеба и хлебобулочных изделий",null,"тн.",{"$f":"'форма для предприятий '!E228","v":476.6},{"$f":"'форма для предприятий '!F228","v":376},{"$f":"'форма для предприятий '!G228","v":149.2},{"$f":"'форма для предприятий '!H228","v":380},{"$f":"'форма для предприятий '!I228","v":380},{"$f":"'форма для предприятий '!J228","v":380},{"$f":"'форма для предприятий '!K228","v":380}]
[null," - производство кондитерских изделий",null,"тн.",{"$f":"'форма для предприятий '!E229","v":32.7},{"$f":"'форма для предприятий '!F229","v":21.9},{"$f":"'форма для предприятий '!G229","v":8.98},{"$f":"'форма для предприятий '!H229","v":23},{"$f":"'форма для предприятий '!I229","v":26},{"$f":"'форма для предприятий '!J229","v":30},{"$f":"'форма для предприятий '!K229","v":32}]
[null," - производство машин и оборудования",null,"млн руб.",{"$f":"'форма для предприятий '!E290","v":10.665},{"$f":"'форма для предприятий '!F290","v":16.6633},{"$f":"'форма для предприятий '!G290","v":10.292},{"$f":"'форма для предприятий '!H290","v":20.584},{"$f":"'форма для предприятий '!I290","v":21.201},{"$f":"'форма для предприятий '!J290","v":22.26},{"$f":"'форма для предприятий '!K290","v":23.595}]
[null," - камень строительный",null,"тн.",{"$f":"'форма для предприятий '!E349","v":92.3},{"$f":"'форма для предприятий '!F349","v":398},{"$f":"'форма для предприятий '!G349","v":289.7},{"$f":"'форма для предприятий '!H349","v":508},{"$f":"'форма для предприятий '!I349","v":550},{"$f":"'форма для предприятий '!J349","v":600},{"$f":"'форма для предприятий '!K349","v":650}]
[null," - нерудные материалы",null,"тн.",{"$f":"'форма для предприятий '!E411","v":225.7},{"$f":"'форма для предприятий '!F411","v":387.3},{"$f":"'форма для предприятий '!G411","v":254.5},{"$f":"'форма для предприятий '!H411","v":508},{"$f":"'форма для предприятий '!I411","v":550},{"$f":"'форма для предприятий '!J411","v":600},{"$f":"'форма для предприятий '!K411","v":650}]
[null," - распределение воды",null,"тыс. м. куб.",{"$f":"'форма для предприятий '!E473","v":634.9},{"$f":"'форма для предприятий '!F473","v":677.3},{"$f":"'форма для предприятий '!G473","v":365.8},{"$f":"'форма для предприятий '!H473","v":648.065},{"$f":"'форма для предприятий '!I473","v":654.55},{"$f":"'форма для предприятий '!J473","v":667.641},{"$f":"'форма для предприятий '!K473","v":687.67}]
[null," - производство пара и горячей воды",null,"тыс. Гкалл",{"$f":"'форма для предприятий '!E170+'форма для предприятий '!E474","v":16.900000000000002},{"$f":"'форма для предприятий '!F170+'форма для предприятий '!F474","v":14.56},{"$f":"'форма для предприятий '!G170+'форма для предприятий '!G474","v":8.4},{"$f":"'форма для предприятий '!H170+'форма для предприятий '!H474","v":15.1},{"$f":"'форма для предприятий '!I170+'форма для предприятий '!I474","v":15.6},{"$f":"'форма для предприятий '!J170+'форма для предприятий '!J474","v":15.9},{"$f":"'форма для предприятий '!K170+'форма для предприятий '!K474","v":16.2}]
[null," - удаление и обработка сточных вод",null,"тыс. м. куб.",{"$f":"'форма для предприятий '!E475","v":292.6},{"$f":"'форма для предприятий '!F475","v":301.88},{"$f":"'форма для предприятий '!G475","v":169.4},{"$f":"'форма для предприятий '!H475","v":325.37},{"$f":"'форма для предприятий '!I475","v":329.6},{"$f":"'форма для предприятий '!J475","v":336.192},{"$f":"'форма для предприятий '!K475","v":353.01}]
[null," - передача пара и горячей воды",null,"тыс. Гкалл",{"$f":"'форма для предприятий '!E476","v":2.2},{"$f":"'форма для предприятий '!F476","v":5.03},{"$f":"'форма для предприятий '!G476","v":2.4},{"$f":"'форма для предприятий '!H476","v":5.242},{"$f":"'форма для предприятий '!I476","v":5.4},{"$f":"'форма для предприятий '!J476","v":5.508},{"$f":"'форма для предприятий '!K476","v":5.61}]
[]
["12.","Инвестиции в основной капитал, всего",null,"млн.руб.",{"$f":"'форма для предприятий '!E55+'форма для предприятий '!E114+'форма для предприятий '!E175+'форма для предприятий '!E234+'форма для предприятий '!E293+'форма для предприятий '!E355+'форма для предприятий '!E417+'форма для предприятий '!E479","v":27.413999999999998},{"$f":"'форма для предприятий '!F55+'форма для предприятий '!F114+'форма для предприятий '!F175+'форма для предприятий '!F234+'форма для предприятий '!F293+'форма для предприятий '!F355+'форма для предприятий '!F417+'форма для предприятий '!F479","v":36.4008},{"$f":"'форма для предприятий '!G55+'форма для предприятий '!G114+'форма для предприятий '!G175+'форма для предприятий '!G234+'форма для предприятий '!G293+'форма для предприятий '!G355+'форма для предприятий '!G417+'форма для предприятий '!G479","v":42.333999999999996},{"$f":"'форма для предприятий '!H55+'форма для предприятий '!H114+'форма для предприятий '!H175+'форма для предприятий '!H234+'форма для предприятий '!H293+'форма для предприятий '!H355+'форма для предприятий '!H417+'форма для предприятий '!H479","v":68.73100000000001},{"$f":"'форма для предприятий '!I55+'форма для предприятий '!I114+'форма для предприятий '!I175+'форма для предприятий '!I234+'форма для предприятий '!I293+'форма для предприятий '!I355+'форма для предприятий '!I417+'форма для предприятий '!I479","v":45.774},{"$f":"'форма для предприятий '!J55+'форма для предприятий '!J114+'форма для предприятий '!J175+'форма для предприятий '!J234+'форма для предприятий '!J293+'форма для предприятий '!J355+'форма для предприятий '!J417+'форма для предприятий '!J479","v":47.788},{"$f":"'форма для предприятий '!K55+'форма для предприятий '!K114+'форма для предприятий '!K175+'форма для предприятий '!K234+'форма для предприятий '!K293+'форма для предприятий '!K355+'форма для предприятий '!K417+'форма для предприятий '!K479","v":49.749}]
[null,"в том числе по источникам:"]
[null,"собственные средства",null,"млн.руб.",{"$f":"'форма для предприятий '!E57+'форма для предприятий '!E116+'форма для предприятий '!E177+'форма для предприятий '!E236+'форма для предприятий '!E295+'форма для предприятий '!E357+'форма для предприятий '!E419+'форма для предприятий '!E481","v":27.413999999999998},{"$f":"'форма для предприятий '!F57+'форма для предприятий '!F116+'форма для предприятий '!F177+'форма для предприятий '!F236+'форма для предприятий '!F295+'форма для предприятий '!F357+'форма для предприятий '!F419+'форма для предприятий '!F481","v":36.4008},{"$f":"'форма для предприятий '!G57+'форма для предприятий '!G116+'форма для предприятий '!G177+'форма для предприятий '!G236+'форма для предприятий '!G295+'форма для предприятий '!G357+'форма для предприятий '!G419+'форма для предприятий '!G481","v":42.333999999999996},{"$f":"'форма для предприятий '!H57+'форма для предприятий '!H116+'форма для предприятий '!H177+'форма для предприятий '!H236+'форма для предприятий '!H295+'форма для предприятий '!H357+'форма для предприятий '!H419+'форма для предприятий '!H481","v":68.73100000000001},{"$f":"'форма для предприятий '!I57+'форма для предприятий '!I116+'форма для предприятий '!I177+'форма для предприятий '!I236+'форма для предприятий '!I295+'форма для предприятий '!I357+'форма для предприятий '!I419+'форма для предприятий '!I481","v":45.774},{"$f":"'форма для предприятий '!J57+'форма для предприятий '!J116+'форма для предприятий '!J177+'форма для предприятий '!J236+'форма для предприятий '!J295+'форма для предприятий '!J357+'форма для предприятий '!J419+'форма для предприятий '!J481","v":47.788},{"$f":"'форма для предприятий '!K57+'форма для предприятий '!K116+'форма для предприятий '!K177+'форма для предприятий '!K236+'форма для предприятий '!K295+'форма для предприятий '!K357+'форма для предприятий '!K419+'форма для предприятий '!K481","v":49.749}]
[null,"привлеченные средства",null,"млн.руб.",{"$f":"'форма для предприятий '!E58+'форма для предприятий '!E117+'форма для предприятий '!E178+'форма для предприятий '!E237+'форма для предприятий '!E296+'форма для предприятий '!E358+'форма для предприятий '!E420+'форма для предприятий '!E482","v":0},{"$f":"'форма для предприятий '!F58+'форма для предприятий '!F117+'форма для предприятий '!F178+'форма для предприятий '!F237+'форма для предприятий '!F296+'форма для предприятий '!F358+'форма для предприятий '!F420+'форма для предприятий '!F482","v":0},{"$f":"'форма для предприятий '!G58+'форма для предприятий '!G117+'форма для предприятий '!G178+'форма для предприятий '!G237+'форма для предприятий '!G296+'форма для предприятий '!G358+'форма для предприятий '!G420+'форма для предприятий '!G482","v":0},{"$f":"'форма для предприятий '!H58+'форма для предприятий '!H117+'форма для предприятий '!H178+'форма для предприятий '!H237+'форма для предприятий '!H296+'форма для предприятий '!H358+'форма для предприятий '!H420+'форма для предприятий '!H482","v":0},{"$f":"'форма для предприятий '!I58+'форма для предприятий '!I117+'форма для предприятий '!I178+'форма для предприятий '!I237+'форма для предприятий '!I296+'форма для предприятий '!I358+'форма для предприятий '!I420+'форма для предприятий '!I482","v":0},{"$f":"'форма для предприятий '!J58+'форма для предприятий '!J117+'форма для предприятий '!J178+'форма для предприятий '!J237+'форма для предприятий '!J296+'форма для предприятий '!J358+'форма для предприятий '!J420+'форма для предприятий '!J482","v":0},{"$f":"'форма для предприятий '!K58+'форма для предприятий '!K117+'форма для предприятий '!K178+'форма для предприятий '!K237+'форма для предприятий '!K296+'форма для предприятий '!K358+'форма для предприятий '!K420+'форма для предприятий '!K482","v":0}]
[null,"           из них"]
[null,"                 кредиты банков",null,"млн.руб.",{"$f":"'форма для предприятий '!E60+'форма для предприятий '!E119+'форма для предприятий '!E180+'форма для предприятий '!E239+'форма для предприятий '!E298+'форма для предприятий '!E360+'форма для предприятий '!E422+'форма для предприятий '!E484","v":0},{"$f":"'форма для предприятий '!F60+'форма для предприятий '!F119+'форма для предприятий '!F180+'форма для предприятий '!F239+'форма для предприятий '!F298+'форма для предприятий '!F360+'форма для предприятий '!F422+'форма для предприятий '!F484","v":0},{"$f":"'форма для предприятий '!G60+'форма для предприятий '!G119+'форма для предприятий '!G180+'форма для предприятий '!G239+'форма для предприятий '!G298+'форма для предприятий '!G360+'форма для предприятий '!G422+'форма для предприятий '!G484","v":0},{"$f":"'форма для предприятий '!H60+'форма для предприятий '!H119+'форма для предприятий '!H180+'форма для предприятий '!H239+'форма для предприятий '!H298+'форма для предприятий '!H360+'форма для предприятий '!H422+'форма для предприятий '!H484","v":0},{"$f":"'форма для предприятий '!I60+'форма для предприятий '!I119+'форма для предприятий '!I180+'форма для предприятий '!I239+'форма для предприятий '!I298+'форма для предприятий '!I360+'форма для предприятий '!I422+'форма для предприятий '!I484","v":0},{"$f":"'форма для предприятий '!J60+'форма для предприятий '!J119+'форма для предприятий '!J180+'форма для предприятий '!J239+'форма для предприятий '!J298+'форма для предприятий '!J360+'форма для предприятий '!J422+'форма для предприятий '!J484","v":0},{"$f":"'форма для предприятий '!K60+'форма для предприятий '!K119+'форма для предприятий '!K180+'форма для предприятий '!K239+'форма для предприятий '!K298+'форма для предприятий '!K360+'форма для предприятий '!K422+'форма для предприятий '!K484","v":0}]
[null,"                 федеральный бюджет",null,"млн.руб.",{"$f":"'форма для предприятий '!E61+'форма для предприятий '!E120+'форма для предприятий '!E181+'форма для предприятий '!E240+'форма для предприятий '!E299+'форма для предприятий '!E361+'форма для предприятий '!E423+'форма для предприятий '!E485","v":0},{"$f":"'форма для предприятий '!F61+'форма для предприятий '!F120+'форма для предприятий '!F181+'форма для предприятий '!F240+'форма для предприятий '!F299+'форма для предприятий '!F361+'форма для предприятий '!F423+'форма для предприятий '!F485","v":0},{"$f":"'форма для предприятий '!G61+'форма для предприятий '!G120+'форма для предприятий '!G181+'форма для предприятий '!G240+'форма для предприятий '!G299+'форма для предприятий '!G361+'форма для предприятий '!G423+'форма для предприятий '!G485","v":0},{"$f":"'форма для предприятий '!H61+'форма для предприятий '!H120+'форма для предприятий '!H181+'форма для предприятий '!H240+'форма для предприятий '!H299+'форма для предприятий '!H361+'форма для предприятий '!H423+'форма для предприятий '!H485","v":0},{"$f":"'форма для предприятий '!I61+'форма для предприятий '!I120+'форма для предприятий '!I181+'форма для предприятий '!I240+'форма для предприятий '!I299+'форма для предприятий '!I361+'форма для предприятий '!I423+'форма для предприятий '!I485","v":0},{"$f":"'форма для предприятий '!J61+'форма для предприятий '!J120+'форма для предприятий '!J181+'форма для предприятий '!J240+'форма для предприятий '!J299+'форма для предприятий '!J361+'форма для предприятий '!J423+'форма для предприятий '!J485","v":0},{"$f":"'форма для предприятий '!K61+'форма для предприятий '!K120+'форма для предприятий '!K181+'форма для предприятий '!K240+'форма для предприятий '!K299+'форма для предприятий '!K361+'форма для предприятий '!K423+'форма для предприятий '!K485","v":0}]
[null,"                 бюджет области ",null,"млн.руб.",{"$f":"'форма для предприятий '!E62+'форма для предприятий '!E121+'форма для предприятий '!E182+'форма для предприятий '!E241+'форма для предприятий '!E300+'форма для предприятий '!E362+'форма для предприятий '!E424+'форма для предприятий '!E486","v":0},{"$f":"'форма для предприятий '!F62+'форма для предприятий '!F121+'форма для предприятий '!F182+'форма для предприятий '!F241+'форма для предприятий '!F300+'форма для предприятий '!F362+'форма для предприятий '!F424+'форма для предприятий '!F486","v":0},{"$f":"'форма для предприятий '!G62+'форма для предприятий '!G121+'форма для предприятий '!G182+'форма для предприятий '!G241+'форма для предприятий '!G300+'форма для предприятий '!G362+'форма для предприятий '!G424+'форма для предприятий '!G486","v":0},{"$f":"'форма для предприятий '!H62+'форма для предприятий '!H121+'форма для предприятий '!H182+'форма для предприятий '!H241+'форма для предприятий '!H300+'форма для предприятий '!H362+'форма для предприятий '!H424+'форма для предприятий '!H486","v":0},{"$f":"'форма для предприятий '!I62+'форма для предприятий '!I121+'форма для предприятий '!I182+'форма для предприятий '!I241+'форма для предприятий '!I300+'форма для предприятий '!I362+'форма для предприятий '!I424+'форма для предприятий '!I486","v":0},{"$f":"'форма для предприятий '!J62+'форма для предприятий '!J121+'форма для предприятий '!J182+'форма для предприятий '!J241+'форма для предприятий '!J300+'форма для предприятий '!J362+'форма для предприятий '!J424+'форма для предприятий '!J486","v":0},{"$f":"'форма для предприятий '!K62+'форма для предприятий '!K121+'форма для предприятий '!K182+'форма для предприятий '!K241+'форма для предприятий '!K300+'форма для предприятий '!K362+'форма для предприятий '!K424+'форма для предприятий '!K486","v":0}]
[null,"прочие ",null,"млн.руб.",{"$f":"'форма для предприятий '!E63+'форма для предприятий '!E122+'форма для предприятий '!E183+'форма для предприятий '!E242+'форма для предприятий '!E301+'форма для предприятий '!E363+'форма для предприятий '!E425+'форма для предприятий '!E487","v":0},{"$f":"'форма для предприятий '!F63+'форма для предприятий '!F122+'форма для предприятий '!F183+'форма для предприятий '!F242+'форма для предприятий '!F301+'форма для предприятий '!F363+'форма для предприятий '!F425+'форма для предприятий '!F487","v":0},{"$f":"'форма для предприятий '!G63+'форма для предприятий '!G122+'форма для предприятий '!G183+'форма для предприятий '!G242+'форма для предприятий '!G301+'форма для предприятий '!G363+'форма для предприятий '!G425+'форма для предприятий '!G487","v":0},{"$f":"'форма для предприятий '!H63+'форма для предприятий '!H122+'форма для предприятий '!H183+'форма для предприятий '!H242+'форма для предприятий '!H301+'форма для предприятий '!H363+'форма для предприятий '!H425+'форма для предприятий '!H487","v":0},{"$f":"'форма для предприятий '!I63+'форма для предприятий '!I122+'форма для предприятий '!I183+'форма для предприятий '!I242+'форма для предприятий '!I301+'форма для предприятий '!I363+'форма для предприятий '!I425+'форма для предприятий '!I487","v":0},{"$f":"'форма для предприятий '!J63+'форма для предприятий '!J122+'форма для предприятий '!J183+'форма для предприятий '!J242+'форма для предприятий '!J301+'форма для предприятий '!J363+'форма для предприятий '!J425+'форма для предприятий '!J487","v":0},{"$f":"'форма для предприятий '!K63+'форма для предприятий '!K122+'форма для предприятий '!K183+'форма для предприятий '!K242+'форма для предприятий '!K301+'форма для предприятий '!K363+'форма для предприятий '!K425+'форма для предприятий '!K487","v":0}]
[]
["Примечания: *) Сведения предоставляются по данной форме сводные по муниципальному району (городскому округу) . "]
[null,"**) ","Формируется как сумма оборотов организаций, относящихся по основному виду деятельности к промышленным."]
[]
[null,null,"Заместитель главы администрации Богучарского муниципального района ___________________А.Ю.Кожанов"]
[]
[null,null,"Исполнитель: специалист 1 категории экономического отдела _________________   З.П.Колесникова"]

{"sheet":"расчет прибыли-сводная","index":4,"n_rows":23,"n_cols":8,"rows_kept":23,"merged":[[0,6,0,7],[1,0,1,6],[2,0,2,6],[3,0,3,7],[5,0,6,0],[5,1,5,2],[5,3,5,4],[5,5,5,7],[19,0,19,7],[21,0,21,2],[21,3,21,7],[22,3,22,4]]}
[{"$nulls":6},"Форма № 6"]
["Прогноз* "]
["прибыли (от промышленных видов деятельности) на 2018 год и на период до 2020 года"]
["по Богучарскому муниципальному району "]
[{"$nulls":7},"(млн.руб.)"]
["Показатели"," отчет",null,"2017г.",null,"прогноз"]
[null,"2015г.","2016г.","январь-июнь, отчет","январь-декабрь, оценка","2018г. ","2019г. ","2020г. "]
["1. Выручка  (за минусом НДС, акцизов)",{"$f":"'расчет прибыли по предприятиям'!B10+'расчет прибыли по предприятиям'!B26+'расчет прибыли по предприятиям'!B42+'расчет прибыли по предприятиям'!B58+'расчет прибыли по предприятиям'!B74+'расчет прибыли по предприятиям'!B90+'расчет прибыли по предприятиям'!B106+'расчет прибыли по предприятиям'!B122","v":{"v":871.6809999999999,"d":"871.681"}},{"$f":"'расчет прибыли по предприятиям'!C10+'расчет прибыли по предприятиям'!C26+'расчет прибыли по предприятиям'!C42+'расчет прибыли по предприятиям'!C58+'расчет прибыли по предприятиям'!C74+'расчет прибыли по предприятиям'!C90+'расчет прибыли по предприятиям'!C106+'расчет прибыли по предприятиям'!C122","v":{"v":1104.9918200000002,"d":"1104.992"}},{"$f":"'расчет прибыли по предприятиям'!D10+'расчет прибыли по предприятиям'!D26+'расчет прибыли по предприятиям'!D42+'расчет прибыли по предприятиям'!D58+'расчет прибыли по предприятиям'!D74+'расчет прибыли по предприятиям'!D90+'расчет прибыли по предприятиям'!D106+'расчет прибыли по предприятиям'!D122","v":700.865},{"$f":"'расчет прибыли по предприятиям'!E10+'расчет прибыли по предприятиям'!E26+'расчет прибыли по предприятиям'!E42+'расчет прибыли по предприятиям'!E58+'расчет прибыли по предприятиям'!E74+'расчет прибыли по предприятиям'!E90+'расчет прибыли по предприятиям'!E106+'расчет прибыли по предприятиям'!E122","v":{"v":1363.6829999999998,"d":"1363.683"}},{"$f":"'расчет прибыли по предприятиям'!F10+'расчет прибыли по предприятиям'!F26+'расчет прибыли по предприятиям'!F42+'расчет прибыли по предприятиям'!F58+'расчет прибыли по предприятиям'!F74+'расчет прибыли по предприятиям'!F90+'расчет прибыли по предприятиям'!F106+'расчет прибыли по предприятиям'!F122","v":{"v":1457.7371148035045,"d":"1457.737"}},{"$f":"'расчет прибыли по предприятиям'!G10+'расчет прибыли по предприятиям'!G26+'расчет прибыли по предприятиям'!G42+'расчет прибыли по предприятиям'!G58+'расчет прибыли по предприятиям'!G74+'расчет прибыли по предприятиям'!G90+'расчет прибыли по предприятиям'!G106+'расчет прибыли по предприятиям'!G122","v":{"v":1565.0770261093626,"d":"1565.077"}},{"$f":"'расчет прибыли по предприятиям'!H10+'расчет прибыли по предприятиям'!H26+'расчет прибыли по предприятиям'!H42+'расчет прибыли по предприятиям'!H58+'расчет прибыли по предприятиям'!H74+'расчет прибыли по предприятиям'!H90+'расчет прибыли по предприятиям'!H106+'расчет прибыли по предприятиям'!H122","v":{"v":1693.2944381782006,"d":"1693.294"}}]
["2. Себестоимость продаж",{"$f":"'расчет прибыли по предприятиям'!B11+'расчет прибыли по предприятиям'!B27+'расчет прибыли по предприятиям'!B43+'расчет прибыли по предприятиям'!B59+'расчет прибыли по предприятиям'!B75+'расчет прибыли по предприятиям'!B91+'расчет прибыли по предприятиям'!B107+'расчет прибыли по предприятиям'!B123","v":{"v":728.43904,"d":"728.439"}},{"$f":"'расчет прибыли по предприятиям'!C11+'расчет прибыли по предприятиям'!C27+'расчет прибыли по предприятиям'!C43+'расчет прибыли по предприятиям'!C59+'расчет прибыли по предприятиям'!C75+'расчет прибыли по предприятиям'!C91+'расчет прибыли по предприятиям'!C107+'расчет прибыли по предприятиям'!C123","v":{"v":907.971730304,"d":"907.972"}},{"$f":"'расчет прибыли по предприятиям'!D11+'расчет прибыли по предприятиям'!D27+'расчет прибыли по предприятиям'!D43+'расчет прибыли по предприятиям'!D59+'расчет прибыли по предприятиям'!D75+'расчет прибыли по предприятиям'!D91+'расчет прибыли по предприятиям'!D107+'расчет прибыли по предприятиям'!D123","v":{"v":593.0595522320001,"d":"593.060"}},{"$f":"'расчет прибыли по предприятиям'!E11+'расчет прибыли по предприятиям'!E27+'расчет прибыли по предприятиям'!E43+'расчет прибыли по предприятиям'!E59+'расчет прибыли по предприятиям'!E75+'расчет прибыли по предприятиям'!E91+'расчет прибыли по предприятиям'!E107+'расчет прибыли по предприятиям'!E123","v":{"v":1126.2542222640002,"d":"1126.254"}},{"$f":"'расчет прибыли по предприятиям'!F11+'расчет прибыли по предприятиям'!F27+'расчет прибыли по предприятиям'!F43+'расчет прибыли по предприятиям'!F59+'расчет прибыли по предприятиям'!F75+'расчет прибыли по предприятиям'!F91+'расчет прибыли по предприятиям'!F107+'расчет прибыли по предприятиям'!F123","v":{"v":1154.153913544,"d":"1154.154"}},{"$f":"'расчет прибыли по предприятиям'!G11+'расчет прибыли по предприятиям'!G27+'расчет прибыли по предприятиям'!G43+'расчет прибыли по предприятиям'!G59+'расчет прибыли по предприятиям'!G75+'расчет прибыли по предприятиям'!G91+'расчет прибыли по предприятиям'!G107+'расчет прибыли по предприятиям'!G123","v":{"v":1189.0972599519998,"d":"1189.097"}},{"$f":"'расчет прибыли по предприятиям'!H11+'расчет прибыли по предприятиям'!H27+'расчет прибыли по предприятиям'!H43+'расчет прибыли по предприятиям'!H59+'расчет прибыли по предприятиям'!H75+'расчет прибыли по предприятиям'!H91+'расчет прибыли по предприятиям'!H107+'расчет прибыли по предприятиям'!H123","v":{"v":1231.957002616,"d":"1231.957"}}]
["3. Валовая прибыль",{"$f":"'расчет прибыли по предприятиям'!B12+'расчет прибыли по предприятиям'!B28+'расчет прибыли по предприятиям'!B44+'расчет прибыли по предприятиям'!B60+'расчет прибыли по предприятиям'!B76+'расчет прибыли по предприятиям'!B92+'расчет прибыли по предприятиям'!B108+'расчет прибыли по предприятиям'!B124","v":{"v":143.24295999999995,"d":"143.243"}},{"$f":"'расчет прибыли по предприятиям'!C12+'расчет прибыли по предприятиям'!C28+'расчет прибыли по предприятиям'!C44+'расчет прибыли по предприятиям'!C60+'расчет прибыли по предприятиям'!C76+'расчет прибыли по предприятиям'!C92+'расчет прибыли по предприятиям'!C108+'расчет прибыли по предприятиям'!C124","v":{"v":197.02008969600007,"d":"197.020"}},{"$f":"'расчет прибыли по предприятиям'!D12+'расчет прибыли по предприятиям'!D28+'расчет прибыли по предприятиям'!D44+'расчет прибыли по предприятиям'!D60+'расчет прибыли по предприятиям'!D76+'расчет прибыли по предприятиям'!D92+'расчет прибыли по предприятиям'!D108+'расчет прибыли по предприятиям'!D124","v":{"v":107.80544776800002,"d":"107.805"}},{"$f":"'расчет прибыли по предприятиям'!E12+'расчет прибыли по предприятиям'!E28+'расчет прибыли по предприятиям'!E44+'расчет прибыли по предприятиям'!E60+'расчет прибыли по предприятиям'!E76+'расчет прибыли по предприятиям'!E92+'расчет прибыли по предприятиям'!E108+'расчет прибыли по предприятиям'!E124","v":{"v":237.4287777359999,"d":"237.429"}},{"$f":"'расчет прибыли по предприятиям'!F12+'расчет прибыли по предприятиям'!F28+'расчет прибыли по предприятиям'!F44+'расчет прибыли по предприятиям'!F60+'расчет прибыли по предприятиям'!F76+'расчет прибыли по предприятиям'!F92+'расчет прибыли по предприятиям'!F108+'расчет прибыли по предприятиям'!F124","v":{"v":303.58320125950456,"d":"303.583"}},{"$f":"'расчет прибыли по предприятиям'!G12+'расчет прибыли по предприятиям'!G28+'расчет прибыли по предприятиям'!G44+'расчет прибыли по предприятиям'!G60+'расчет прибыли по предприятиям'!G76+'расчет прибыли по предприятиям'!G92+'расчет прибыли по предприятиям'!G108+'расчет прибыли по предприятиям'!G124","v":{"v":412.7327946465868,"d":"412.733"}},{"$f":"'расчет прибыли по предприятиям'!H12+'расчет прибыли по предприятиям'!H28+'расчет прибыли по предприятиям'!H44+'расчет прибыли по предприятиям'!H60+'расчет прибыли по предприятиям'!H76+'расчет прибыли по предприятиям'!H92+'расчет прибыли по предприятиям'!H108+'расчет прибыли по предприятиям'!H124","v":{"v":440.3004559808869,"d":"440.300"}}]
["4. Коммерческие расходы",{"$f":"'расчет прибыли по предприятиям'!B13+'расчет прибыли по предприятиям'!B29+'расчет прибыли по предприятиям'!B45+'расчет прибыли по предприятиям'!B61+'расчет прибыли по предприятиям'!B77+'расчет прибыли по предприятиям'!B93+'расчет прибыли по предприятиям'!B109+'расчет прибыли по предприятиям'!B125","v":{"v":31.22,"d":"31.220"}},{"$f":"'расчет прибыли по предприятиям'!C13+'расчет прибыли по предприятиям'!C29+'расчет прибыли по предприятиям'!C45+'расчет прибыли по предприятиям'!C61+'расчет прибыли по предприятиям'!C77+'расчет прибыли по предприятиям'!C93+'расчет прибыли по предприятиям'!C109+'расчет прибыли по предприятиям'!C125","v":46.568},{"$f":"'расчет прибыли по предприятиям'!D13+'расчет прибыли по предприятиям'!D29+'расчет прибыли по предприятиям'!D45+'расчет прибыли по предприятиям'!D61+'расчет прибыли по предприятиям'!D77+'расчет прибыли по предприятиям'!D93+'расчет прибыли по предприятиям'!D109+'расчет прибыли по предприятиям'!D125","v":{"v":16.700000000000003,"d":"16.700"}},{"$f":"'расчет прибыли по предприятиям'!E13+'расчет прибыли по предприятиям'!E29+'расчет прибыли по предприятиям'!E45+'расчет прибыли по предприятиям'!E61+'расчет прибыли по предприятиям'!E77+'расчет прибыли по предприятиям'!E93+'расчет прибыли по предприятиям'!E109+'расчет прибыли по предприятиям'!E125","v":30.819},{"$f":"'расчет прибыли по предприятиям'!F13+'расчет прибыли по предприятиям'!F29+'расчет прибыли по предприятиям'!F45+'расчет прибыли по предприятиям'!F61+'расчет прибыли по предприятиям'!F77+'расчет прибыли по предприятиям'!F93+'расчет прибыли по предприятиям'!F109+'расчет прибыли по предприятиям'!F125","v":{"v":32.403999999999996,"d":"32.404"}},{"$f":"'расчет прибыли по предприятиям'!G13+'расчет прибыли по предприятиям'!G29+'расчет прибыли по предприятиям'!G45+'расчет прибыли по предприятиям'!G61+'расчет прибыли по предприятиям'!G77+'расчет прибыли по предприятиям'!G93+'расчет прибыли по предприятиям'!G109+'расчет прибыли по предприятиям'!G125","v":34.012},{"$f":"'расчет прибыли по предприятиям'!H13+'расчет прибыли по предприятиям'!H29+'расчет прибыли по предприятиям'!H45+'расчет прибыли по предприятиям'!H61+'расчет прибыли по предприятиям'!H77+'расчет прибыли по предприятиям'!H93+'расчет прибыли по предприятиям'!H109+'расчет прибыли по предприятиям'!H125","v":{"v":34.626000000000005,"d":"34.626"}}]
["5. Управленческие расходы",{"$f":"'расчет прибыли по предприятиям'!B14+'расчет прибыли по предприятиям'!B30+'расчет прибыли по предприятиям'!B46+'расчет прибыли по предприятиям'!B62+'расчет прибыли по предприятиям'!B78+'расчет прибыли по предприятиям'!B94+'расчет прибыли по предприятиям'!B110+'расчет прибыли по предприятиям'!B126","v":{"v":34.28,"d":"34.280"}},{"$f":"'расчет прибыли по предприятиям'!C14+'расчет прибыли по предприятиям'!C30+'расчет прибыли по предприятиям'!C46+'расчет прибыли по предприятиям'!C62+'расчет прибыли по предприятиям'!C78+'расчет прибыли по предприятиям'!C94+'расчет прибыли по предприятиям'!C110+'расчет прибыли по предприятиям'!C126","v":31.581},{"$f":"'расчет прибыли по предприятиям'!D14+'расчет прибыли по предприятиям'!D30+'расчет прибыли по предприятиям'!D46+'расчет прибыли по предприятиям'!D62+'расчет прибыли по предприятиям'!D78+'расчет прибыли по предприятиям'!D94+'расчет прибыли по предприятиям'!D110+'расчет прибыли по предприятиям'!D126","v":{"v":16.73,"d":"16.730"}},{"$f":"'расчет прибыли по предприятиям'!E14+'расчет прибыли по предприятиям'!E30+'расчет прибыли по предприятиям'!E46+'расчет прибыли по предприятиям'!E62+'расчет прибыли по предприятиям'!E78+'расчет прибыли по предприятиям'!E94+'расчет прибыли по предприятиям'!E110+'расчет прибыли по предприятиям'!E126","v":31.161},{"$f":"'расчет прибыли по предприятиям'!F14+'расчет прибыли по предприятиям'!F30+'расчет прибыли по предприятиям'!F46+'расчет прибыли по предприятиям'!F62+'расчет прибыли по предприятиям'!F78+'расчет прибыли по предприятиям'!F94+'расчет прибыли по предприятиям'!F110+'расчет прибыли по предприятиям'!F126","v":33.544},{"$f":"'расчет прибыли по предприятиям'!G14+'расчет прибыли по предприятиям'!G30+'расчет прибыли по предприятиям'!G46+'расчет прибыли по предприятиям'!G62+'расчет прибыли по предприятиям'!G78+'расчет прибыли по предприятиям'!G94+'расчет прибыли по предприятиям'!G110+'расчет прибыли по предприятиям'!G126","v":34.809},{"$f":"'расчет прибыли по предприятиям'!H14+'расчет прибыли по предприятиям'!H30+'расчет прибыли по предприятиям'!H46+'расчет прибыли по предприятиям'!H62+'расчет прибыли по предприятиям'!H78+'расчет прибыли по предприятиям'!H94+'расчет прибыли по предприятиям'!H110+'расчет прибыли по предприятиям'!H126","v":{"v":35.08,"d":"35.080"}}]
["6. Прибыль (+), убыток (-) от продаж",{"$f":"'расчет прибыли по предприятиям'!B15+'расчет прибыли по предприятиям'!B31+'расчет прибыли по предприятиям'!B47+'расчет прибыли по предприятиям'!B63+'расчет прибыли по предприятиям'!B79+'расчет прибыли по предприятиям'!B95+'расчет прибыли по предприятиям'!B111+'расчет прибыли по предприятиям'!B127","v":{"v":90.02395999999997,"d":"90.024"}},{"$f":"'расчет прибыли по предприятиям'!C15+'расчет прибыли по предприятиям'!C31+'расчет прибыли по предприятиям'!C47+'расчет прибыли по предприятиям'!C63+'расчет прибыли по предприятиям'!C79+'расчет прибыли по предприятиям'!C95+'расчет прибыли по предприятиям'!C111+'расчет прибыли по предприятиям'!C127","v":{"v":126.105988576,"d":"126.106"}},{"$f":"'расчет прибыли по предприятиям'!D15+'расчет прибыли по предприятиям'!D31+'расчет прибыли по предприятиям'!D47+'расчет прибыли по предприятиям'!D63+'расчет прибыли по предприятиям'!D79+'расчет прибыли по предприятиям'!D95+'расчет прибыли по предприятиям'!D111+'расчет прибыли по предприятиям'!D127","v":{"v":99.678077208,"d":"99.678"}},{"$f":"'расчет прибыли по предприятиям'!E15+'расчет прибыли по предприятиям'!E31+'расчет прибыли по предприятиям'!E47+'расчет прибыли по предприятиям'!E63+'расчет прибыли по предприятиям'!E79+'расчет прибыли по предприятиям'!E95+'расчет прибыли по предприятиям'!E111+'расчет прибыли по предприятиям'!E127","v":{"v":167.72795441599987,"d":"167.728"}},{"$f":"'расчет прибыли по предприятиям'!F15+'расчет прибыли по предприятиям'!F31+'расчет прибыли по предприятиям'!F47+'расчет прибыли по предприятиям'!F63+'расчет прибыли по предприятиям'!F79+'расчет прибыли по предприятиям'!F95+'расчет прибыли по предприятиям'!F111+'расчет прибыли по предприятиям'!F127","v":{"v":232.54107806502182,"d":"232.541"}},{"$f":"'расчет прибыли по предприятиям'!G15+'расчет прибыли по предприятиям'!G31+'расчет прибыли по предприятиям'!G47+'расчет прибыли по предприятиям'!G63+'расчет прибыли по предприятиям'!G79+'расчет прибыли по предприятиям'!G95+'расчет прибыли по предприятиям'!G111+'расчет прибыли по предприятиям'!G127","v":{"v":334.0797395892472,"d":"334.080"}},{"$f":"'расчет прибыли по предприятиям'!H15+'расчет прибыли по предприятиям'!H31+'расчет прибыли по предприятиям'!H47+'расчет прибыли по предприятиям'!H63+'расчет прибыли по предприятиям'!H79+'расчет прибыли по предприятиям'!H95+'расчет прибыли по предприятиям'!H111+'расчет прибыли по предприятиям'!H127","v":{"v":358.2517042269404,"d":"358.252"}}]
["7. Прибыль (+), убыток (-) до налогообложения",{"$f":"'расчет прибыли по предприятиям'!B16+'расчет прибыли по предприятиям'!B32+'расчет прибыли по предприятиям'!B48+'расчет прибыли по предприятиям'!B64+'расчет прибыли по предприятиям'!B80+'расчет прибыли по предприятиям'!B96+'расчет прибыли по предприятиям'!B112+'расчет прибыли по предприятиям'!B128","v":{"v":57.853960000000015,"d":"57.854"}},{"$f":"'расчет прибыли по предприятиям'!C16+'расчет прибыли по предприятиям'!C32+'расчет прибыли по предприятиям'!C48+'расчет прибыли по предприятиям'!C64+'расчет прибыли по предприятиям'!C80+'расчет прибыли по предприятиям'!C96+'расчет прибыли по предприятиям'!C112+'расчет прибыли по предприятиям'!C128","v":{"v":91.49804520000004,"d":"91.498"}},{"$f":"'расчет прибыли по предприятиям'!D16+'расчет прибыли по предприятиям'!D32+'расчет прибыли по предприятиям'!D48+'расчет прибыли по предприятиям'!D64+'расчет прибыли по предприятиям'!D80+'расчет прибыли по предприятиям'!D96+'расчет прибыли по предприятиям'!D112+'расчет прибыли по предприятиям'!D128","v":{"v":58.34244718399999,"d":"58.342"}},{"$f":"'расчет прибыли по предприятиям'!E16+'расчет прибыли по предприятиям'!E32+'расчет прибыли по предприятиям'!E48+'расчет прибыли по предприятиям'!E64+'расчет прибыли по предприятиям'!E80+'расчет прибыли по предприятиям'!E96+'расчет прибыли по предприятиям'!E112+'расчет прибыли по предприятиям'!E128","v":{"v":131.92719256799998,"d":"131.927"}},{"$f":"'расчет прибыли по предприятиям'!F16+'расчет прибыли по предприятиям'!F32+'расчет прибыли по предприятиям'!F48+'расчет прибыли по предприятиям'!F64+'расчет прибыли по предприятиям'!F80+'расчет прибыли по предприятиям'!F96+'расчет прибыли по предприятиям'!F112+'расчет прибыли по предприятиям'!F128","v":{"v":217.59346037015814,"d":"217.593"}},{"$f":"'расчет прибыли по предприятиям'!G16+'расчет прибыли по предприятиям'!G32+'расчет прибыли по предприятиям'!G48+'расчет прибыли по предприятиям'!G64+'расчет прибыли по предприятиям'!G80+'расчет прибыли по предприятиям'!G96+'расчет прибыли по предприятиям'!G112+'расчет прибыли по предприятиям'!G128","v":{"v":261.03591544583287,"d":"261.036"}},{"$f":"'расчет прибыли по предприятиям'!H16+'расчет прибыли по предприятиям'!H32+'расчет прибыли по предприятиям'!H48+'расчет прибыли по предприятиям'!H64+'расчет прибыли по предприятиям'!H80+'расчет прибыли по предприятиям'!H96+'расчет прибыли по предприятиям'!H112+'расчет прибыли по предприятиям'!H128","v":{"v":290.2274284178305,"d":"290.227"}}]
["8. Количество рентабельных предприятий, единиц",3,2,2,6,8,8,8]
["9.Сумма прибыли рентабельных предприятий",{"$f":"'расчет прибыли по предприятиям'!B16+'расчет прибыли по предприятиям'!B32+'расчет прибыли по предприятиям'!B64+'расчет прибыли по предприятиям'!B80","v":{"v":118.04096,"d":"118.041"}},{"$f":"'расчет прибыли по предприятиям'!C16+'расчет прибыли по предприятиям'!C48","v":{"v":149,"d":"149.000"}},{"$f":"'расчет прибыли по предприятиям'!D16+'расчет прибыли по предприятиям'!D48","v":{"v":97.69999999999999,"d":"97.700"}},{"$f":"'расчет прибыли по предприятиям'!E16+'расчет прибыли по предприятиям'!E32+'расчет прибыли по предприятиям'!E48+'расчет прибыли по предприятиям'!E64+'расчет прибыли по предприятиям'!E80+'расчет прибыли по предприятиям'!E128","v":{"v":135.52756770399998,"d":"135.528"}},{"$f":"'расчет прибыли по предприятиям'!F16+'расчет прибыли по предприятиям'!F32+'расчет прибыли по предприятиям'!F48+'расчет прибыли по предприятиям'!F64+'расчет прибыли по предприятиям'!F80+'расчет прибыли по предприятиям'!F96+'расчет прибыли по предприятиям'!F112+'расчет прибыли по предприятиям'!F128","v":{"v":217.59346037015814,"d":"217.593"}},{"$f":"'расчет прибыли по предприятиям'!G16+'расчет прибыли по предприятиям'!G32+'расчет прибыли по предприятиям'!G48+'расчет прибыли по предприятиям'!G64+'расчет прибыли по предприятиям'!G80+'расчет прибыли по предприятиям'!G96+'расчет прибыли по предприятиям'!G112+'расчет прибыли по предприятиям'!G128","v":{"v":261.03591544583287,"d":"261.036"}},{"$f":"'расчет прибыли по предприятиям'!H16+'расчет прибыли по предприятиям'!H32+'расчет прибыли по предприятиям'!H48+'расчет прибыли по предприятиям'!H64+'расчет прибыли по предприятиям'!H80+'расчет прибыли по предприятиям'!H96+'расчет прибыли по предприятиям'!H112+'расчет прибыли по предприятиям'!H128","v":{"v":290.2274284178305,"d":"290.227"}}]
["10.Количество убыточных предприятий, единиц",5,6,6,2,{"$f":"'расчет прибыли по предприятиям'!F19+'расчет прибыли по предприятиям'!F35+'расчет прибыли по предприятиям'!F51+'расчет прибыли по предприятиям'!F67+'расчет прибыли по предприятиям'!F83+'расчет прибыли по предприятиям'!F99+'расчет прибыли по предприятиям'!F115+'расчет прибыли по предприятиям'!F131","v":0},{"$f":"'расчет прибыли по предприятиям'!G19+'расчет прибыли по предприятиям'!G35+'расчет прибыли по предприятиям'!G51+'расчет прибыли по предприятиям'!G67+'расчет прибыли по предприятиям'!G83+'расчет прибыли по предприятиям'!G99+'расчет прибыли по предприятиям'!G115+'расчет прибыли по предприятиям'!G131","v":0},{"$f":"'расчет прибыли по предприятиям'!H19+'расчет прибыли по предприятиям'!H35+'расчет прибыли по предприятиям'!H51+'расчет прибыли по предприятиям'!H67+'расчет прибыли по предприятиям'!H83+'расчет прибыли по предприятиям'!H99+'расчет прибыли по предприятиям'!H115+'расчет прибыли по предприятиям'!H131","v":0}]
["11.Сумма убытка в убыточных предприятиях",{"$f":"'расчет прибыли по предприятиям'!B48+'расчет прибыли по предприятиям'!B96+'расчет прибыли по предприятиям'!B112+'расчет прибыли по предприятиям'!B128","v":-60.187},{"$f":"'расчет прибыли по предприятиям'!C32+'расчет прибыли по предприятиям'!C64+'расчет прибыли по предприятиям'!C96+'расчет прибыли по предприятиям'!C112+'расчет прибыли по предприятиям'!C128","v":{"v":-57.502255823999995,"d":"-57.502"}},{"$f":"'расчет прибыли по предприятиям'!D32+'расчет прибыли по предприятиям'!D64+'расчет прибыли по предприятиям'!D96+'расчет прибыли по предприятиям'!D112+'расчет прибыли по предприятиям'!D128","v":{"v":-39.357820848,"d":"-39.358"}},{"$f":"'расчет прибыли по предприятиям'!E96+'расчет прибыли по предприятиям'!E112","v":{"v":-3.600375135999983,"d":"-3.600"}},0,{"$f":"'расчет прибыли по предприятиям'!G20+'расчет прибыли по предприятиям'!G36+'расчет прибыли по предприятиям'!G52+'расчет прибыли по предприятиям'!G68+'расчет прибыли по предприятиям'!G84+'расчет прибыли по предприятиям'!G100+'расчет прибыли по предприятиям'!G116+'расчет прибыли по предприятиям'!G132","v":0},{"$f":"'расчет прибыли по предприятиям'!H20+'расчет прибыли по предприятиям'!H36+'расчет прибыли по предприятиям'!H52+'расчет прибыли по предприятиям'!H68+'расчет прибыли по предприятиям'!H84+'расчет прибыли по предприятиям'!H100+'расчет прибыли по предприятиям'!H116+'расчет прибыли по предприятиям'!H132","v":0}]
[]
["Примечание: По данной форме форме приводится  сводный расчет прибыли по муниципальному району (городскому округу)."]
[]
["Заместитель главы администрации                                                                      Богучарского муниципального                                  района_____________________ А.Ю.Кожанов",null,null,"Исполнитель: специалист 1 категории                                                                       экономического отдела _________________ З.П.Колесникова"]
[{"$nulls":3},"Телефон: 8(47366)2-29-96"]

{"sheet":"расчет темпов - сводная","index":5,"n_rows":40,"n_cols":11,"rows_kept":40,"merged":[[0,9,0,10],[1,0,1,10],[2,0,2,10],[3,3,3,5],[5,0,6,1],[5,2,5,10],[7,0,7,1],[35,0,35,1],[36,0,36,1],[39,1,39,2],[39,4,39,6]]}
[{"$nulls":9},"Форма № 4"]
["Расчет темпов роста (снижения) промышленного производства в сопоставимых ценах (ценах 2010 года) "]
["по Богучарскому муниципальному району  на 2018 год и на период до 2020 года (сводная форма)"]
[]
[]
["Наименование вида деятельности (код)",null,"Сумма объемов промышленного производства по соответствующему коду (из формы № 3), млн.руб."]
[null,null,"2014 год","2015 год","2016 год","2017 год","2018 год","2019 год","2020 год","январь-июнь 2016 года","январь-июнь 2017 года"]
["А",null,1,2,3,4,5,6,7,8,9]
["В","«Добыча полезных ископаемых» ",{"$f":"'расчет темпов по предприятиям'!F203+'расчет темпов по предприятиям'!F238","v":{"v":150.2752,"d":"150.275"}},{"$f":"'расчет темпов по предприятиям'!I203+'расчет темпов по предприятиям'!I238","v":{"v":104.09440000000001,"d":"104.094"}},{"$f":"'расчет темпов по предприятиям'!L238+'расчет темпов по предприятиям'!L273","v":{"v":164.0281486,"d":"164.028"}},{"$f":"'расчет темпов по предприятиям'!F213+'расчет темпов по предприятиям'!F248","v":227.584},{"$f":"'расчет темпов по предприятиям'!I213+'расчет темпов по предприятиям'!I248","v":{"v":246.39999999999998,"d":"246.400"}},{"$f":"'расчет темпов по предприятиям'!L213+'расчет темпов по предприятиям'!L248","v":{"v":268.8,"d":"268.800"}},{"$f":"'расчет темпов по предприятиям'!F223+'расчет темпов по предприятиям'!F258","v":{"v":291.2,"d":"291.200"}},{"$f":"'расчет темпов по предприятиям'!I223+'расчет темпов по предприятиям'!I258","v":{"v":37.6752,"d":"37.675"}},{"$f":"'расчет темпов по предприятиям'!L223+'расчет темпов по предприятиям'!L258","v":{"v":119.08479999999999,"d":"119.085"}}]
["С","«Обрабатывающие производства»",{"$f":"C12+C28","v":{"v":671.4129653,"d":"671.413"}},{"$f":"D12+D28","v":{"v":462.00657929205556,"d":"462.007"}},{"v":482.2141154395067,"d":"482.214"},{"v":512.549278725436,"d":"512.549"},{"v":530.6613831033068,"d":"530.661"},{"v":552.2119135395551,"d":"552.212"},{"v":579.697778233976,"d":"579.698"},{"v":238.0613690841137,"d":"238.061"},{"v":340.3074890449645,"d":"340.307"}]
[null,"в том числе:"]
[10,"Производство пищевых продуктов",{"$f":"'расчет темпов по предприятиям'!F18+'расчет темпов по предприятиям'!F63+'расчет темпов по предприятиям'!F94+'расчет темпов по предприятиям'!F133","v":{"v":663.5469653,"d":"663.547"}},{"$f":"'расчет темпов по предприятиям'!I18+'расчет темпов по предприятиям'!I63+'расчет темпов по предприятиям'!I94+'расчет темпов по предприятиям'!I133","v":{"v":452.40645909999995,"d":"452.406"}},{"$f":"'расчет темпов по предприятиям'!L18+'расчет темпов по предприятиям'!L63+'расчет темпов по предприятиям'!L94+'расчет темпов по предприятиям'!L133","v":{"v":471.56437955,"d":"471.564"}},{"$f":"'расчет темпов по предприятиям'!F32+'расчет темпов по предприятиям'!F73+'расчет темпов по предприятиям'!F104+'расчет темпов по предприятиям'!F143","v":{"v":499.39377150000007,"d":"499.394"}},{"$f":"'расчет темпов по предприятиям'!I32+'расчет темпов по предприятиям'!I73+'расчет темпов по предприятиям'!I104+'расчет темпов по предприятиям'!I143","v":{"v":517.111543,"d":"517.112"}},{"$f":"'расчет темпов по предприятиям'!L32+'расчет темпов по предприятиям'!L73+'расчет темпов по предприятиям'!L104+'расчет темпов по предприятиям'!L143","v":{"v":537.9852525,"d":"537.985"}},{"$f":"'расчет темпов по предприятиям'!F46+'расчет темпов по предприятиям'!F83+'расчет темпов по предприятиям'!F114+'расчет темпов по предприятиям'!F153","v":{"v":564.6179010000001,"d":"564.618"}},{"$f":"'расчет темпов по предприятиям'!I46+'расчет темпов по предприятиям'!I83+'расчет темпов по предприятиям'!I114+'расчет темпов по предприятиям'!I153","v":{"v":233.1919652,"d":"233.192"}},{"$f":"'расчет темпов по предприятиям'!L46+'расчет темпов по предприятиям'!L83+'расчет темпов по предприятиям'!L114+'расчет темпов по предприятиям'!L154","v":{"v":333.7297354322465,"d":"333.730"}}]
[11,"Производство напитков"]
[13,"Производство текстильных изделий"]
[14,"Производство одежды"]
[15,"Производство кожи и изделий из кожи"]
[16,"Обработка древесины и производство изделий из дерева и пробки, кроме мебели, производство изделий из соломки и материалов для плетения"]
[17,"Производство бумаги и бумажных изделий"]
[18,"Деятельность полиграфическая и копирование носителей информации"]
[20,"Производство химических веществ и химических продуктов"]
[21,"Производство лекарственных средств и материалов, применяемых в медицинских целях"]
[22,"Производство резиновых и пластмассовых изделий"]
[23,"Производство прочей неметаллической минеральной продукции"]
[24,"Производство металлургическое"]
[25,"Производство готовых металлических изделий, кроме машин и оборудования"]
[26,"Производство компьютеров, электронных и оптических изделий"]
[27,"Производство электрического оборудования"]
[28,"Производство машин и оборудования, не включенных в другие группировки",{"$f":"'расчет темпов по предприятиям'!F168","v":7.866},{"$f":"'расчет темпов по предприятиям'!I168","v":{"v":9.600120192055611,"d":"9.600"}},{"$f":"'расчет темпов по предприятиям'!L168","v":{"v":10.649735889506708,"d":"10.650"}},{"$f":"'расчет темпов по предприятиям'!F178","v":{"v":13.155507225435905,"d":"13.156"}},{"$f":"'расчет темпов по предприятиям'!I178","v":{"v":13.549840103306774,"d":"13.550"}},{"$f":"'расчет темпов по предприятиям'!L178","v":{"v":14.22666103955515,"d":"14.227"}},{"$f":"'расчет темпов по предприятиям'!F188","v":{"v":15.079877233975907,"d":"15.080"}},{"$f":"'расчет темпов по предприятиям'!I188","v":{"v":4.869403884113686,"d":"4.869"}},{"$f":"'расчет темпов по предприятиям'!L188","v":{"v":6.577753612717952,"d":"6.578"}}]
[29,"Производство автотранспортных средств, прицепов и полуприцепов"]
[30,"Производство прочих транспортных средств и оборудования"]
[31,"Производство мебели"]
[32,"Производство прочих готовых изделий"]
[33,"Ремонт и монтаж машин и оборудования"]
["D","«Обеспечение электрической энергией, газом и паром; кондиционирование воздуха» ",{"$f":"'расчет темпов по предприятиям'!F95+'расчет темпов по предприятиям'!F270+'расчет темпов по предприятиям'!F272","v":{"v":18.260817000000003,"d":"18.261"}},{"$f":"'расчет темпов по предприятиям'!I95+'расчет темпов по предприятиям'!I270+'расчет темпов по предприятиям'!I272","v":{"v":20.051067,"d":"20.051"}},{"$f":"'расчет темпов по предприятиям'!L95+'расчет темпов по предприятиям'!L270+'расчет темпов по предприятиям'!L272","v":{"v":18.1419944,"d":"18.142"}},{"$f":"'расчет темпов по предприятиям'!F105+'расчет темпов по предприятиям'!F280+'расчет темпов по предприятиям'!F282","v":{"v":18.829788600000004,"d":"18.830"}},{"$f":"'расчет темпов по предприятиям'!I105+'расчет темпов по предприятиям'!I280+'расчет темпов по предприятиям'!I282","v":{"v":19.45569,"d":"19.456"}},{"$f":"'расчет темпов по предприятиям'!L105+'расчет темпов по предприятиям'!L280+'расчет темпов по предприятиям'!L282","v":{"v":19.8350034,"d":"19.835"}},{"$f":"'расчет темпов по предприятиям'!F115+'расчет темпов по предприятиям'!F290+'расчет темпов по предприятиям'!F292","v":{"v":20.212602,"d":"20.213"}},{"$f":"'расчет темпов по предприятиям'!I115+'расчет темпов по предприятиям'!I290+'расчет темпов по предприятиям'!I292","v":{"v":9.626237,"d":"9.626"}},{"$f":"'расчет темпов по предприятиям'!L115+'расчет темпов по предприятиям'!L290+'расчет темпов по предприятиям'!L292","v":{"v":10.235561999999998,"d":"10.236"}}]
["Е","«Водоснабжение; водоотведение, организация сбора и утилизации отходов, деятельность по ликвидации загрязнений» ",{"$f":"'расчет темпов по предприятиям'!F269+'расчет темпов по предприятиям'!F271","v":{"v":25.953039,"d":"25.953"}},{"$f":"'расчет темпов по предприятиям'!I269+'расчет темпов по предприятиям'!I271","v":{"v":27.209539,"d":"27.210"}},{"$f":"'расчет темпов по предприятиям'!L269+'расчет темпов по предприятиям'!L271","v":{"v":28.728174199999998,"d":"28.728"}},{"$f":"'расчет темпов по предприятиям'!F279+'расчет темпов по предприятиям'!F281","v":{"v":28.550527549999998,"d":"28.551"}},{"$f":"'расчет темпов по предприятиям'!I279+'расчет темпов по предприятиям'!I281","v":{"v":28.8645615,"d":"28.865"}},{"$f":"'расчет темпов по предприятиям'!L279+'расчет темпов по предприятиям'!L281","v":{"v":29.441852729999997,"d":"29.442"}},{"$f":"'расчет темпов по предприятиям'!F289+'расчет темпов по предприятиям'!F291","v":{"v":30.520942400000003,"d":"30.521"}},{"$f":"'расчет темпов по предприятиям'!I289+'расчет темпов по предприятиям'!I291","v":{"v":13.381421,"d":"13.381"}},{"$f":"'расчет темпов по предприятиям'!L289+'расчет темпов по предприятиям'!L291","v":{"v":15.700656,"d":"15.701"}}]
["Всего по району (В+С+D+Е)",null,{"$f":"C9+C10+C34+C35","v":{"v":865.9020213,"d":"865.90"}},{"$f":"D9+D10+D34+D35","v":{"v":613.3615852920556,"d":"613.36"}},{"v":693.1124326395068,"d":"693.11"},{"v":787.513594875436,"d":"787.51"},{"v":825.3816346033068,"d":"825.38"},{"v":870.2887696695551,"d":"870.29"},{"v":921.6313226339759,"d":"921.63"},{"v":298.7442270841137,"d":"298.74"},{"v":485.32850704496445,"d":"485.33"}]
["Темп роста (снижения) промышленного производства в сопоставимых ценах, в % к предыдущему году",null,"х",{"$f":"D36/C36*100","v":{"v":70.83498712373955,"d":"70.8"}},{"$f":"E36/D36*100","v":{"v":113.00225662314301,"d":"113.0"}},{"v":113.61989163524757,"d":"113.6"},{"v":104.80855695371972,"d":"104.8"},{"v":105.44077226625373,"d":"105.4"},{"v":105.89948471745939,"d":"105.9"},"х",{"$f":"K36/J36*100","v":{"v":162.45619598477347,"d":"162.46"}}]
[]
[]
[null,"Заместитель главы администрации                                                                      Богучарского муниципального                                  района_____________________ А.Ю.Кожанов",null,null,"Исполнитель: специалист 1 категории                                                                       экономического отдела _________________ З.П.Колесникова",null,null,"Тел: 8(47366)2-29-96"]

{"sheet":"Дефляторы","index":6,"n_rows":77,"n_cols":6,"rows_kept":77,"merged":[[0,0,0,5],[2,1,2,2],[2,3,2,5]]}
["Прогноз индексов дефляторов и индексов цен производителей по видам экономической деятельности до 2020 г.\n(по полному  кругу предприятий без НДС, косвенных налогов, торгово-транспортной наценки), в % г/г  \n(базовый вариант)"]
["Н а и м е н о в а н и е  о т р а с л и",2016,2017,2018,2019,2020]
[null,"Оценка",null,"Прогноз"]
["Обеспечение электрической энергией, газом и паром; кондиционирование воздуха (35)"]
["  дефлятор",105.3,{"v":105.36824034150365,"d":"105.4"},{"v":104.71739055992192,"d":"104.7"},{"v":105.36968002482485,"d":"105.4"},{"v":104.0012627923685,"d":"104.0"}]
["Добыча полезных ископаемых (Раздел B)"]
["  дефлятор",102.1,{"v":108.71628305963628,"d":"108.7"},{"v":101.64229164078174,"d":"101.6"},{"v":101.78662937040332,"d":"101.8"},{"v":103.47196574569915,"d":"103.5"}]
["Добыча топливно-энергетических полезных ископаемых (05, 06+09.1) "]
["  дефлятор",100.4,{"v":108.99069835072646,"d":"109.0"},{"v":101.24823899034878,"d":"101.2"},{"v":101.48222633576786,"d":"101.5"},{"v":103.3809554422206,"d":"103.4"}]
["Добыча сырой нефти и природного газа (06+09.1)"]
["  дефлятор",99.8,{"v":107.1856089467342,"d":"107.2"},{"v":100.93037872610908,"d":"100.9"},{"v":101.31123337053832,"d":"101.3"},{"v":103.41168898033072,"d":"103.4"}]
["Добыча сырой нефти (06.10.1)"]
["  дефлятор"]
["  ИЦП"]
["Добыча угля (05)"]
["  дефлятор",106.7,{"v":126.05364398171596,"d":"126.1"},{"v":103.54679689707926,"d":"103.5"},{"v":103.11106767657027,"d":"103.1"},{"v":103.31042632051997,"d":"103.3"}]
["Добыча металлических руд и прочих полезных ископаемых (07, 08) "]
["  дефлятор",112.6,{"v":106.89129460726816,"d":"106.9"},{"v":104.23307147059309,"d":"104.2"},{"v":103.7488799296987,"d":"103.7"},{"v":104.0346102360008,"d":"104.0"}]
["Добыча металлических руд (07)"]
["  дефлятор",107.2,{"v":108.79076015850775,"d":"108.8"},{"v":104.25896622150208,"d":"104.3"},{"v":103.45055690348448,"d":"103.5"},{"v":103.85531014773224,"d":"103.9"}]
["Добыча прочих полезных ископаемых (08)"]
["  дефлятор",121.2,{"v":104.2601065795629,"d":"104.3"},{"v":104.19564265819703,"d":"104.2"},{"v":104.18034430403873,"d":"104.2"},{"v":104.2921152644653,"d":"104.3"}]
["Обрабатывающие производства (Раздел C)"]
["  дефлятор",102.2,{"v":104.97005528587056,"d":"105.0"},{"v":105.06938368040099,"d":"105.1"},{"v":104.30818551836276,"d":"104.3"},{"v":104.379700019536,"d":"104.4"}]
["Производство нефтепродуктов (19.2)"]
["  дефлятор",102.6,{"v":106.02658534971741,"d":"106.0"},{"v":101.21912116482163,"d":"101.2"},{"v":103.41899593443425,"d":"103.4"},{"v":104.68052013352174,"d":"104.7"}]
["  ИЦП",93.7,{"v":108.55344039738186,"d":"108.6"},{"v":101.40390821080673,"d":"101.4"},{"v":103.6512617861421,"d":"103.7"},{"v":104.80463170723708,"d":"104.8"}]
["Производство черных металлов \n(24.1, 24.2, 24.3, 24.5) "]
["  дефлятор",105.8,{"v":106.45896745803454,"d":"106.5"},{"v":103.60911007794114,"d":"103.6"},{"v":103.59665255188158,"d":"103.6"},{"v":103.63431383230919,"d":"103.6"}]
["  ИЦП",{"v":111.08728842747445,"d":"111.1"},{"v":114.18118011860902,"d":"114.2"},{"v":102.97812584531776,"d":"103.0"},{"v":103.56662747217811,"d":"103.6"},{"v":103.7033245439874,"d":"103.7"}]
["Производство основных драгоценных металлов и прочих цветных металлов, производство ядерного топлива (24.4)"]
["  дефлятор",86.2,{"v":103.74330765098951,"d":"103.7"},{"v":105.22866968205733,"d":"105.2"},{"v":105.12225974141663,"d":"105.1"},{"v":105.28431100147051,"d":"105.3"}]
["Производство готовых металлических изделий, кроме машин и оборудования (25)"]
["  дефлятор",107.3,{"v":105.90253374108099,"d":"105.9"},{"v":104.61191123566509,"d":"104.6"},{"v":105.44306975826585,"d":"105.4"},{"v":105.31820652412279,"d":"105.3"}]
["Производство химическое, резиновых и пластмассовых изделий (20, 21, 22)"]
["  дефлятор",{"v":95.41456596200068,"d":"95.4"},{"v":101.99860281168327,"d":"102.0"},{"v":104.10186581744098,"d":"104.1"},{"v":104.23453325267462,"d":"104.2"},{"v":104.21224392385655,"d":"104.2"}]
["Производствово машин и оборудования, электрооборудования, транспортных средств (26, 27, 28, 29, 30)"]
["  дефлятор",105.9,{"v":104.51089663941369,"d":"104.5"},{"v":105.53897757536083,"d":"105.5"},{"v":105.53070299857781,"d":"105.5"},{"v":105.57281468505136,"d":"105.6"}]
["Обработка древесины и производство изделий из дерева и пробки, кроме мебели, производство изделий из соломки и материалов для плетения (16)"]
["  дефлятор",103.7,{"v":102.15062244344699,"d":"102.2"},{"v":104.88686954676965,"d":"104.9"},{"v":103.58251694606852,"d":"103.6"},{"v":103.70934016843646,"d":"103.7"}]
["Производство бумаги и бумажных изделий (17)"]
["  дефлятор",107.2,{"v":102.70636388958387,"d":"102.7"},{"v":105.14065475864676,"d":"105.1"},{"v":104.87980178003961,"d":"104.9"},{"v":104.8856922441634,"d":"104.9"}]
["Производство прочей неметаллической минеральной продукции (23)"]
["  дефлятор",102.8,{"v":106.94070690596054,"d":"106.9"},{"v":105.18516316253881,"d":"105.2"},{"v":105.01952152236154,"d":"105.0"},{"v":105.12890289845195,"d":"105.1"}]
["Производство текстильных изделий, одежды, кожи и изделий из кожи (13, 14, 15)"]
["  дефлятор",112.6,{"v":103.53938191295144,"d":"103.5"},{"v":103.92553988136754,"d":"103.9"},{"v":104.07319603698953,"d":"104.1"},{"v":104.26308432548343,"d":"104.3"}]
["Производство пищевых продуктов, напитков и табачных изделей (10, 11, 12)"]
["  дефлятор",{"v":104,"d":"104.0"},{"v":102.81412706021467,"d":"102.8"},{"v":104.30867923402405,"d":"104.3"},{"v":104.02659621017531,"d":"104.0"},{"v":104.1431563935362,"d":"104.1"}]
["Водоснабжение; водоотведение, организация сбора и утилизация отходов, деятельность по ликвидации загрязнений (Раздел E)"]
["  дефлятор",99.7,{"v":107.37478061914535,"d":"107.4"},{"v":103.66376952800624,"d":"103.7"},{"v":104.00000000000003,"d":"104.0"},{"v":104.00000000000003,"d":"104.0"}]
["Промышленность (BCDE)"]
["  дефлятор",102.2,{"v":105.79318089082925,"d":"105.8"},{"v":104.22572136177524,"d":"104.2"},{"v":104.01095063487,"d":"104.0"},{"v":104.24694155629872,"d":"104.2"}]
["  ИЦП",{"v":104.32,"d":"104.3"},{"v":107.28127599560769,"d":"107.3"},{"v":103.41609798235562,"d":"103.4"},{"v":103.90799323319833,"d":"103.9"},{"v":104.35067996710328,"d":"104.4"}]
["ИЦП в промышленности для внутреннего рынка (расчет Минэкономразвития России с исключением объемов экспортной продукции)",{"v":105.12611075916551,"d":"105.1"},{"v":106.96691588582974,"d":"107.0"},{"v":103.8284652285768,"d":"103.8"},{"v":104.32104488568254,"d":"104.3"},{"v":104.40530724238482,"d":"104.4"}]
["   в т. ч.  с исключением ТЭКа (нефть, нефтепродукты, уголь, газ, энергетика)",{"v":107.55135431826642,"d":"107.6"},{"v":105.4436299700474,"d":"105.4"},{"v":104.51706446780527,"d":"104.5"},{"v":104.58013901081526,"d":"104.6"},{"v":104.68267764069252,"d":"104.7"}]
["Сельское хозяйство"]
["  дефлятор",{"v":103.92242311181491,"d":"103.9"},{"v":103.7410195595335,"d":"103.7"},{"v":105.30427507183194,"d":"105.3"},{"v":103.53857048842123,"d":"103.5"},{"v":103.3643400084751,"d":"103.4"}]
[" - растениеводство"]
["  дефлятор",{"v":105.3627075899566,"d":"105.4"},{"v":103.98420393890748,"d":"104.0"},{"v":106.39867473443982,"d":"106.4"},{"v":103.12642319323133,"d":"103.1"},{"v":103.0195969440431,"d":"103.0"}]
[" - животноводство"]
["  дефлятор",{"v":101.8915816308006,"d":"101.9"},{"v":103.42217509199129,"d":"103.4"},{"v":103.83926157608539,"d":"103.8"},{"v":104.11263607989258,"d":"104.1"},{"v":103.84733193700167,"d":"103.8"}]
["  индекс цен реализации продукции сельхозпроизводителями",{"v":98.54,"d":"98.5"},{"v":104.32425044315133,"d":"104.3"},{"v":104.18861210812425,"d":"104.2"},{"v":104.17470052846825,"d":"104.2"},{"v":103.93395094131841,"d":"103.9"}]
["Транспорт, вкл. трубопроводный"]
["  дефлятор",{"v":104.89764377271251,"d":"104.9"},{"v":104.66648653006239,"d":"104.7"},{"v":104.07735755554741,"d":"104.1"},{"v":103.5760098888971,"d":"103.6"},{"v":103.39986231103602,"d":"103.4"}]
["  ИЦП",{"v":107.55,"d":"107.6"},{"v":105.48799777809424,"d":"105.5"},{"v":104.83854616247899,"d":"104.8"},{"v":104.13376162178889,"d":"104.1"},{"v":103.89061187190838,"d":"103.9"}]
["  ИЦП с исключением трубопроводн. транспорта",{"v":108.59,"d":"108.6"},{"v":104.70348637145325,"d":"104.7"},{"v":103.64718305354299,"d":"103.6"},{"v":104.645346314227,"d":"104.6"},{"v":105.34489277030137,"d":"105.3"}]
["Инвестиции в основной капитал (капитальные вложения)"]
["  дефлятор",{"v":106.3005726762904,"d":"106.3"},{"v":105.34219461399155,"d":"105.3"},{"v":104.54753668962545,"d":"104.5"},{"v":104.36705061732665,"d":"104.4"},{"v":104.14349291177093,"d":"104.1"}]
["  индексы цен ",106.6]
["Строительство"]
["  дефлятор",{"v":105.27129956426636,"d":"105.3"},{"v":104.72247192437847,"d":"104.7"},{"v":104.88187179674857,"d":"104.9"},{"v":105.02668784320919,"d":"105.0"},{"v":104.83411043835036,"d":"104.8"}]
["  ИЦП",{"v":105.28,"d":"105.3"},{"v":105.39433021498657,"d":"105.4"},{"v":104.5097148064576,"d":"104.5"},{"v":104.69610363690099,"d":"104.7"},{"v":104.83163592734661,"d":"104.8"}]
["Потребительский рынок"]
["  оборот розничной торговли, дефлятор",{"v":107.77853917463437,"d":"107.8"},{"v":104.06904166502233,"d":"104.1"},{"v":104.0263872226469,"d":"104.0"},{"v":103.83463058471109,"d":"103.8"},{"v":103.83268136454946,"d":"103.8"}]
["  ИПЦ на товары",{"v":107.10543838679396,"d":"107.1"},{"v":103.92393280676238,"d":"103.9"},{"v":103.78129354996379,"d":"103.8"},{"v":103.74297171112126,"d":"103.7"},{"v":103.78185048847173,"d":"103.8"}]
["  платные услуги населению, дефлятор",{"v":106.60674034077388,"d":"106.6"},{"v":104.52059935821067,"d":"104.5"},{"v":104.57953058832071,"d":"104.6"},{"v":104.60178809913184,"d":"104.6"},{"v":104.56411780281927,"d":"104.6"}]
["  ИПЦ на услуги",{"v":106.92932716392467,"d":"106.9"},{"v":104.6249336754675,"d":"104.6"},{"v":104.60882346582186,"d":"104.6"},{"v":104.66441566991253,"d":"104.7"},{"v":104.61562662683247,"d":"104.6"}]